Report for Mojolicious-Plugin-Renderer-WithoutCache-0.04

Back
From: metabase:user:30f4dfbe-2aae-11df-837a-5e0a49663a4f
Subject: PASS Mojolicious-Plugin-Renderer-WithoutCache-0.04 v5.12.0 GNU/Linux
Date: 2017-02-04T15:25:00Z

This distribution has been tested as part of the CPAN Testers
project, supporting the Perl programming language.  See
http://wiki.cpantesters.org/ for more information or email
questions to cpan-testers-discuss@perl.org


--
Dear Julien Fiegehenn,

This is a computer-generated report for Mojolicious-Plugin-Renderer-WithoutCache-0.04
on perl 5.12.0, created by CPAN-Reporter-1.2018.

Thank you for uploading your work to CPAN.  Congratulations!
All tests were successful.

Sections of this report:

    * Tester comments
    * Program output
    * Prerequisites
    * Environment and other context

------------------------------
TESTER COMMENTS
------------------------------

Additional comments from tester:

this report is from an automated smoke testing program
and was not reviewed by a human for accuracy

------------------------------
PROGRAM OUTPUT
------------------------------

Output from './Build test':

# Testing Mojolicious::Plugin::Renderer::WithoutCache 0.04, Perl 5.012000, /home/njh/perl5/perlbrew/perls/perl-5.12.0/bin/perl
t/00-load.t ....... ok
t/pod-coverage.t .. skipped: Author tests not required for installation
t/10-cache.t ...... ok
t/manifest.t ...... skipped: Author tests not required for installation
t/pod.t ........... skipped: Author tests not required for installation
t/20-plugin.t ..... ok
All tests successful.
Files=6, Tests=161,  5 wallclock secs ( 0.39 usr  0.05 sys +  5.30 cusr  0.32 csys =  6.06 CPU)
Result: PASS

------------------------------
PREREQUISITES
------------------------------

Prerequisite modules loaded:

requires:

    Module              Need     Have    
    ------------------- -------- --------
    Mojolicious         5.29     7.22    
    perl                5.010001 5.012000
    Test::Mojo          0        0       

build_requires:

    Module              Need     Have    
    ------------------- -------- --------
    Test::More          0        1.302075

configure_requires:

    Module              Need     Have    
    ------------------- -------- --------
    Module::Build::Tiny 0.035    0.039   


------------------------------
ENVIRONMENT AND OTHER CONTEXT
------------------------------

Environment variables:

    AUTOMATED_TESTING = 1
    HARNESS_OPTIONS = j5
    LANG = en_GB.UTF-8
    PATH = /home/njh/perl5/perlbrew/bin:/home/njh/perl5/perlbrew/perls/perl-5.12.0/bin:/home/njh/perl5/perlbrew/bin:/usr/bin:/bin
    PERL5LIB = /home/njh/.cpan/build/Mojolicious-7.22-uMWenY/blib/arch:/home/njh/.cpan/build/Mojolicious-7.22-uMWenY/blib/lib:/home/njh/.cpan/build/IO-Socket-IP-0.38-BjFxp3/blib/arch:/home/njh/.cpan/build/IO-Socket-IP-0.38-BjFxp3/blib/lib
    PERL5OPT = 
    PERL5_CPANPLUS_IS_RUNNING = 27656
    PERL5_CPAN_IS_RUNNING = 27656
    PERLBREW_BASHRC_VERSION = 0.74
    PERLBREW_HOME = /home/njh/.perlbrew
    PERLBREW_LIB = 
    PERLBREW_MANPATH = /home/njh/perl5/perlbrew/perls/perl-5.12.0/man
    PERLBREW_PATH = /home/njh/perl5/perlbrew/bin:/home/njh/perl5/perlbrew/perls/perl-5.12.0/bin
    PERLBREW_PERL = perl-5.12.0
    PERLBREW_ROOT = /home/njh/perl5/perlbrew
    PERLBREW_VERSION = 0.74
    PERL_LOCAL_LIB_ROOT = 
    SHELL = /bin/sh

Perl special variables (and OS-specific diagnostics, for MSWin32):

    $^X = /home/njh/perl5/perlbrew/perls/perl-5.12.0/bin/perl
    $UID/$EUID = 1000 / 1000
    $GID = 1000 4 20 24 27 29 44 46 60 100 101 108 997 998 999 1000
    $EGID = 1000 4 20 24 27 29 44 46 60 100 101 108 997 998 999 1000

Perl module toolchain versions installed:

    Module              Have    
    ------------------- --------
    CPAN                2.00    
    CPAN::Meta          2.150005
    Cwd                 3.47    
    ExtUtils::CBuilder  0.280216
    ExtUtils::Command   1.18    
    ExtUtils::Install   1.55    
    ExtUtils::MakeMaker 6.88    
    ExtUtils::Manifest  1.63    
    ExtUtils::ParseXS   3.22    
    File::Spec          3.47    
    JSON                2.90    
    JSON::PP            2.27400 
    Module::Build       0.4205  
    Module::Signature   n/a     
    Parse::CPAN::Meta   1.4422  
    Test::Harness       3.36    
    Test::More          1.302075
    YAML                1.19    
    YAML::Syck          1.29    
    version             0.9902  


--

Summary of my perl5 (revision 5 version 12 subversion 0) configuration:
   
  Platform:
    osname=linux, osvers=3.2.27+, archname=armv6l-linux-thread-multi
    uname='linux pi 3.2.27+ #250 preempt thu oct 18 19:03:02 bst 2012 armv6l gnulinux '
    config_args='-de -Dprefix=/home/njh/perl5/perlbrew/perls/perl-5.12.0 -Duseithreads -Dusemultiplicity -Accflags=-Os -W -Wformat=2 -Wswitch -Wshadow -Wwrite-strings -Wuninitialized -Wall -pipe -fomit-frame-pointer -pedantic -D_FORTIFY_SOURCE=2 -Wpointer-arith -Wstrict-prototypes -fstack-protector -Wstack-protector -Wextra -Wbad-function-cast -Wcast-align -Wcast-qual -Wdisabled-optimization -Wendif-labels -Wfloat-equal -Wformat-nonliteral -Winline -Wmissing-declarations -Wmissing-prototypes -Wnested-externs -Wpointer-arith -Wundef -Wformat-security -Aeval:scriptdir=/home/njh/perl5/perlbrew/perls/perl-5.12.0/bin'
    hint=recommended, useposix=true, d_sigaction=define
    useithreads=define, usemultiplicity=define
    useperlio=define, d_sfio=undef, uselargefiles=define, usesocks=undef
    use64bitint=undef, use64bitall=undef, uselongdouble=undef
    usemymalloc=n, bincompat5005=undef
  Compiler:
    cc='cc', ccflags ='-D_REENTRANT -D_GNU_SOURCE -Os -W -Wformat=2 -Wswitch -Wshadow -Wwrite-strings -Wuninitialized -Wall -pipe -fomit-frame-pointer -pedantic -D_FORTIFY_SOURCE=2 -Wpointer-arith -Wstrict-prototypes -fstack-protector -Wstack-protector -Wextra -Wbad-function-cast -Wcast-align -Wcast-qual -Wdisabled-optimization -Wendif-labels -Wfloat-equal -Wformat-nonliteral -Winline -Wmissing-declarations -Wmissing-prototypes -Wnested-externs -Wpointer-arith -Wundef -Wformat-security -fno-strict-aliasing -I/usr/local/include -D_LARGEFILE_SOURCE -D_FILE_OFFSET_BITS=64',
    optimize='-O2',
    cppflags='-D_REENTRANT -D_GNU_SOURCE -Os -W -Wformat=2 -Wswitch -Wshadow -Wwrite-strings -Wuninitialized -Wall -pipe -fomit-frame-pointer -pedantic -D_FORTIFY_SOURCE=2 -Wpointer-arith -Wstrict-prototypes -fstack-protector -Wstack-protector -Wextra -Wbad-function-cast -Wcast-align -Wcast-qual -Wdisabled-optimization -Wendif-labels -Wfloat-equal -Wformat-nonliteral -Winline -Wmissing-declarations -Wmissing-prototypes -Wnested-externs -Wpointer-arith -Wundef -Wformat-security -fno-strict-aliasing -I/usr/local/include'
    ccversion='', gccversion='4.6.3', gccosandvers=''
    intsize=4, longsize=4, ptrsize=4, doublesize=8, byteorder=1234
    d_longlong=define, longlongsize=8, d_longdbl=define, longdblsize=8
    ivtype='long', ivsize=4, nvtype='double', nvsize=8, Off_t='off_t', lseeksize=8
    alignbytes=8, prototype=define
  Linker and Libraries:
    ld='cc', ldflags =' -fstack-protector -L/usr/local/lib'
    libpth=/usr/local/lib /lib/arm-linux-gnueabihf /lib /usr/lib/arm-linux-gnueabihf /usr/lib
    libs=-lnsl -lgdbm -ldb -ldl -lm -lcrypt -lutil -lpthread -lc -lgdbm_compat
    perllibs=-lnsl -ldl -lm -lcrypt -lutil -lpthread -lc
    libc=, so=so, useshrplib=false, libperl=libperl.a
    gnulibc_version='2.13'
  Dynamic Linking:
    dlsrc=dl_dlopen.xs, dlext=so, d_dlsymun=undef, ccdlflags='-Wl,-E'
    cccdlflags='-fPIC', lddlflags='-shared -O2 -L/usr/local/lib -fstack-protector'


Characteristics of this binary (from libperl): 
  Compile-time options: MULTIPLICITY PERL_DONT_CREATE_GVSV
                        PERL_IMPLICIT_CONTEXT PERL_MALLOC_WRAP USE_ITHREADS
                        USE_LARGE_FILES USE_PERLIO USE_PERL_ATOF
                        USE_REENTRANT_API
  Built under linux
  Compiled at Feb  6 2013 23:56:52
  %ENV:
    PERL5LIB="/home/njh/.cpan/build/Mojolicious-7.22-uMWenY/blib/arch:/home/njh/.cpan/build/Mojolicious-7.22-uMWenY/blib/lib:/home/njh/.cpan/build/IO-Socket-IP-0.38-BjFxp3/blib/arch:/home/njh/.cpan/build/IO-Socket-IP-0.38-BjFxp3/blib/lib"
    PERL5OPT=""
    PERL5_CPANPLUS_IS_RUNNING="27656"
    PERL5_CPAN_IS_RUNNING="27656"
    PERLBREW_BASHRC_VERSION="0.74"
    PERLBREW_HOME="/home/njh/.perlbrew"
    PERLBREW_LIB=""
    PERLBREW_MANPATH="/home/njh/perl5/perlbrew/perls/perl-5.12.0/man"
    PERLBREW_PATH="/home/njh/perl5/perlbrew/bin:/home/njh/perl5/perlbrew/perls/perl-5.12.0/bin"
    PERLBREW_PERL="perl-5.12.0"
    PERLBREW_ROOT="/home/njh/perl5/perlbrew"
    PERLBREW_VERSION="0.74"
    PERL_LOCAL_LIB_ROOT=""
  @INC:
    /home/njh/.cpan/build/Mojolicious-7.22-uMWenY/blib/arch
    /home/njh/.cpan/build/Mojolicious-7.22-uMWenY/blib/lib
    /home/njh/.cpan/build/IO-Socket-IP-0.38-BjFxp3/blib/arch
    /home/njh/.cpan/build/IO-Socket-IP-0.38-BjFxp3/blib/lib
    /home/njh/perl5/perlbrew/perls/perl-5.12.0/lib/site_perl/5.12.0/armv6l-linux-thread-multi
    /home/njh/perl5/perlbrew/perls/perl-5.12.0/lib/site_perl/5.12.0
    /home/njh/perl5/perlbrew/perls/perl-5.12.0/lib/5.12.0/armv6l-linux-thread-multi
    /home/njh/perl5/perlbrew/perls/perl-5.12.0/lib/5.12.0
    .