SQL-Abstract-More v1.43 Perl 5 v5.42.0 x86_64-linux

Status
Pass
From
Carlos Guevara
Dist
SQL-Abstract-More v1.43
Platform
Perl 5 v5.42.0 x86_64-linux
Date
2025-06-25 23:28:25
ID
17ad19c6-521c-11f0-a00a-a57dcf6502e3
This distribution has been tested as part of the CPAN Testers
project, supporting the Perl programming language.  See
http://wiki.cpantesters.org/ for more information or email
questions to cpan-testers-discuss@perl.org


--
Dear Laurent Dami,

This is a computer-generated report for SQL-Abstract-More-1.43
on perl 5.42.0, created by CPAN-Reporter-1.2020.

Thank you for uploading your work to CPAN.  Congratulations!
All tests were successful.

Sections of this report:

    * Tester comments
    * Program output
    * Prerequisites
    * Environment and other context

------------------------------
TESTER COMMENTS
------------------------------

Additional comments from tester:

this report is from an automated smoke testing program
and was not reviewed by a human for accuracy

------------------------------
PROGRAM OUTPUT
------------------------------

Output from './Build test':

# Testing SQL::Abstract::More 1.43, extends SQL::Abstract::Classic, Perl 5.042000, /home/cpan/bin/perl/bin/perl5.42.0
t/01-sql_abstract_more.t ...... ok
t/02-order-by.t ............... ok
t/03-join_with_constants.t .... ok
t/04-multicols_in.t ........... ok
t/05-join-with-using.t ........ ok
t/06_with_table_expression.t .. ok
t/07-import.t ................. ok
# define $ENV{SQLA_SRC_DIR} to run these tests
t/99_sqla_tests.t ............. ok
t/rt_084972.t ................. ok
t/rt_086895.t ................. ok
t/rt_099455.t ................. ok
All tests successful.
Files=11, Tests=163,  2 wallclock secs ( 0.04 usr  0.00 sys +  0.90 cusr  0.33 csys =  1.27 CPU)
Result: PASS

------------------------------
PREREQUISITES
------------------------------

Prerequisite modules loaded:

requires:

    Module                 Need  Have    
    ---------------------- ----- --------
    MRO::Compat            0     0.15    
    namespace::clean       0     0.27    
    Params::Validate       0     1.31    
    parent                 0     0.244   
    perl                   5.008 5.042000
    Scalar::Util           0     1.69    
    SQL::Abstract::Classic 0     1.91    

build_requires:

    Module                 Need  Have    
    ---------------------- ----- --------
    List::MoreUtils        0     0.430   
    SQL::Abstract::Test    0     0       
    Test::Exception        0     0.43    
    Test::More             0     1.302214

configure_requires:

    Module                 Need  Have    
    ---------------------- ----- --------
    Module::Build          0     0.4234  


------------------------------
ENVIRONMENT AND OTHER CONTEXT
------------------------------

Environment variables:

    AUTOMATED_TESTING = 1
    DATE_MANIP_TEST_DM5 = 1
    LANG = C.UTF-8
    LC_COLLATE = C
    NONINTERACTIVE_TESTING = 1
    NO_NETWORK_TESTING = 1
    PATH = /home/cpan/bin/perl/bin:/usr/local/sbin:/usr/local/bin:/usr/sbin:/usr/bin:/sbin:/bin
    PERL5LIB = 
    PERL5OPT = 
    PERL5_CPANPLUS_IS_RUNNING = 5564
    PERL5_CPAN_IS_RUNNING = 5564
    PERL_MM_USE_DEFAULT = 1
    PERL_USE_UNSAFE_INC = 1
    SHELL = /bin/bash
    TERM = screen

Perl special variables (and OS-specific diagnostics, for MSWin32):

    $^X = /home/cpan/bin/perl/bin/perl5.42.0
    $UID/$EUID = 1001 / 1001
    $GID = 1001 1001
    $EGID = 1001 1001

Perl module toolchain versions installed:

    Module              Have    
    ------------------- --------
    CPAN                2.38    
    CPAN::Meta          2.150010
    Cwd                 3.94    
    ExtUtils::CBuilder  0.280241
    ExtUtils::Command   7.76    
    ExtUtils::Install   2.22    
    ExtUtils::MakeMaker 7.76    
    ExtUtils::Manifest  1.75    
    ExtUtils::ParseXS   3.57    
    File::Spec          3.94    
    JSON                4.10    
    JSON::PP            4.16    
    Module::Build       0.4234  
    Module::Signature   n/a     
    Parse::CPAN::Meta   2.150010
    Test2               1.302214
    Test::Harness       3.50    
    Test::More          1.302214
    YAML                1.31    
    YAML::Syck          1.34    
    version             0.9933  


--

Summary of my perl5 (revision 5 version 42 subversion 0) configuration:
  Commit id: 228d40a7f0c7c5e3cb66ec4bc22545f183d42e8e
  Platform:
    osname=linux
    osvers=6.12.34-0-lts
    archname=x86_64-linux
    uname='linux cjg-alpine3 6.12.34-0-lts #1-alpine smp preempt_dynamic 2025-06-23 14:50:53 x86_64 linux '
    config_args='-des -Dprefix=/home/cpan/bin/perl -Dscriptdir=/home/cpan/bin/perl/bin -Dusedevel -Duse64bitall'
    hint=recommended
    useposix=true
    d_sigaction=define
    useithreads=undef
    usemultiplicity=undef
    use64bitint=define
    use64bitall=define
    uselongdouble=undef
    usemymalloc=n
    default_inc_excludes_dot=define
  Compiler:
    cc='cc'
    ccflags ='-D_GNU_SOURCE -fwrapv -fno-strict-aliasing -pipe -fstack-protector-strong -D_LARGEFILE_SOURCE -D_FILE_OFFSET_BITS=64'
    optimize='-O2'
    cppflags='-D_GNU_SOURCE -fwrapv -fno-strict-aliasing -pipe -fstack-protector-strong'
    ccversion=''
    gccversion='14.2.0'
    gccosandvers=''
    intsize=4
    longsize=8
    ptrsize=8
    doublesize=8
    byteorder=12345678
    doublekind=3
    d_longlong=define
    longlongsize=8
    d_longdbl=define
    longdblsize=16
    longdblkind=3
    ivtype='long'
    ivsize=8
    nvtype='double'
    nvsize=8
    Off_t='off_t'
    lseeksize=8
    alignbytes=8
    prototype=define
  Linker and Libraries:
    ld='cc'
    ldflags =' -fstack-protector-strong -L/usr/local/lib'
    libpth=/usr/lib /usr/local/lib /lib
    libs=-lpthread -lgdbm -ldb -ldl -lm -lcrypt -lutil -lc -lgdbm_compat
    perllibs=-lpthread -ldl -lm -lcrypt -lutil -lc
    libc=/usr/lib/libc.a
    so=so
    useshrplib=false
    libperl=libperl.a
    gnulibc_version=''
  Dynamic Linking:
    dlsrc=dl_dlopen.xs
    dlext=so
    d_dlsymun=undef
    ccdlflags='-Wl,-E'
    cccdlflags='-fPIC'
    lddlflags='-shared -O2 -L/usr/local/lib -fstack-protector-strong'


Characteristics of this binary (from libperl): 
  Compile-time options:
    HAS_LONG_DOUBLE
    HAS_STRTOLD
    HAS_TIMES
    PERLIO_LAYERS
    PERL_COPY_ON_WRITE
    PERL_DONT_CREATE_GVSV
    PERL_HASH_FUNC_SIPHASH13
    PERL_HASH_USE_SBOX32
    PERL_MALLOC_WRAP
    PERL_OP_PARENT
    PERL_PRESERVE_IVUV
    PERL_USE_DEVEL
    PERL_USE_SAFE_PUTENV
    USE_64_BIT_ALL
    USE_64_BIT_INT
    USE_LARGE_FILES
    USE_LOCALE
    USE_LOCALE_COLLATE
    USE_LOCALE_CTYPE
    USE_LOCALE_NUMERIC
    USE_LOCALE_TIME
    USE_PERLIO
    USE_PERL_ATOF
  Built under linux
  Compiled at Jun 25 2025 12:04:03
  %ENV:
    PERL5LIB=""
    PERL5OPT=""
    PERL5_CPANPLUS_IS_RUNNING="5564"
    PERL5_CPAN_IS_RUNNING="5564"
    PERL_MM_USE_DEFAULT="1"
    PERL_USE_UNSAFE_INC="1"
  @INC:
    /home/cpan/bin/perl/lib/site_perl/5.42.0/x86_64-linux
    /home/cpan/bin/perl/lib/site_perl/5.42.0
    /home/cpan/bin/perl/lib/5.42.0/x86_64-linux
    /home/cpan/bin/perl/lib/5.42.0
    .