Data-Section v0.200007 Perl 5 v5.22.4 darwin-2level

Status
Pass
From
Philip Sharman
Dist
Data-Section v0.200007
Platform
Perl 5 v5.22.4 darwin-2level
Date
2018-06-01 21:59:44
ID
17b2bbd4-65e7-11e8-a4a2-e92ac8466b77
This distribution has been tested as part of the CPAN Testers
project, supporting the Perl programming language.  See
http://wiki.cpantesters.org/ for more information or email
questions to cpan-testers-discuss@perl.org


--
Dear Ricardo SIGNES,

This is a computer-generated report for Data-Section-0.200007
on perl 5.22.4, created by CPAN-Reporter-1.2018.

Thank you for uploading your work to CPAN.  Congratulations!
All tests were successful.

Sections of this report:

    * Tester comments
    * Program output
    * Prerequisites
    * Environment and other context

------------------------------
TESTER COMMENTS
------------------------------

Additional comments from tester:

none provided

------------------------------
PROGRAM OUTPUT
------------------------------

Output from '/usr/bin/make test':

PERL_DL_NONLAZY=1 "/Users/psharman/perl5/perlbrew/perls/perl-5.22.4/bin/perl" "-MExtUtils::Command::MM" "-MTest::Harness" "-e" "undef *Test::Harness::Switches; test_harness(0, 'blib/lib', 'blib/arch')" t/*.t
# 
# Versions for all modules listed in MYMETA.json (including optional ones):
# 
# === Configure Requires ===
# 
#     Module              Want    Have
#     ------------------- ---- -------
#     ExtUtils::MakeMaker  any 7.04_02
# 
# === Build Requires ===
# 
#     Module              Want    Have
#     ------------------- ---- -------
#     ExtUtils::MakeMaker  any 7.04_02
# 
# === Test Requires ===
# 
#     Module              Want     Have
#     ------------------- ---- --------
#     ExtUtils::MakeMaker  any  7.04_02
#     File::Spec           any     3.74
#     Test::FailWarnings   any    0.008
#     Test::More          0.96 1.302136
#     base                 any  2.22_01
#     lib                  any     0.63
#     utf8                 any     1.17
# 
# === Test Recommends ===
# 
#     Module         Want     Have
#     ---------- -------- --------
#     CPAN::Meta 2.120900 2.150001
# 
# === Runtime Requires ===
# 
#     Module         Want    Have
#     ------------- ----- -------
#     Encode          any 2.72_01
#     MRO::Compat    0.09    0.13
#     Sub::Exporter 0.979   0.987
#     strict          any    1.09
#     warnings        any    1.34
# 
t/00-report-prereqs.t .. ok
t/basic.t .............. ok
t/encodings.t .......... ok
All tests successful.
Files=3, Tests=40,  1 wallclock secs ( 0.03 usr  0.01 sys +  0.36 cusr  0.06 csys =  0.46 CPU)
Result: PASS

------------------------------
PREREQUISITES
------------------------------

Prerequisite modules loaded:

requires:

    Module              Need     Have    
    ------------------- -------- --------
    Encode              0        2.72_01 
    MRO::Compat         0.09     0.13    
    strict              0        1.09    
    Sub::Exporter       0.979    0.987   
    warnings            0        1.34    

build_requires:

    Module              Need     Have    
    ------------------- -------- --------
    base                0        2.22_01 
    ExtUtils::MakeMaker 0        7.04_02 
    File::Spec          0        3.74    
    lib                 0        0.63    
    Test::FailWarnings  0        0.008   
    Test::More          0.96     1.302136
    utf8                0        1.17    

configure_requires:

    Module              Need     Have    
    ------------------- -------- --------
    ExtUtils::MakeMaker 0        7.04_02 

opt_build_requires:

    Module              Need     Have    
    ------------------- -------- --------
    CPAN::Meta          2.120900 2.150001


------------------------------
ENVIRONMENT AND OTHER CONTEXT
------------------------------

Environment variables:

    LANG = en_CA.UTF-8
    PATH = /usr/local/bin:/usr/local/opt/python/libexec/bin:/Applications/Postgres.app/Contents/Versions/latest/bin:/Users/psharman/perl5/perlbrew/bin:/Users/psharman/perl5/perlbrew/perls/perl-5.22.4/bin:/usr/local/bin:/usr/bin:/bin:/usr/sbin:/sbin
    PERL5LIB = 
    PERL5OPT = 
    PERL5_CPANPLUS_IS_RUNNING = 43737
    PERL5_CPAN_IS_RUNNING = 43737
    SHELL = /bin/sh
    TERM = xterm-256color

Perl special variables (and OS-specific diagnostics, for MSWin32):

    $^X = /Users/psharman/perl5/perlbrew/perls/perl-5.22.4/bin/perl
    $UID/$EUID = 0 / 0
    $GID = 0 0 1 2 3 4 5 8 9 12 20 29 61 80 33 98 100
    $EGID = 0 0 1 2 3 4 5 8 9 12 20 29 61 80 33 98 100

Perl module toolchain versions installed:

    Module              Have      
    ------------------- ----------
    CPAN                2.16      
    CPAN::Meta          2.150001  
    Cwd                 3.74      
    ExtUtils::CBuilder  0.280221  
    ExtUtils::Command   1.20_01   
    ExtUtils::Install   2.04      
    ExtUtils::MakeMaker 7.04_02   
    ExtUtils::Manifest  1.70      
    ExtUtils::ParseXS   3.28      
    File::Spec          3.74      
    JSON                2.97001   
    JSON::PP            2.27300_01
    Module::Build       0.4224    
    Module::Signature   n/a       
    Parse::CPAN::Meta   1.4414_001
    Test::Harness       3.35_01   
    Test::More          1.302136  
    YAML                1.26      
    YAML::Syck          n/a       
    version             0.9909    


--

Summary of my perl5 (revision 5 version 22 subversion 4) configuration:
   
  Platform:
    osname=darwin, osvers=17.5.0, archname=darwin-2level
    uname='darwin psharman-wsm.internal.salesforce.com 17.5.0 darwin kernel version 17.5.0: fri apr 13 19:32:32 pdt 2018; root:xnu-4570.51.2~1release_x86_64 x86_64 '
    config_args='-de -Dprefix=/Users/psharman/perl5/perlbrew/perls/perl-5.22.4 -Aeval:scriptdir=/Users/psharman/perl5/perlbrew/perls/perl-5.22.4/bin'
    hint=recommended, useposix=true, d_sigaction=define
    useithreads=undef, usemultiplicity=undef
    use64bitint=define, use64bitall=define, uselongdouble=undef
    usemymalloc=n, bincompat5005=undef
  Compiler:
    cc='cc', ccflags ='-fno-common -DPERL_DARWIN -mmacosx-version-min=10.13 -fno-strict-aliasing -pipe -fstack-protector-strong -I/usr/local/include -DPERL_USE_SAFE_PUTENV',
    optimize='-O3',
    cppflags='-fno-common -DPERL_DARWIN -mmacosx-version-min=10.13 -fno-strict-aliasing -pipe -fstack-protector-strong -I/usr/local/include'
    ccversion='', gccversion='4.2.1 Compatible Apple LLVM 9.1.0 (clang-902.0.39.2)', gccosandvers=''
    intsize=4, longsize=8, ptrsize=8, doublesize=8, byteorder=12345678, doublekind=3
    d_longlong=define, longlongsize=8, d_longdbl=define, longdblsize=16, longdblkind=3
    ivtype='long', ivsize=8, nvtype='double', nvsize=8, Off_t='off_t', lseeksize=8
    alignbytes=8, prototype=define
  Linker and Libraries:
    ld='cc', ldflags =' -mmacosx-version-min=10.13 -fstack-protector-strong -L/usr/local/lib'
    libpth=/usr/local/lib /Applications/Xcode.app/Contents/Developer/Toolchains/XcodeDefault.xctoolchain/usr/lib/clang/9.1.0/lib /Applications/Xcode.app/Contents/Developer/Toolchains/XcodeDefault.xctoolchain/usr/lib /usr/lib
    libs=-lpthread -ldbm -ldl -lm -lutil -lc
    perllibs=-lpthread -ldl -lm -lutil -lc
    libc=, so=dylib, useshrplib=false, libperl=libperl.a
    gnulibc_version=''
  Dynamic Linking:
    dlsrc=dl_dlopen.xs, dlext=bundle, d_dlsymun=undef, ccdlflags=' '
    cccdlflags=' ', lddlflags=' -mmacosx-version-min=10.13 -bundle -undefined dynamic_lookup -L/usr/local/lib -fstack-protector-strong'


Characteristics of this binary (from libperl): 
  Compile-time options: HAS_TIMES PERLIO_LAYERS PERL_DONT_CREATE_GVSV
                        PERL_HASH_FUNC_ONE_AT_A_TIME_HARD PERL_MALLOC_WRAP
                        PERL_NEW_COPY_ON_WRITE PERL_PRESERVE_IVUV
                        PERL_USE_SAFE_PUTENV USE_64_BIT_ALL USE_64_BIT_INT
                        USE_LARGE_FILES USE_LOCALE USE_LOCALE_COLLATE
                        USE_LOCALE_CTYPE USE_LOCALE_NUMERIC USE_LOCALE_TIME
                        USE_PERLIO USE_PERL_ATOF
  Locally applied patches:
	Devel::PatchPerl 1.48
  Built under darwin
  Compiled at May 31 2018 16:27:13
  %ENV:
    PERL5LIB=""
    PERL5OPT=""
    PERL5_CPANPLUS_IS_RUNNING="43737"
    PERL5_CPAN_IS_RUNNING="43737"
  @INC:
    /Users/psharman/perl5/perlbrew/perls/perl-5.22.4/lib/site_perl/5.22.4/darwin-2level
    /Users/psharman/perl5/perlbrew/perls/perl-5.22.4/lib/site_perl/5.22.4
    /Users/psharman/perl5/perlbrew/perls/perl-5.22.4/lib/5.22.4/darwin-2level
    /Users/psharman/perl5/perlbrew/perls/perl-5.22.4/lib/5.22.4
    .