Report for Catalyst-View-Email-0.33

Back
From: metabase:user:63446088-db54-11e3-8a3d-23630cdc1af3
Subject: PASS Catalyst-View-Email-0.33 v5.18.2 GNU/Linux
Date: 2014-05-14T15:04:48Z

This distribution has been tested as part of the CPAN Testers
project, supporting the Perl programming language.  See
http://wiki.cpantesters.org/ for more information or email
questions to cpan-testers-discuss@perl.org


--
Dear Devin Austin,

This is a computer-generated report for Catalyst-View-Email-0.33
on perl 5.18.2, created by CPAN-Reporter-1.2011.

Thank you for uploading your work to CPAN.  Congratulations!
All tests were successful.

Sections of this report:

    * Tester comments
    * Program output
    * Prerequisites
    * Environment and other context

------------------------------
TESTER COMMENTS
------------------------------

Additional comments from tester:

none provided

------------------------------
PROGRAM OUTPUT
------------------------------

Output from '/usr/bin/make test':

PERL_DL_NONLAZY=1 /usr/local/perlbrew/perl5/perls/perl-5.18.2/bin/perl "-MExtUtils::Command::MM" "-e" "test_harness(0, 'inc', 'blib/lib', 'blib/arch')" t/01use.t t/02pod.t t/04basic.t t/05template.t t/06config.t t/07mason.t
t/01use.t ....... ok
t/02pod.t ....... skipped: Test::Pod 1.14 required
require TestApp::View::TT was successful but the package is not defined. at /usr/local/perlbrew/perl5/perls/perl-5.18.2/lib/site_perl/5.18.2/Catalyst/Utils.pm line 314.
require TestApp::View::Mason was successful but the package is not defined. at /usr/local/perlbrew/perl5/perls/perl-5.18.2/lib/site_perl/5.18.2/Catalyst/Utils.pm line 314.
Class::MOP::load_class is deprecated at /usr/local/perlbrew/perl5/perls/perl-5.18.2/lib/site_perl/5.18.2/x86_64-linux/Class/MOP.pm line 73.
	Class::MOP::load_class('Email::Sender::Transport::Test') called at /root/.cpan/build/Catalyst-View-Email-0.33-7sbtDs/blib/lib/Catalyst/View/Email.pm line 226
	Catalyst::View::Email::_build_mailer_obj('TestApp::View::Email=HASH(0x325e280)') called at accessor Catalyst::View::Email::_mailer_obj (defined at /root/.cpan/build/Catalyst-View-Email-0.33-7sbtDs/blib/lib/Catalyst/View/Email.pm line 21) line 10
	Catalyst::View::Email::_mailer_obj('TestApp::View::Email=HASH(0x325e280)') called at /root/.cpan/build/Catalyst-View-Email-0.33-7sbtDs/blib/lib/Catalyst/View/Email.pm line 299
	Catalyst::View::Email::process('TestApp::View::Email=HASH(0x325e280)', 'TestApp=HASH(0x333e6b8)') called at /usr/local/perlbrew/perl5/perls/perl-5.18.2/lib/site_perl/5.18.2/Catalyst/Action.pm line 65
	Catalyst::Action::execute('Catalyst::Action=HASH(0x33496a0)', 'TestApp::View::Email=HASH(0x325e280)', 'TestApp=HASH(0x333e6b8)') called at /usr/local/perlbrew/perl5/perls/perl-5.18.2/lib/site_perl/5.18.2/Catalyst.pm line 1734
	eval {...} called at /usr/local/perlbrew/perl5/perls/perl-5.18.2/lib/site_perl/5.18.2/Catalyst.pm line 1734
	Catalyst::execute('TestApp=HASH(0x333e6b8)', 'TestApp::View::Email', 'Catalyst::Action=HASH(0x33496a0)') called at /usr/local/perlbrew/perl5/perls/perl-5.18.2/lib/site_perl/5.18.2/Catalyst/Action.pm line 60
	Catalyst::Action::dispatch('Catalyst::Action=HASH(0x33496a0)', 'TestApp=HASH(0x333e6b8)') called at /usr/local/perlbrew/perl5/perls/perl-5.18.2/lib/site_perl/5.18.2/Catalyst/Dispatcher.pm line 258
	Catalyst::Dispatcher::_do_forward('Catalyst::Dispatcher=HASH(0x2d6aab8)', 'forward', 'TestApp=HASH(0x333e6b8)', 'TestApp::View::Email') called at /usr/local/perlbrew/perl5/perls/perl-5.18.2/lib/site_perl/5.18.2/Catalyst/Dispatcher.pm line 238
	Catalyst::Dispatcher::forward('Catalyst::Dispatcher=HASH(0x2d6aab8)', 'TestApp=HASH(0x333e6b8)', 'TestApp::View::Email') called at /usr/local/perlbrew/perl5/perls/perl-5.18.2/lib/site_perl/5.18.2/Catalyst.pm line 397
	Catalyst::forward('TestApp=HASH(0x333e6b8)', 'TestApp::View::Email') called at /root/.cpan/build/Catalyst-View-Email-0.33-7sbtDs/t/lib/TestApp/Controller/Root.pm line 26
	TestApp::Controller::Root::email('TestApp::Controller::Root=HASH(0x325e760)', 'TestApp=HASH(0x333e6b8)') called at /usr/local/perlbrew/perl5/perls/perl-5.18.2/lib/site_perl/5.18.2/Catalyst/Action.pm line 65
	Catalyst::Action::execute('Catalyst::Action=HASH(0x329e568)', 'TestApp::Controller::Root=HASH(0x325e760)', 'TestApp=HASH(0x333e6b8)') called at /usr/local/perlbrew/perl5/perls/perl-5.18.2/lib/site_perl/5.18.2/Catalyst.pm line 1734
	eval {...} called at /usr/local/perlbrew/perl5/perls/perl-5.18.2/lib/site_perl/5.18.2/Catalyst.pm line 1734
	Catalyst::execute('TestApp=HASH(0x333e6b8)', 'TestApp::Controller::Root', 'Catalyst::Action=HASH(0x329e568)') called at /usr/local/perlbrew/perl5/perls/perl-5.18.2/lib/site_perl/5.18.2/Catalyst/Action.pm line 60
	Catalyst::Action::dispatch('Catalyst::Action=HASH(0x329e568)', 'TestApp=HASH(0x333e6b8)') called at /usr/local/perlbrew/perl5/perls/perl-5.18.2/lib/site_perl/5.18.2/Catalyst/Controller.pm line 161
	Catalyst::Controller::_ACTION('TestApp::Controller::Root=HASH(0x325e760)', 'TestApp=HASH(0x333e6b8)') called at /usr/local/perlbrew/perl5/perls/perl-5.18.2/lib/site_perl/5.18.2/Catalyst/Action.pm line 65
	Catalyst::Action::execute('Catalyst::Action=HASH(0x329dea8)', 'TestApp::Controller::Root=HASH(0x325e760)', 'TestApp=HASH(0x333e6b8)') called at /usr/local/perlbrew/perl5/perls/perl-5.18.2/lib/site_perl/5.18.2/Catalyst.pm line 1734
	eval {...} called at /usr/local/perlbrew/perl5/perls/perl-5.18.2/lib/site_perl/5.18.2/Catalyst.pm line 1734
	Catalyst::execute('TestApp=HASH(0x333e6b8)', 'TestApp::Controller::Root', 'Catalyst::Action=HASH(0x329dea8)') called at /usr/local/perlbrew/perl5/perls/perl-5.18.2/lib/site_perl/5.18.2/Catalyst/Action.pm line 60
	Catalyst::Action::dispatch('Catalyst::Action=HASH(0x329dea8)', 'TestApp=HASH(0x333e6b8)') called at /usr/local/perlbrew/perl5/perls/perl-5.18.2/lib/site_perl/5.18.2/Catalyst/Dispatcher.pm line 258
	Catalyst::Dispatcher::_do_forward('Catalyst::Dispatcher=HASH(0x2d6aab8)', 'forward', 'TestApp=HASH(0x333e6b8)', '_ACTION') called at /usr/local/perlbrew/perl5/perls/perl-5.18.2/lib/site_perl/5.18.2/Catalyst/Dispatcher.pm line 238
	Catalyst::Dispatcher::forward('Catalyst::Dispatcher=HASH(0x2d6aab8)', 'TestApp=HASH(0x333e6b8)', '_ACTION') called at /usr/local/perlbrew/perl5/perls/perl-5.18.2/lib/site_perl/5.18.2/Catalyst.pm line 397
	Catalyst::forward('TestApp=HASH(0x333e6b8)', '_ACTION') called at /usr/local/perlbrew/perl5/perls/perl-5.18.2/lib/site_perl/5.18.2/Catalyst/Controller.pm line 135
	Catalyst::Controller::_DISPATCH('TestApp::Controller::Root=HASH(0x325e760)', 'TestApp=HASH(0x333e6b8)') called at /usr/local/perlbrew/perl5/perls/perl-5.18.2/lib/site_perl/5.18.2/Catalyst/Action.pm line 65
	Catalyst::Action::execute('Catalyst::Action=HASH(0x3290780)', 'TestApp::Controller::Root=HASH(0x325e760)', 'TestApp=HASH(0x333e6b8)') called at /usr/local/perlbrew/perl5/perls/perl-5.18.2/lib/site_perl/5.18.2/Catalyst.pm line 1734
	eval {...} called at /usr/local/perlbrew/perl5/perls/perl-5.18.2/lib/site_perl/5.18.2/Catalyst.pm line 1734
	Catalyst::execute('TestApp=HASH(0x333e6b8)', 'TestApp::Controller::Root', 'Catalyst::Action=HASH(0x3290780)') called at /usr/local/perlbrew/perl5/perls/perl-5.18.2/lib/site_perl/5.18.2/Catalyst/Action.pm line 60
	Catalyst::Action::dispatch('Catalyst::Action=HASH(0x3290780)', 'TestApp=HASH(0x333e6b8)') called at /usr/local/perlbrew/perl5/perls/perl-5.18.2/lib/site_perl/5.18.2/Catalyst/Dispatcher.pm line 258
	Catalyst::Dispatcher::_do_forward('Catalyst::Dispatcher=HASH(0x2d6aab8)', 'forward', 'TestApp=HASH(0x333e6b8)', '/root/_DISPATCH') called at /usr/local/perlbrew/perl5/perls/perl-5.18.2/lib/site_perl/5.18.2/Catalyst/Dispatcher.pm line 238
	Catalyst::Dispatcher::forward('Catalyst::Dispatcher=HASH(0x2d6aab8)', 'TestApp=HASH(0x333e6b8)', '/root/_DISPATCH') called at /usr/local/perlbrew/perl5/perls/perl-5.18.2/lib/site_perl/5.18.2/Catalyst.pm line 397
	Catalyst::forward('TestApp=HASH(0x333e6b8)', '/root/_DISPATCH') called at /usr/local/perlbrew/perl5/perls/perl-5.18.2/lib/site_perl/5.18.2/Catalyst/Dispatcher.pm line 106
	Catalyst::Dispatcher::dispatch('Catalyst::Dispatcher=HASH(0x2d6aab8)', 'TestApp=HASH(0x333e6b8)') called at /usr/local/perlbrew/perl5/perls/perl-5.18.2/lib/site_perl/5.18.2/Catalyst.pm line 1680
	Catalyst::dispatch('TestApp=HASH(0x333e6b8)') called at /usr/local/perlbrew/perl5/perls/perl-5.18.2/lib/site_perl/5.18.2/Catalyst.pm line 2019
	Catalyst::try {...} () called at /usr/local/perlbrew/perl5/perls/perl-5.18.2/lib/site_perl/5.18.2/Try/Tiny.pm line 81
	eval {...} called at /usr/local/perlbrew/perl5/perls/perl-5.18.2/lib/site_perl/5.18.2/Try/Tiny.pm line 72
	Try::Tiny::try('CODE(0x333dfc8)', 'Try::Tiny::Catch=REF(0x333de60)') called at /usr/local/perlbrew/perl5/perls/perl-5.18.2/lib/site_perl/5.18.2/Catalyst.pm line 2028
	Catalyst::handle_request('TestApp', 'env', 'HASH(0x31d0770)', 'response_cb', 'CODE(0x333dec0)') called at /usr/local/perlbrew/perl5/perls/perl-5.18.2/lib/site_perl/5.18.2/Catalyst/Engine.pm line 797
	Catalyst::Engine::__ANON__('CODE(0x333dec0)') called at /usr/local/perlbrew/perl5/perls/perl-5.18.2/lib/site_perl/5.18.2/Plack/Middleware/HTTPExceptions.pm line 32
	Plack::Middleware::HTTPExceptions::try {...} () called at /usr/local/perlbrew/perl5/perls/perl-5.18.2/lib/site_perl/5.18.2/Try/Tiny.pm line 81
	eval {...} called at /usr/local/perlbrew/perl5/perls/perl-5.18.2/lib/site_perl/5.18.2/Try/Tiny.pm line 72
	Try::Tiny::try('CODE(0x333dcf8)', 'Try::Tiny::Catch=REF(0x32e1fc8)') called at /usr/local/perlbrew/perl5/perls/perl-5.18.2/lib/site_perl/5.18.2/Plack/Middleware/HTTPExceptions.pm line 41
	Plack::Middleware::HTTPExceptions::__ANON__('CODE(0x32e2898)') called at /usr/local/perlbrew/perl5/perls/perl-5.18.2/lib/site_perl/5.18.2/Plack/Util.pm line 301
	Plack::Util::__ANON__('CODE(0x32e2790)') called at /usr/local/perlbrew/perl5/perls/perl-5.18.2/lib/site_perl/5.18.2/Plack/Util.pm line 301
	Plack::Util::__ANON__('CODE(0x32e2688)') called at /usr/local/perlbrew/perl5/perls/perl-5.18.2/lib/site_perl/5.18.2/Plack/Util.pm line 301
	Plack::Util::__ANON__('CODE(0x32e2610)') called at /usr/local/perlbrew/perl5/perls/perl-5.18.2/lib/site_perl/5.18.2/HTTP/Message/PSGI.pm line 100
	HTTP::Message::PSGI::res_from_psgi('CODE(0x32e1e90)') called at /usr/local/perlbrew/perl5/perls/perl-5.18.2/lib/site_perl/5.18.2/HTTP/Message/PSGI.pm line 155
	HTTP::Response::from_psgi('HTTP::Response', 'CODE(0x32e1e90)') called at /usr/local/perlbrew/perl5/perls/perl-5.18.2/lib/site_perl/5.18.2/Plack/Test/MockHTTP.pm line 24
	Plack::Test::MockHTTP::try {...} () called at /usr/local/perlbrew/perl5/perls/perl-5.18.2/lib/site_perl/5.18.2/Try/Tiny.pm line 76
	eval {...} called at /usr/local/perlbrew/perl5/perls/perl-5.18.2/lib/site_perl/5.18.2/Try/Tiny.pm line 72
	Try::Tiny::try('CODE(0x3128d00)', 'Try::Tiny::Catch=REF(0x326c0a0)') called at /usr/local/perlbrew/perl5/perls/perl-5.18.2/lib/site_perl/5.18.2/Plack/Test/MockHTTP.pm line 27
	Plack::Test::MockHTTP::request('Plack::Test::MockHTTP=HASH(0x32ba008)', 'HTTP::Request=HASH(0x32b1ba0)') called at /usr/local/perlbrew/perl5/perls/perl-5.18.2/lib/site_perl/5.18.2/Plack/Test.pm line 38
	Plack::Test::__ANON__('HTTP::Request=HASH(0x32b1ba0)') called at /usr/local/perlbrew/perl5/perls/perl-5.18.2/lib/site_perl/5.18.2/Catalyst/Test.pm line 281
	Catalyst::Test::__ANON__('CODE(0x32b9e58)') called at /usr/local/perlbrew/perl5/perls/perl-5.18.2/lib/site_perl/5.18.2/Plack/Test.pm line 38
	Plack::Test::test_psgi('app', 'CODE(0x32b1738)', 'mangle_response', 'CODE(0x22f28f0)', 'app', 'CODE(0x32b9c90)', 'client', 'CODE(0x32b9d38)') called at /usr/local/perlbrew/perl5/perls/perl-5.18.2/lib/site_perl/5.18.2/Catalyst/Test.pm line 284
	Catalyst::Test::_request('HASH(0x1313ea8)', '/email?time=1400079887') called at /usr/local/perlbrew/perl5/perls/perl-5.18.2/lib/site_perl/5.18.2/Catalyst/Test.pm line 327
	Catalyst::Test::_local_request('TestApp', '/email?time=1400079887') called at /usr/local/perlbrew/perl5/perls/perl-5.18.2/lib/site_perl/5.18.2/Catalyst/Test.pm line 32
	Catalyst::Test::__ANON__('/email?time=1400079887') called at t/04basic.t line 14
t/04basic.t ..... ok
t/05template.t .. skipped: Test requires module 'Catalyst::View::TT' but it's not found
t/06config.t .... skipped: Test requires module 'Catalyst::View::TT' but it's not found
t/07mason.t ..... skipped: Test requires module 'Catalyst::View::Mason' but it's not found
All tests successful.
Files=6, Tests=6,  1 wallclock secs ( 0.02 usr  0.00 sys +  0.96 cusr  0.06 csys =  1.04 CPU)
Result: PASS

------------------------------
PREREQUISITES
------------------------------

Prerequisite modules loaded:

requires:

    Module                Need     Have    
    --------------------- -------- --------
    Authen::SASL          2.13     2.16    
    Catalyst              5.7      5.90064 
    Email::MIME           1.859    1.926   
    Email::MIME::Creator  1.455    1.926   
    Email::Sender::Simple 0.100110 1.300011
    MIME::Base64          3.08     3.13    
    Moose                 0.93     2.1204  
    parent                0.223    0.225   
    Test::More            0.88     1.001003
    Test::Requires        0        0.07    

build_requires:

    Module                Need     Have    
    --------------------- -------- --------
    ExtUtils::MakeMaker   6.36     6.66    
    Test::More            0        1.001003
    Test::Requires        0        0.07    

configure_requires:

    Module                Need     Have    
    --------------------- -------- --------
    ExtUtils::MakeMaker   6.36     6.66    


------------------------------
ENVIRONMENT AND OTHER CONTEXT
------------------------------

Environment variables:

    LANG = en_GB.UTF-8
    LC_ALL = en_GB.UTF-8
    PATH = /usr/local/perlbrew/perl5/bin:/usr/local/perlbrew/perl5/perls/perl-5.18.2/bin:/sbin:/bin:/usr/sbin:/usr/bin
    PERL5LIB = 
    PERL5OPT = 
    PERL5_CPANPLUS_IS_RUNNING = 18575
    PERL5_CPAN_IS_RUNNING = 18575
    PERLBREW_BASHRC_VERSION = 0.67
    PERLBREW_HOME = /root/.perlbrew
    PERLBREW_MANPATH = /usr/local/perlbrew/perl5/perls/perl-5.18.2/man
    PERLBREW_PATH = /usr/local/perlbrew/perl5/bin:/usr/local/perlbrew/perl5/perls/perl-5.18.2/bin
    PERLBREW_PERL = perl-5.18.2
    PERLBREW_ROOT = /usr/local/perlbrew/perl5
    PERLBREW_VERSION = 0.67
    SHELL = /bin/bash
    TERM = xterm

Perl special variables (and OS-specific diagnostics, for MSWin32):

    $^X = /usr/local/perlbrew/perl5/perls/perl-5.18.2/bin/perl
    $UID/$EUID = 0 / 0
    $GID = 0 0 1 2 3 4 6 10 11 20 26 27
    $EGID = 0 0 1 2 3 4 6 10 11 20 26 27

Perl module toolchain versions installed:

    Module              Have    
    ------------------- --------
    CPAN                2.00    
    CPAN::Meta          2.141170
    Cwd                 3.40    
    ExtUtils::CBuilder  0.280210
    ExtUtils::Command   1.17    
    ExtUtils::Install   1.59    
    ExtUtils::MakeMaker 6.66    
    ExtUtils::Manifest  1.63    
    ExtUtils::ParseXS   3.18    
    File::Spec          3.40    
    JSON                2.90    
    JSON::PP            2.27202 
    Module::Build       0.4003  
    Module::Signature   n/a     
    Parse::CPAN::Meta   1.4414  
    Test::Harness       3.30    
    Test::More          1.001003
    YAML                n/a     
    YAML::Syck          n/a     
    version             0.9902  


--

Summary of my perl5 (revision 5 version 18 subversion 2) configuration:
   
  Platform:
    osname=linux, osvers=3.10.17-gentoo, archname=x86_64-linux
    uname='linux nowhere 3.10.17-gentoo #2 smp preempt sat dec 7 16:15:52 cet 2013 x86_64 amd phenom(tm) ii x4 965 processor authenticamd gnulinux '
    config_args='-de -Dprefix=/usr/local/perlbrew/perl5/perls/perl-5.18.2 -Aeval:scriptdir=/usr/local/perlbrew/perl5/perls/perl-5.18.2/bin'
    hint=recommended, useposix=true, d_sigaction=define
    useithreads=undef, usemultiplicity=undef
    useperlio=define, d_sfio=undef, uselargefiles=define, usesocks=undef
    use64bitint=define, use64bitall=define, uselongdouble=undef
    usemymalloc=n, bincompat5005=undef
  Compiler:
    cc='cc', ccflags ='-fno-strict-aliasing -pipe -fstack-protector -D_LARGEFILE_SOURCE -D_FILE_OFFSET_BITS=64',
    optimize='-O2',
    cppflags='-fno-strict-aliasing -pipe -fstack-protector'
    ccversion='', gccversion='4.7.3', gccosandvers=''
    intsize=4, longsize=8, ptrsize=8, doublesize=8, byteorder=12345678
    d_longlong=define, longlongsize=8, d_longdbl=define, longdblsize=16
    ivtype='long', ivsize=8, nvtype='double', nvsize=8, Off_t='off_t', lseeksize=8
    alignbytes=8, prototype=define
  Linker and Libraries:
    ld='cc', ldflags =' -fstack-protector -L/usr/local/lib'
    libpth=/usr/local/lib /lib/../lib64 /usr/lib/../lib64 /lib /usr/lib /lib64 /usr/lib64 /usr/local/lib64
    libs=-lnsl -lgdbm -ldb -ldl -lm -lcrypt -lutil -lc -lgdbm_compat
    perllibs=-lnsl -ldl -lm -lcrypt -lutil -lc
    libc=/lib/libc-2.17.so, so=so, useshrplib=false, libperl=libperl.a
    gnulibc_version='2.17'
  Dynamic Linking:
    dlsrc=dl_dlopen.xs, dlext=so, d_dlsymun=undef, ccdlflags='-Wl,-E'
    cccdlflags='-fPIC', lddlflags='-shared -O2 -L/usr/local/lib -fstack-protector'


Characteristics of this binary (from libperl): 
  Compile-time options: HAS_TIMES PERLIO_LAYERS PERL_DONT_CREATE_GVSV
                        PERL_HASH_FUNC_ONE_AT_A_TIME_HARD PERL_MALLOC_WRAP
                        PERL_PRESERVE_IVUV PERL_SAWAMPERSAND USE_64_BIT_ALL
                        USE_64_BIT_INT USE_LARGE_FILES USE_LOCALE
                        USE_LOCALE_COLLATE USE_LOCALE_CTYPE
                        USE_LOCALE_NUMERIC USE_PERLIO USE_PERL_ATOF
  Built under linux
  Compiled at Mar 17 2014 15:26:05
  %ENV:
    PERL5LIB=""
    PERL5OPT=""
    PERL5_CPANPLUS_IS_RUNNING="18575"
    PERL5_CPAN_IS_RUNNING="18575"
    PERLBREW_BASHRC_VERSION="0.67"
    PERLBREW_HOME="/root/.perlbrew"
    PERLBREW_MANPATH="/usr/local/perlbrew/perl5/perls/perl-5.18.2/man"
    PERLBREW_PATH="/usr/local/perlbrew/perl5/bin:/usr/local/perlbrew/perl5/perls/perl-5.18.2/bin"
    PERLBREW_PERL="perl-5.18.2"
    PERLBREW_ROOT="/usr/local/perlbrew/perl5"
    PERLBREW_VERSION="0.67"
  @INC:
    /usr/local/perlbrew/perl5/perls/perl-5.18.2/lib/site_perl/5.18.2/x86_64-linux
    /usr/local/perlbrew/perl5/perls/perl-5.18.2/lib/site_perl/5.18.2
    /usr/local/perlbrew/perl5/perls/perl-5.18.2/lib/5.18.2/x86_64-linux
    /usr/local/perlbrew/perl5/perls/perl-5.18.2/lib/5.18.2
    .