Report for Catalyst-Authentication-Credential-RemoteHTTP-0.05

Back
From: metabase:user:320bfe00-2aae-11df-837a-5e0a49663a4f
Subject: PASS Catalyst-Authentication-Credential-RemoteHTTP-0.05 v5.19.9 GNU/Linux
Date: 2014-01-24T15:42:13Z

This distribution has been tested as part of the CPAN Testers
project, supporting the Perl programming language.  See
http://wiki.cpantesters.org/ for more information or email
questions to cpan-testers-discuss@perl.org


--
Dear Nigel Metheringham,

This is a computer-generated report for Catalyst-Authentication-Credential-RemoteHTTP-0.05
on perl 5.19.9, created by CPAN-Reporter-1.2010.

Thank you for uploading your work to CPAN.  Congratulations!
All tests were successful.

Sections of this report:

    * Tester comments
    * Program output
    * Prerequisites
    * Environment and other context

------------------------------
TESTER COMMENTS
------------------------------

Additional comments from tester:

this report is from an automated smoke testing program
and was not reviewed by a human for accuracy

------------------------------
PROGRAM OUTPUT
------------------------------

Output from './Build test':

Module::Build will be removed from the Perl core distribution in the next major release. Please install it from CPAN. It is being used at ./Build, line 40.
t/00-compile.t ............... ok
# Testing Catalyst::Authentication::Credential::RemoteHTTP 0.05, Perl 5.019009, /tmp/basesmoker-reloperl-EH4L/bin/perl
t/00-load.t .................. ok
# Testing with Perl 5.019009, /tmp/basesmoker-reloperl-EH4L/bin/perl
#     Carp version is 1.32
#     Catalyst version is 5.90053
#     Catalyst::Authentication::Store::Minimal version is undefined
#     Catalyst::Controller version is undefined
#     Catalyst::Exception version is undefined
#     Catalyst::Test version is undefined
#     English version is 1.08
#     File::Find version is 1.26
#     File::Temp version is 0.2304
#     HTTP::Server::Simple version is 0.44
#     HTTP::Server::Simple::CGI version is 0.44
#     IO::Socket::INET version is 1.34
#     LWP::UserAgent version is 6.05
#     MIME::Base64 version is 3.14
#     Module::Build version is 0.4204
#     Moose version is 2.1202
#     MooseX::Types::Moose version is 0.41
#     Scalar::Util version is 1.37
#     Test::Exception version is 0.32
#     Test::More version is 1.001002
#     base version is 2.21
#     namespace::autoclean version is 0.15
#     strict version is 1.08
#     warnings version is 1.22
t/000-report-versions.t ...... ok
t/author-critic.t ............ skipped: these tests are for testing by the author
t/author-pod-spell.t ......... skipped: these tests are for testing by the author
CGI will be removed from the Perl core distribution in the next major release. Please install it from CPAN. It is being used at /home/sand/src/perl/repoperls/installed-perls/perl/v5.19.8-105-g02091bd/165a/lib/site_perl/5.19.9/HTTP/Server/Simple/CGI.pm, line 12.
t/live.t ..................... ok
t/release-dist-manifest.t .... skipped: these tests are for release candidate testing
t/release-distmeta.t ......... skipped: these tests are for release candidate testing
t/release-eol.t .............. skipped: these tests are for release candidate testing
t/release-has-version.t ...... skipped: these tests are for release candidate testing
t/release-kwalitee.t ......... skipped: these tests are for release candidate testing
t/release-minimum-version.t .. skipped: these tests are for release candidate testing
t/release-no-tabs.t .......... skipped: these tests are for release candidate testing
t/release-pod-coverage.t ..... skipped: these tests are for release candidate testing
t/release-pod-syntax.t ....... skipped: these tests are for release candidate testing
t/release-portability.t ...... skipped: these tests are for release candidate testing
t/release-synopsis.t ......... skipped: these tests are for release candidate testing
t/release-unused-vars.t ...... skipped: these tests are for release candidate testing
All tests successful.
Files=18, Tests=43,  3 wallclock secs ( 0.04 usr  0.02 sys +  1.75 cusr  0.10 csys =  1.91 CPU)
Result: PASS

------------------------------
PREREQUISITES
------------------------------

Prerequisite modules loaded:

requires:

    Module                                   Need     Have    
    ---------------------------------------- -------- --------
    base                                     0        2.21    
    Catalyst::Exception                      0        0       
    LWP::UserAgent                           0        6.05    
    Moose                                    0        2.1202  
    MooseX::Types::Moose                     0        0.41    
    namespace::autoclean                     0        0.15    
    perl                                     5.008005 5.019009
    strict                                   0        1.08    
    warnings                                 0        1.22    

build_requires:

    Module                                   Need     Have    
    ---------------------------------------- -------- --------
    Carp                                     0        1.32    
    Catalyst                                 0        5.90053 
    Catalyst::Authentication::Store::Minimal 0        0       
    Catalyst::Controller                     0        0       
    Catalyst::Test                           0        0       
    English                                  0        1.08    
    File::Find                               0        1.26    
    File::Temp                               0        0.2304  
    HTTP::Server::Simple                     0        0.44    
    HTTP::Server::Simple::CGI                0        0       
    IO::Socket::INET                         0        1.34    
    MIME::Base64                             0        3.14    
    Module::Build                            0.3601   0.4204  
    Scalar::Util                             0        1.37    
    Test::Exception                          0        0.32    
    Test::More                               0.94     1.001002

configure_requires:

    Module                                   Need     Have    
    ---------------------------------------- -------- --------
    Module::Build                            0.3601   0.4204  


------------------------------
ENVIRONMENT AND OTHER CONTEXT
------------------------------

Environment variables:

    AUTOMATED_TESTING = 1
    LANG = en_US.UTF-8
    LANGUAGE = en_US:en
    PATH = /usr/lib/ccache:/home/sand/bin:/usr/local/bin:/usr/bin:/bin:/usr/bin/X11:/usr/games:/usr/local/perl/bin:/usr/X11/bin:/sbin:/usr/sbin
    PERL = /tmp/basesmoker-reloperl-EH4L/bin/perl
    PERL5LIB = 
    PERL5OPT = 
    PERL5_CPANPLUS_IS_RUNNING = 2860
    PERL5_CPAN_IS_RUNNING = 2860
    PERL_MM_USE_DEFAULT = 1
    SHELL = /usr/bin/zsh
    TERM = screen

Perl special variables (and OS-specific diagnostics, for MSWin32):

    $^X = /tmp/basesmoker-reloperl-EH4L/bin/perl
    $UID/$EUID = 1005 / 1005
    $GID = 1005 1005
    $EGID = 1005 1005

Perl module toolchain versions installed:

    Module              Have    
    ------------------- --------
    CPAN                2.00    
    CPAN::Meta          2.133380
    Cwd                 3.45    
    ExtUtils::CBuilder  0.280213
    ExtUtils::Command   1.18    
    ExtUtils::Install   1.62    
    ExtUtils::MakeMaker 6.86    
    ExtUtils::Manifest  1.63    
    ExtUtils::ParseXS   3.23    
    File::Spec          3.45    
    JSON                2.90    
    JSON::PP            2.27203 
    Module::Build       0.4204  
    Module::Signature   0.73    
    Parse::CPAN::Meta   1.4409  
    Test::Harness       3.30    
    Test::More          1.001002
    YAML                0.88    
    YAML::Syck          1.27    
    version             0.9907  


--

Summary of my perl5 (revision 5 version 19 subversion 9) configuration:
  Commit id: 02091bd7ebe469aca7283c42a3c537b2c15079db
  Platform:
    osname=linux, osvers=3.12-1-amd64, archname=x86_64-linux
    uname='linux k83 3.12-1-amd64 #1 smp debian 3.12.6-2 (2013-12-29) x86_64 gnulinux '
    config_args='-Dprefix=/home/sand/src/perl/repoperls/installed-perls/perl/v5.19.8-105-g02091bd/165a -Dmyhostname=k83 -Dinstallusrbinperl=n -Uversiononly -Dusedevel -des -Ui_db -Uuseithreads -Uuselongdouble -DDEBUGGING=-g'
    hint=recommended, useposix=true, d_sigaction=define
    useithreads=undef, usemultiplicity=undef
    use64bitint=define, use64bitall=define, uselongdouble=undef
    usemymalloc=n, bincompat5005=undef
  Compiler:
    cc='cc', ccflags ='-fno-strict-aliasing -pipe -fstack-protector -I/usr/local/include -D_LARGEFILE_SOURCE -D_FILE_OFFSET_BITS=64',
    optimize='-O2 -g',
    cppflags='-fno-strict-aliasing -pipe -fstack-protector -I/usr/local/include'
    ccversion='', gccversion='4.8.2', gccosandvers=''
    intsize=4, longsize=8, ptrsize=8, doublesize=8, byteorder=12345678
    d_longlong=define, longlongsize=8, d_longdbl=define, longdblsize=16
    ivtype='long', ivsize=8, nvtype='double', nvsize=8, Off_t='off_t', lseeksize=8
    alignbytes=8, prototype=define
  Linker and Libraries:
    ld='cc', ldflags =' -fstack-protector -L/usr/local/lib'
    libpth=/usr/local/lib /usr/lib/gcc/x86_64-linux-gnu/4.8/include-fixed /usr/include/x86_64-linux-gnu /usr/lib /lib/x86_64-linux-gnu /lib/../lib /usr/lib/x86_64-linux-gnu /usr/lib/../lib /lib
    libs=-lnsl -lgdbm -ldb -ldl -lm -lcrypt -lutil -lc -lgdbm_compat
    perllibs=-lnsl -ldl -lm -lcrypt -lutil -lc
    libc=, so=so, useshrplib=false, libperl=libperl.a
    gnulibc_version='2.17'
  Dynamic Linking:
    dlsrc=dl_dlopen.xs, dlext=so, d_dlsymun=undef, ccdlflags='-Wl,-E'
    cccdlflags='-fPIC', lddlflags='-shared -O2 -g -L/usr/local/lib -fstack-protector'


Characteristics of this binary (from libperl): 
  Compile-time options: HAS_TIMES PERLIO_LAYERS PERL_DONT_CREATE_GVSV
                        PERL_HASH_FUNC_ONE_AT_A_TIME_HARD PERL_MALLOC_WRAP
                        PERL_NEW_COPY_ON_WRITE PERL_PRESERVE_IVUV
                        PERL_USE_DEVEL USE_64_BIT_ALL USE_64_BIT_INT
                        USE_LARGE_FILES USE_LOCALE USE_LOCALE_COLLATE
                        USE_LOCALE_CTYPE USE_LOCALE_NUMERIC USE_PERLIO
                        USE_PERL_ATOF
  Built under linux
  Compiled at Jan 24 2014 04:28:50
  %ENV:
    PERL="/tmp/basesmoker-reloperl-EH4L/bin/perl"
    PERL5LIB=""
    PERL5OPT=""
    PERL5_CPANPLUS_IS_RUNNING="2860"
    PERL5_CPAN_IS_RUNNING="2860"
    PERL_MM_USE_DEFAULT="1"
  @INC:
    /home/sand/src/perl/repoperls/installed-perls/perl/v5.19.8-105-g02091bd/165a/lib/site_perl/5.19.9/x86_64-linux
    /home/sand/src/perl/repoperls/installed-perls/perl/v5.19.8-105-g02091bd/165a/lib/site_perl/5.19.9
    /home/sand/src/perl/repoperls/installed-perls/perl/v5.19.8-105-g02091bd/165a/lib/5.19.9/x86_64-linux
    /home/sand/src/perl/repoperls/installed-perls/perl/v5.19.8-105-g02091bd/165a/lib/5.19.9
    .