Class-Accessor-Grouped v0.10014 Perl 5 v5.35.0 x86_64-linux
- Status
- Pass
- From
- John SJ Anderson
- Dist
-
Class-Accessor-Grouped v0.10014
- Platform
- Perl 5 v5.35.0 x86_64-linux
- Date
- 2021-05-24 16:21:29
- ID
- 187f284e-bcac-11eb-bc6f-5cf3c73a7ffe
This distribution has been tested as part of the CPAN Testers
project, supporting the Perl programming language. See
http://wiki.cpantesters.org/ for more information or email
questions to cpan-testers-discuss@perl.org
--
Dear HAARG,
This is a computer-generated report for Class-Accessor-Grouped-0.10014
on perl 5.35.0, created by App::cpanminus::reporter 0.17 (1.7044).
Thank you for uploading your work to CPAN. Congratulations!
All tests were successful.
Sections of this report:
* Tester comments
* Program output
* Prerequisites
* Environment and other context
------------------------------
TESTER COMMENTS
------------------------------
Additional comments from tester:
none provided
------------------------------
PROGRAM OUTPUT
------------------------------
Output from '':
Building and testing Class-Accessor-Grouped-0.10014
cp lib/Class/Accessor/Grouped.pm blib/lib/Class/Accessor/Grouped.pm
Manifying 1 pod document
PERL_DL_NONLAZY=1 "/opt/plenv/versions/5.35.0/bin/perl5.35.0" "-MExtUtils::Command::MM" "-MTest::Harness" "-e" "undef *Test::Harness::Switches; test_harness(0, 'blib/lib', 'blib/arch')" t/*.t
t/accessors.t ................ ok
t/accessors_pp.t ............. skipped: Devel::Hide required for this test in presence of Sub::Name
t/accessors_ro.t ............. ok
t/accessors_wo.t ............. ok
t/accessors_xs.t ............. ok
t/accessors_xs_cachedwarn.t .. ok
t/basic.t .................... ok
t/clean_namespace.t .......... ok
t/component.t ................ ok
t/illegal_name.t ............. ok
t/inherited.t ................ ok
All tests successful.
Files=11, Tests=1604, 1 wallclock secs ( 0.17 usr 0.02 sys + 1.05 cusr 0.14 csys = 1.38 CPU)
Result: PASS
------------------------------
PREREQUISITES
------------------------------
Prerequisite modules loaded:
No requirements found
------------------------------
ENVIRONMENT AND OTHER CONTEXT
------------------------------
Environment variables:
LANG = en_US.UTF-8
LC_ALL = en_US.UTF-8
LC_TERMINAL = iTerm2
LC_TERMINAL_VERSION = 3.4.4
PATH = /opt/plenv/versions/5.35.0/bin:/opt/plenv/libexec:/opt/plenv/plugins/perl-build/bin:/opt/plenv/shims:/opt/plenv/shims:/opt/plenv/bin:/home/genehack/bin:/opt/nvm/versions/node/v12.16.3/bin:/opt/go/bin:/opt/git/bin:/opt/emacs/bin:/opt/local/bin:/usr/local/bin:/usr/bin:/bin:/usr/games
PERL_CPANM_OPT = --skip-installed --prompt
SHELL = /bin/zsh
TERM = screen-256color
Perl special variables (and OS-specific diagnostics, for MSWin32):
EGID = 1001 1001
EUID = 1001
EXECUTABLE_NAME = /opt/plenv/versions/5.35.0/bin/perl5.35.0
GID = 1001 1001
UID = 1001
Perl module toolchain versions installed:
Module Have
------------------- --------
CPAN 2.28
CPAN::Meta 2.150010
Cwd 3.80
ExtUtils::CBuilder 0.280236
ExtUtils::Command 7.62
ExtUtils::Install 2.20
ExtUtils::MakeMaker 7.62
ExtUtils::Manifest 1.73
ExtUtils::ParseXS 3.43
File::Spec 3.80
JSON 4.03
JSON::PP 4.06
Module::Build 0.4231
Module::Signature n/a
Parse::CPAN::Meta 2.150010
Test::Harness 3.43
Test::More 1.302183
YAML 1.30
YAML::Syck n/a
version 0.9928
--
Summary of my perl5 (revision 5 version 35 subversion 0) configuration:
Platform:
osname=linux
osvers=4.19.0-14-amd64
archname=x86_64-linux
uname='linux doof 4.19.0-14-amd64 #1 smp debian 4.19.171-2 (2021-01-30) x86_64 gnulinux '
config_args='-Dprefix=/opt/plenv/versions/5.35.0 -de -Dversiononly -Dusedevel -A'eval:scriptdir=/opt/plenv/versions/5.35.0/bin''
hint=recommended
useposix=true
d_sigaction=define
useithreads=undef
usemultiplicity=undef
use64bitint=define
use64bitall=define
uselongdouble=undef
usemymalloc=n
default_inc_excludes_dot=define
Compiler:
cc='cc'
ccflags ='-fwrapv -fno-strict-aliasing -pipe -fstack-protector-strong -I/usr/local/include -D_LARGEFILE_SOURCE -D_FILE_OFFSET_BITS=64 -D_FORTIFY_SOURCE=2'
optimize='-O2'
cppflags='-fwrapv -fno-strict-aliasing -pipe -fstack-protector-strong -I/usr/local/include'
ccversion=''
gccversion='8.3.0'
gccosandvers=''
intsize=4
longsize=8
ptrsize=8
doublesize=8
byteorder=12345678
doublekind=3
d_longlong=define
longlongsize=8
d_longdbl=define
longdblsize=16
longdblkind=3
ivtype='long'
ivsize=8
nvtype='double'
nvsize=8
Off_t='off_t'
lseeksize=8
alignbytes=8
prototype=define
Linker and Libraries:
ld='cc'
ldflags =' -fstack-protector-strong -L/usr/local/lib'
libpth=/usr/local/lib /usr/lib/x86_64-linux-gnu /usr/lib /usr/lib64
libs=-lpthread -lnsl -ldl -lm -lcrypt -lutil -lc
perllibs=-lpthread -lnsl -ldl -lm -lcrypt -lutil -lc
libc=libc-2.28.so
so=so
useshrplib=false
libperl=libperl.a
gnulibc_version='2.28'
Dynamic Linking:
dlsrc=dl_dlopen.xs
dlext=so
d_dlsymun=undef
ccdlflags='-Wl,-E'
cccdlflags='-fPIC'
lddlflags='-shared -O2 -L/usr/local/lib -fstack-protector-strong'
Characteristics of this binary (from libperl):
Compile-time options:
HAS_TIMES
PERLIO_LAYERS
PERL_COPY_ON_WRITE
PERL_DONT_CREATE_GVSV
PERL_MALLOC_WRAP
PERL_OP_PARENT
PERL_PRESERVE_IVUV
PERL_USE_DEVEL
USE_64_BIT_ALL
USE_64_BIT_INT
USE_LARGE_FILES
USE_LOCALE
USE_LOCALE_COLLATE
USE_LOCALE_CTYPE
USE_LOCALE_NUMERIC
USE_LOCALE_TIME
USE_PERLIO
USE_PERL_ATOF
Built under linux
Compiled at May 24 2021 07:54:49
%ENV:
PERL_CPANM_OPT="--skip-installed --prompt"
@INC:
/opt/plenv/versions/5.35.0/lib/perl5/site_perl/5.35.0/x86_64-linux
/opt/plenv/versions/5.35.0/lib/perl5/site_perl/5.35.0
/opt/plenv/versions/5.35.0/lib/perl5/5.35.0/x86_64-linux
/opt/plenv/versions/5.35.0/lib/perl5/5.35.0