CPAN-SQLite v0.220 Perl 5 v5.38.3 x86_64-linux-thread-multi

Status
Pass
From
Andreas J. König (ANDK)
Dist
CPAN-SQLite v0.220
Platform
Perl 5 v5.38.3 x86_64-linux-thread-multi
Date
2025-01-23 08:36:09
ID
18802c06-d965-11ef-b4fb-e725e14a2ade
This distribution has been tested as part of the CPAN Testers
project, supporting the Perl programming language.  See
http://wiki.cpantesters.org/ for more information or email
questions to cpan-testers-discuss@perl.org


--
Dear Serguei Trouchelle,

This is a computer-generated report for CPAN-SQLite-0.220
on perl 5.38.3, created by CPAN-Reporter-1.2020.

Thank you for uploading your work to CPAN.  Congratulations!
All tests were successful.

Sections of this report:

    * Tester comments
    * Program output
    * Prerequisites
    * Environment and other context

------------------------------
TESTER COMMENTS
------------------------------

Additional comments from tester:

this report is from an automated smoke testing program
and was not reviewed by a human for accuracy

------------------------------
PROGRAM OUTPUT
------------------------------

Output from '/usr/bin/make test':

PERL_DL_NONLAZY=1 "/tmp/basesmoker-reloperl-aFHk/bin/perl" "-MExtUtils::Command::MM" "-MTest::Harness" "-e" "undef *Test::Harness::Switches; test_harness(0, 'blib/lib', 'blib/arch')" t/*.t
t/02drop.t ....................... ok
t/03info.t ....................... ok
t/04search.t ..................... ok
t/04search_everything.t .......... ok
t/05meta_new.t ................... ok
t/05meta_update.t ................ ok
# Listing %INC
#                                    B 1.88
#                                 CPAN 2.38
#                         CPAN::Author 5.5002
#                         CPAN::Bundle 5.5005
#                       CPAN::CacheMgr 5.5002
#                       CPAN::Complete 5.5001
#                          CPAN::Debug 5.5001
#                   CPAN::DeferredCode 5.50
#                   CPAN::DistnameInfo 0.12
#                   CPAN::Distribution 2.34
#                    CPAN::Distroprefs 6.0001
#                   CPAN::Distrostatus 5.5
# CPAN::Exception::RecursiveDependency 5.5001
#  CPAN::Exception::yaml_not_installed 5.5
#  CPAN::Exception::yaml_process_error 5.5
#                            CPAN::FTP 5.5016
#                     CPAN::FTP::netrc 1.01
#              CPAN::HTTP::Credentials 1.9601
#                   CPAN::HandleConfig 5.5013
#                          CPAN::Index 2.29
#                        CPAN::InfoObj 5.5
#                 CPAN::LWP::UserAgent 1.9601
#                         CPAN::Module 5.5003
#                         CPAN::Prompt 5.5
#                          CPAN::Queue 5.5003
#                          CPAN::Shell 5.5009
#                         CPAN::Tarzip 5.5013
#                            CPAN::URL 5.5
#                        CPAN::Version 5.5003
#                                 Carp 1.54
#                          Carp::Heavy 1.54
#                  Compress::Raw::Zlib 2.213
#                       Compress::Zlib 2.213
#                               Config 5.038003
#                                  Cwd 3.89
#                                  DBI 1.647
#                            DirHandle 1.05
#                               Encode 3.21
#                        Encode::Alias 2.25
#                       Encode::Config 2.05
#                     Encode::Encoding 2.08
#                   Encode::MIME::Name 1.03
#                              English 1.11
#                                Errno 1.37
#                             Exporter 5.77
#                      Exporter::Heavy 5.77
#                    ExtUtils::Liblist 7.70
#               ExtUtils::Liblist::Kid 7.70
#                         ExtUtils::MM 7.70
#                     ExtUtils::MM_Any 7.70
#                    ExtUtils::MM_Unix 7.70
#                         ExtUtils::MY 7.70
#                  ExtUtils::MakeMaker 7.70
#          ExtUtils::MakeMaker::Config 7.70
#          ExtUtils::MakeMaker::Locale 7.70
#         ExtUtils::MakeMaker::version 7.70
#                                Fcntl 1.15
#                       File::Basename 2.86
#                           File::Copy 2.41
#                           File::Find 1.43
#                           File::Glob 1.40
#                     File::GlobMapper 1.001
#                        File::HomeDir 1.006
#                File::HomeDir::Driver 1.006
#           File::HomeDir::FreeDesktop 1.006
#                  File::HomeDir::Unix 1.006
#                           File::Path 2.18
#                           File::Spec 3.88
#                File::Spec::Functions 3.88
#                     File::Spec::Unix 3.88
#                          File::Which 1.27
#                           FileHandle 2.05
#                         Getopt::Long 2.58
#                           HTTP::Tiny 0.086
#                       I18N::Langinfo 0.22
#                                   IO 1.52
#       IO::Compress::Adapter::Deflate 2.213
#                   IO::Compress::Base 2.213
#           IO::Compress::Base::Common 2.213
#                   IO::Compress::Gzip 2.213
#        IO::Compress::Gzip::Constants 2.213
#             IO::Compress::RawDeflate 2.213
#            IO::Compress::Zlib::Extra 2.213
#                             IO::File 1.52
#                           IO::Handle 1.52
#                         IO::Seekable 1.52
#                           IO::Socket 1.52
#                     IO::Socket::INET 1.52
#                       IO::Socket::IP 0.4101
#                     IO::Socket::UNIX 1.52
#     IO::Uncompress::Adapter::Inflate 2.213
#                 IO::Uncompress::Base 2.213
#               IO::Uncompress::Gunzip 2.213
#           IO::Uncompress::RawInflate 2.213
#                           List::Util 1.68
#                               Opcode 1.64
#                                POSIX 2.13
#                                 Safe 2.44
#                         Scalar::Util 1.68
#                          SelectSaver 1.02
#                               Socket 2.036
#                             Storable 3.32
#                               Symbol 1.09
#                        Sys::Hostname 1.25
#                     Text::ParseWords 3.31
#                           Text::Tabs 2021.0814
#                           Text::Wrap 2021.0814
#                            Tie::Hash 1.06
#                          Time::HiRes 1.9775
#                             XSLoader 0.32
#                                 base 2.27
#                              builtin 0.008
#                                bytes 1.08
#                             constant 1.33
#                                  lib 0.65
#                             overload 1.37
#                          overloading 0.02
#                               parent 0.244
#                                   re 0.44
#                               strict 1.12
#                                 subs 1.04
#                                 utf8 1.25
#                                 vars 1.05
#                              version 0.9933
#                       version::regex 0.9933
#                         version::vxs 0.9933
#                             warnings 1.65
#                   warnings::register 1.05
t/00-all_prereqs.t ............... ok
t/00-compile.t ................... ok
# 
# Versions for all modules listed in MYMETA.json (including optional ones):
# 
# === Configure Requires ===
# 
#     Module              Want Have
#     ------------------- ---- ----
#     ExtUtils::MakeMaker  any 7.70
# 
# === Build Requires ===
# 
#     Module              Want Have
#     ------------------- ---- ----
#     ExtUtils::MakeMaker  any 7.70
# 
# === Test Requires ===
# 
#     Module              Want     Have
#     ------------------- ---- --------
#     CPAN::HandleConfig   any   5.5013
#     CPAN::Version        any   5.5003
#     Carp                 any     1.54
#     DBD::SQLite          any     1.76
#     ExtUtils::MakeMaker  any     7.70
#     File::Copy           any     2.41
#     File::Spec           any     3.88
#     FindBin              any     1.53
#     IO::Handle           any     1.52
#     IPC::Open3           any     1.22
#     Test::More          0.94 1.302207
#     base                 any     2.27
#     lib                  any     0.65
# 
# === Test Recommends ===
# 
#     Module         Want     Have
#     ---------- -------- --------
#     CPAN::Meta 2.120900 2.150010
# 
# === Runtime Requires ===
# 
#     Module                 Want  Have
#     --------------------- ----- -----
#     Archive::Tar           1.54  3.02
#     CPAN                    any  2.38
#     CPAN::DistnameInfo     0.09  0.12
#     CPAN::Index            1.93  2.29
#     Compress::Zlib          any 2.213
#     Cwd                     any  3.89
#     DBD::SQLite            1.27  1.76
#     DBI                     any 1.647
#     English                 any  1.11
#     Exporter                any  5.77
#     File::Basename          any  2.86
#     File::Find              any  1.43
#     File::HomeDir           any 1.006
#     File::Path              any  2.18
#     File::Spec              any  3.88
#     File::Spec::Functions   any  3.88
#     Getopt::Long            any  2.58
#     HTTP::Tiny            0.041 0.086
#     IO::Zlib                any  1.15
#     Safe                    any  2.44
#     Scalar::Util            any  1.68
#     constant                any  1.33
#     parent                  any 0.244
#     strict                  any  1.12
#     utf8                    any  1.25
#     warnings                any  1.65
# 
t/00-report-prereqs.t ............ ok
# Testing with Perl 5.038003, /tmp/basesmoker-reloperl-aFHk/bin/perl
#     CPAN version is 2.38
#     CPAN::DistnameInfo version is 0.12
#     CPAN::HandleConfig version is 5.5013
#     CPAN::Version version is 5.5003
#     Carp version is 1.54
#     Compress::Zlib version is 2.213
#     Cwd version is 3.89
#     DBD::SQLite version is 1.76
#     DBI version is 1.647
#     English version is 1.11
#     Exporter version is 5.77
#     ExtUtils::MakeMaker version is 7.70
#     File::Basename version is 2.86
#     File::Copy version is 2.41
#     File::Find version is 1.43
#     File::HomeDir version is 1.006
#     File::Path version is 2.18
#     File::Spec version is 3.88
#     File::Spec::Functions version is 3.88
#     FindBin version is 1.53
#     Getopt::Long version is 2.58
#     HTTP::Tiny version is 0.086
#     IO::Handle version is 1.52
#     IPC::Open3 version is 1.22
#     Safe version is 2.44
#     Scalar::Util version is 1.68
#     Test::More version is 1.302207
#     base version is 2.27
#     constant version is 1.33
#     lib version is 0.65
#     parent version is 0.244
#     strict version is 1.12
#     utf8 version is 1.25
#     warnings version is 1.65
t/000-report-versions.t .......... ok
t/01basic.t ...................... ok
t/06retrieve.t ................... ok
t/07download.t ................... ok
t/08circular_references.t ........ ok
t/author-critic.t ................ skipped: these tests are for testing by the author
t/author-distmeta.t .............. skipped: these tests are for testing by the author
t/author-eol.t ................... skipped: these tests are for testing by the author
t/author-minimum-version.t ....... skipped: these tests are for testing by the author
t/author-no-tabs.t ............... skipped: these tests are for testing by the author
t/author-pod-syntax.t ............ skipped: these tests are for testing by the author
t/release-changes_has_content.t .. skipped: these tests are for release candidate testing
t/release-fixme.t ................ skipped: these tests are for release candidate testing
t/release-has-version.t .......... skipped: these tests are for release candidate testing
t/release-kwalitee.t ............. skipped: these tests are for release candidate testing
t/release-meta-json.t ............ skipped: these tests are for release candidate testing
t/release-pause-permissions.t .... skipped: these tests are for release candidate testing
All tests successful.
Files=26, Tests=11314, 25 wallclock secs ( 0.97 usr  0.13 sys +  8.12 cusr  0.98 csys = 10.20 CPU)
Result: PASS

------------------------------
PREREQUISITES
------------------------------

Prerequisite modules loaded:

requires:

    Module              Need  Have 
    ------------------- ----- -----
    Archive::Tar        1.54  3.02 
    Compress::Zlib      0     2.213
    CPAN::DistnameInfo  0.09  0.12 
    CPAN::Index         1.93  2.29 
    DBD::SQLite         1.27  1.76 
    File::HomeDir       0     1.006
    File::Spec          0     3.88 
    HTTP::Tiny          0.041 0.086
    IO::Zlib            0     1.15 
    parent              0     0.244

build_requires:

    Module              Need  Have 
    ------------------- ----- -----
    ExtUtils::MakeMaker 0     7.70 

configure_requires:

    Module              Need  Have 
    ------------------- ----- -----
    ExtUtils::MakeMaker 0     7.70 


------------------------------
ENVIRONMENT AND OTHER CONTEXT
------------------------------

Environment variables:

    AUTOMATED_TESTING = 1
    LANG = en_US.UTF-8
    PATH = /home/sand/bin:/usr/local/bin:/usr/local/sbin:/usr/sbin:/usr/bin:/sbin:/bin:/usr/games:/usr/local/games:/snap/bin:/usr/local/perl/bin:/usr/X11/bin
    PERL = /tmp/basesmoker-reloperl-aFHk/bin/perl
    PERL5LIB = /tmp/loop_over_bdir-641295-BGeEVH/DBIx-Migration-Directories-0.12-0/blib/arch:/tmp/loop_over_bdir-641295-BGeEVH/DBIx-Migration-Directories-0.12-0/blib/lib:/tmp/loop_over_bdir-641295-BGeEVH/Net-OpenVPN-DDNS-0.1-0/blib/arch:/tmp/loop_over_bdir-641295-BGeEVH/Net-OpenVPN-DDNS-0.1-0/blib/lib:/tmp/loop_over_bdir-641295-BGeEVH/RDF-NLP-SPARQLQuery-0.1-0/blib/arch:/tmp/loop_over_bdir-641295-BGeEVH/RDF-NLP-SPARQLQuery-0.1-0/blib/lib
    PERL5OPT = 
    PERL5_CPANPLUS_IS_RUNNING = 641303
    PERL5_CPAN_IS_RUNNING = 641303
    PERL_CANARY_STABILITY_NOPROMPT = 1
    PERL_MM_USE_DEFAULT = 1
    PERL_USE_UNSAFE_INC = 1
    SHELL = /usr/bin/zsh
    TERM = screen

Perl special variables (and OS-specific diagnostics, for MSWin32):

    $^X = /tmp/basesmoker-reloperl-aFHk/bin/perl
    $UID/$EUID = 1005 / 1005
    $GID = 1005 1005
    $EGID = 1005 1005

Perl module toolchain versions installed:

    Module              Have    
    ------------------- --------
    CPAN                2.38    
    CPAN::Meta          2.150010
    Cwd                 3.89    
    ExtUtils::CBuilder  0.280238
    ExtUtils::Command   7.70    
    ExtUtils::Install   2.22    
    ExtUtils::MakeMaker 7.70    
    ExtUtils::Manifest  1.73    
    ExtUtils::ParseXS   3.51    
    File::Spec          3.88    
    JSON                4.10    
    JSON::PP            4.16    
    Module::Build       0.4234  
    Module::Signature   0.89    
    Parse::CPAN::Meta   2.150010
    Test2               1.302207
    Test::Harness       3.50    
    Test::More          1.302207
    YAML                1.31    
    YAML::Syck          1.34    
    version             0.9933  


--

Summary of my perl5 (revision 5 version 38 subversion 3) configuration:
  Commit id: 06697759559c52236e296a256776b1222f228163
  Platform:
    osname=linux
    osvers=5.4.0-204-generic
    archname=x86_64-linux-thread-multi
    uname='linux k93focal 5.4.0-204-generic #224-ubuntu smp thu dec 5 13:38:28 utc 2024 x86_64 x86_64 x86_64 gnulinux '
    config_args='-Dprefix=/home/sand/src/perl/repoperls/installed-perls/host/k93focal/v5.38.3/d119 -Dmyhostname=k93focal -Dinstallusrbinperl=n -Uversiononly -Dusedevel -des -Ui_db -Dlibswanted=cl pthread socket inet nsl gdbm dbm malloc dl ld sun m crypt sec util c cposix posix ucb BSD gdbm_compat -Duseithreads -Uuselongdouble -DEBUGGING=both'
    hint=recommended
    useposix=true
    d_sigaction=define
    useithreads=define
    usemultiplicity=define
    use64bitint=define
    use64bitall=define
    uselongdouble=undef
    usemymalloc=n
    default_inc_excludes_dot=define
  Compiler:
    cc='cc'
    ccflags ='-D_REENTRANT -D_GNU_SOURCE -fwrapv -DDEBUGGING -fno-strict-aliasing -pipe -fstack-protector-strong -I/usr/local/include -D_LARGEFILE_SOURCE -D_FILE_OFFSET_BITS=64'
    optimize='-O2 -g'
    cppflags='-D_REENTRANT -D_GNU_SOURCE -fwrapv -DDEBUGGING -fno-strict-aliasing -pipe -fstack-protector-strong -I/usr/local/include'
    ccversion=''
    gccversion='9.4.0'
    gccosandvers=''
    intsize=4
    longsize=8
    ptrsize=8
    doublesize=8
    byteorder=12345678
    doublekind=3
    d_longlong=define
    longlongsize=8
    d_longdbl=define
    longdblsize=16
    longdblkind=3
    ivtype='long'
    ivsize=8
    nvtype='double'
    nvsize=8
    Off_t='off_t'
    lseeksize=8
    alignbytes=8
    prototype=define
  Linker and Libraries:
    ld='cc'
    ldflags =' -fstack-protector-strong -L/usr/local/lib'
    libpth=/usr/local/lib /usr/lib/x86_64-linux-gnu /usr/lib /usr/lib64
    libs=-lpthread -lnsl -ldl -lm -lcrypt -lutil -lc
    perllibs=-lpthread -lnsl -ldl -lm -lcrypt -lutil -lc
    libc=libc-2.31.so
    so=so
    useshrplib=false
    libperl=libperl.a
    gnulibc_version='2.31'
  Dynamic Linking:
    dlsrc=dl_dlopen.xs
    dlext=so
    d_dlsymun=undef
    ccdlflags='-Wl,-E'
    cccdlflags='-fPIC'
    lddlflags='-shared -O2 -g -L/usr/local/lib -fstack-protector-strong'


Characteristics of this binary (from libperl): 
  Compile-time options:
    DEBUGGING
    HAS_LONG_DOUBLE
    HAS_STRTOLD
    HAS_TIMES
    MULTIPLICITY
    PERLIO_LAYERS
    PERL_COPY_ON_WRITE
    PERL_DONT_CREATE_GVSV
    PERL_HASH_FUNC_SIPHASH13
    PERL_HASH_USE_SBOX32
    PERL_MALLOC_WRAP
    PERL_OP_PARENT
    PERL_PRESERVE_IVUV
    PERL_TRACK_MEMPOOL
    PERL_USE_DEVEL
    PERL_USE_SAFE_PUTENV
    USE_64_BIT_ALL
    USE_64_BIT_INT
    USE_ITHREADS
    USE_LARGE_FILES
    USE_LOCALE
    USE_LOCALE_COLLATE
    USE_LOCALE_CTYPE
    USE_LOCALE_NUMERIC
    USE_LOCALE_TIME
    USE_PERLIO
    USE_PERL_ATOF
    USE_REENTRANT_API
    USE_THREAD_SAFE_LOCALE
  Built under linux
  Compiled at Jan 20 2025 16:12:56
  %ENV:
    PERL="/tmp/basesmoker-reloperl-aFHk/bin/perl"
    PERL5LIB="/tmp/loop_over_bdir-641295-BGeEVH/DBIx-Migration-Directories-0.12-0/blib/arch:/tmp/loop_over_bdir-641295-BGeEVH/DBIx-Migration-Directories-0.12-0/blib/lib:/tmp/loop_over_bdir-641295-BGeEVH/Net-OpenVPN-DDNS-0.1-0/blib/arch:/tmp/loop_over_bdir-641295-BGeEVH/Net-OpenVPN-DDNS-0.1-0/blib/lib:/tmp/loop_over_bdir-641295-BGeEVH/RDF-NLP-SPARQLQuery-0.1-0/blib/arch:/tmp/loop_over_bdir-641295-BGeEVH/RDF-NLP-SPARQLQuery-0.1-0/blib/lib"
    PERL5OPT=""
    PERL5_CPANPLUS_IS_RUNNING="641303"
    PERL5_CPAN_IS_RUNNING="641303"
    PERL_CANARY_STABILITY_NOPROMPT="1"
    PERL_MM_USE_DEFAULT="1"
    PERL_USE_UNSAFE_INC="1"
  @INC:
    /tmp/loop_over_bdir-641295-BGeEVH/DBIx-Migration-Directories-0.12-0/blib/arch
    /tmp/loop_over_bdir-641295-BGeEVH/DBIx-Migration-Directories-0.12-0/blib/lib
    /tmp/loop_over_bdir-641295-BGeEVH/Net-OpenVPN-DDNS-0.1-0/blib/arch
    /tmp/loop_over_bdir-641295-BGeEVH/Net-OpenVPN-DDNS-0.1-0/blib/lib
    /tmp/loop_over_bdir-641295-BGeEVH/RDF-NLP-SPARQLQuery-0.1-0/blib/arch
    /tmp/loop_over_bdir-641295-BGeEVH/RDF-NLP-SPARQLQuery-0.1-0/blib/lib
    /home/sand/src/perl/repoperls/installed-perls/host/k93focal/v5.38.3/d119/lib/site_perl/5.38.3/x86_64-linux-thread-multi
    /home/sand/src/perl/repoperls/installed-perls/host/k93focal/v5.38.3/d119/lib/site_perl/5.38.3
    /home/sand/src/perl/repoperls/installed-perls/host/k93focal/v5.38.3/d119/lib/5.38.3/x86_64-linux-thread-multi
    /home/sand/src/perl/repoperls/installed-perls/host/k93focal/v5.38.3/d119/lib/5.38.3
    .