Report for Google-AJAX-Library-0.022

Back
From: metabase:user:775a6ef0-a30d-11e0-b928-abcd0a1a245f
Subject: PASS Google-AJAX-Library-0.022 v5.14.1 GNU/Linux
Date: 2011-07-22T20:13:42Z

This distribution has been tested as part of the CPAN Testers
project, supporting the Perl programming language.  See
http://wiki.cpantesters.org/ for more information or email
questions to cpan-testers-discuss@perl.org


--
Dear Robert Krimen,

This is a computer-generated report for Google-AJAX-Library-0.022
on perl 5.14.1, created by CPAN-Reporter-1.1902.

Thank you for uploading your work to CPAN.  Congratulations!
All tests were successful.

Sections of this report:

    * Tester comments
    * Program output
    * Prerequisites
    * Environment and other context

------------------------------
TESTER COMMENTS
------------------------------

Additional comments from tester:

this report is from an automated smoke testing program
and was not reviewed by a human for accuracy

------------------------------
PROGRAM OUTPUT
------------------------------

Output from '/usr/bin/make test':

PERL_DL_NONLAZY=1 /smoker/5.14.1/perl/bin/perl "-MExtUtils::Command::MM" "-e" "test_harness(0, 'blib/lib', 'blib/arch')" t/*.t
You are overwriting a locally defined function (file) with an accessor at /smoker/5.14.1/perl/lib/Moose/Meta/Attribute.pm line 939
	Moose::Meta::Attribute::_process_accessors('Moose::Meta::Attribute=HASH(0x9fa6530)', 'reader', 'file', undef) called at /smoker/5.14.1/perl/lib/Class/MOP/Attribute.pm line 425
	Class::MOP::Attribute::install_accessors('Moose::Meta::Attribute=HASH(0x9fa6530)') called at /smoker/5.14.1/perl/lib/Moose/Meta/Attribute.pm line 887
	Moose::Meta::Attribute::install_accessors('Moose::Meta::Attribute=HASH(0x9fa6530)') called at /smoker/5.14.1/perl/lib/Class/MOP/Class.pm line 878
	Class::MOP::Class::__ANON__() called at /smoker/5.14.1/perl/lib/Try/Tiny.pm line 76
	eval {...} called at /smoker/5.14.1/perl/lib/Try/Tiny.pm line 67
	Try::Tiny::try('CODE(0x9fa5da0)', 'Try::Tiny::Catch=REF(0x9fa6120)') called at /smoker/5.14.1/perl/lib/Class/MOP/Class.pm line 883
	Class::MOP::Class::_post_add_attribute('Moose::Meta::Class=HASH(0x9c73158)', 'Moose::Meta::Attribute=HASH(0x9fa6530)') called at /smoker/5.14.1/perl/lib/Class/MOP/Mixin/HasAttributes.pm line 44
	Class::MOP::Mixin::HasAttributes::add_attribute('Moose::Meta::Class=HASH(0x9c73158)', 'Moose::Meta::Attribute=HASH(0x9fa6530)') called at /smoker/5.14.1/perl/lib/Moose/Meta/Class.pm line 506
	Moose::Meta::Class::add_attribute('Moose::Meta::Class=HASH(0x9c73158)', 'file', 'definition_context', 'HASH(0x9fa5150)', 'is', 'ro') called at /smoker/5.14.1/perl/lib/Moose.pm line 77
	Moose::has('Moose::Meta::Class=HASH(0x9c73158)', 'file', 'is', 'ro') called at /smoker/5.14.1/perl/lib/Moose/Exporter.pm line 356
	Moose::has('file', 'is', 'ro') called at /smoker/5.14.1/cpan/build/Google-AJAX-Library-0.022-lJXpXM/blib/lib/Google/AJAX/Library.pm line 32
	require Google/AJAX/Library.pm called at t/01-basic.t line 5
	main::BEGIN() called at /smoker/5.14.1/cpan/build/Google-AJAX-Library-0.022-lJXpXM/blib/lib/Google/AJAX/Library.pm line 0
	eval {...} called at /smoker/5.14.1/cpan/build/Google-AJAX-Library-0.022-lJXpXM/blib/lib/Google/AJAX/Library.pm line 0
t/01-basic.t .... ok
You are overwriting a locally defined function (file) with an accessor at /smoker/5.14.1/perl/lib/Moose/Meta/Attribute.pm line 939
	Moose::Meta::Attribute::_process_accessors('Moose::Meta::Attribute=HASH(0xa3a5860)', 'reader', 'file', undef) called at /smoker/5.14.1/perl/lib/Class/MOP/Attribute.pm line 425
	Class::MOP::Attribute::install_accessors('Moose::Meta::Attribute=HASH(0xa3a5860)') called at /smoker/5.14.1/perl/lib/Moose/Meta/Attribute.pm line 887
	Moose::Meta::Attribute::install_accessors('Moose::Meta::Attribute=HASH(0xa3a5860)') called at /smoker/5.14.1/perl/lib/Class/MOP/Class.pm line 878
	Class::MOP::Class::__ANON__() called at /smoker/5.14.1/perl/lib/Try/Tiny.pm line 76
	eval {...} called at /smoker/5.14.1/perl/lib/Try/Tiny.pm line 67
	Try::Tiny::try('CODE(0xa3a50d0)', 'Try::Tiny::Catch=REF(0xa3a5450)') called at /smoker/5.14.1/perl/lib/Class/MOP/Class.pm line 883
	Class::MOP::Class::_post_add_attribute('Moose::Meta::Class=HASH(0xa0723e0)', 'Moose::Meta::Attribute=HASH(0xa3a5860)') called at /smoker/5.14.1/perl/lib/Class/MOP/Mixin/HasAttributes.pm line 44
	Class::MOP::Mixin::HasAttributes::add_attribute('Moose::Meta::Class=HASH(0xa0723e0)', 'Moose::Meta::Attribute=HASH(0xa3a5860)') called at /smoker/5.14.1/perl/lib/Moose/Meta/Class.pm line 506
	Moose::Meta::Class::add_attribute('Moose::Meta::Class=HASH(0xa0723e0)', 'file', 'definition_context', 'HASH(0xa3a4480)', 'is', 'ro') called at /smoker/5.14.1/perl/lib/Moose.pm line 77
	Moose::has('Moose::Meta::Class=HASH(0xa0723e0)', 'file', 'is', 'ro') called at /smoker/5.14.1/perl/lib/Moose/Exporter.pm line 356
	Moose::has('file', 'is', 'ro') called at /smoker/5.14.1/cpan/build/Google-AJAX-Library-0.022-lJXpXM/blib/lib/Google/AJAX/Library.pm line 32
	require Google/AJAX/Library.pm called at t/02-library.t line 5
	main::BEGIN() called at /smoker/5.14.1/cpan/build/Google-AJAX-Library-0.022-lJXpXM/blib/lib/Google/AJAX/Library.pm line 0
	eval {...} called at /smoker/5.14.1/cpan/build/Google-AJAX-Library-0.022-lJXpXM/blib/lib/Google/AJAX/Library.pm line 0
t/02-library.t .. ok
You are overwriting a locally defined function (file) with an accessor at /smoker/5.14.1/perl/lib/Moose/Meta/Attribute.pm line 939
	Moose::Meta::Attribute::_process_accessors('Moose::Meta::Attribute=HASH(0x8a4c290)', 'reader', 'file', undef) called at /smoker/5.14.1/perl/lib/Class/MOP/Attribute.pm line 425
	Class::MOP::Attribute::install_accessors('Moose::Meta::Attribute=HASH(0x8a4c290)') called at /smoker/5.14.1/perl/lib/Moose/Meta/Attribute.pm line 887
	Moose::Meta::Attribute::install_accessors('Moose::Meta::Attribute=HASH(0x8a4c290)') called at /smoker/5.14.1/perl/lib/Class/MOP/Class.pm line 878
	Class::MOP::Class::__ANON__() called at /smoker/5.14.1/perl/lib/Try/Tiny.pm line 76
	eval {...} called at /smoker/5.14.1/perl/lib/Try/Tiny.pm line 67
	Try::Tiny::try('CODE(0x8a4bb00)', 'Try::Tiny::Catch=REF(0x8a4be80)') called at /smoker/5.14.1/perl/lib/Class/MOP/Class.pm line 883
	Class::MOP::Class::_post_add_attribute('Moose::Meta::Class=HASH(0x8718e80)', 'Moose::Meta::Attribute=HASH(0x8a4c290)') called at /smoker/5.14.1/perl/lib/Class/MOP/Mixin/HasAttributes.pm line 44
	Class::MOP::Mixin::HasAttributes::add_attribute('Moose::Meta::Class=HASH(0x8718e80)', 'Moose::Meta::Attribute=HASH(0x8a4c290)') called at /smoker/5.14.1/perl/lib/Moose/Meta/Class.pm line 506
	Moose::Meta::Class::add_attribute('Moose::Meta::Class=HASH(0x8718e80)', 'file', 'definition_context', 'HASH(0x8a4aeb0)', 'is', 'ro') called at /smoker/5.14.1/perl/lib/Moose.pm line 77
	Moose::has('Moose::Meta::Class=HASH(0x8718e80)', 'file', 'is', 'ro') called at /smoker/5.14.1/perl/lib/Moose/Exporter.pm line 356
	Moose::has('file', 'is', 'ro') called at /smoker/5.14.1/cpan/build/Google-AJAX-Library-0.022-lJXpXM/blib/lib/Google/AJAX/Library.pm line 32
	require Google/AJAX/Library.pm called at t/03-fetch.t line 5
	main::BEGIN() called at /smoker/5.14.1/cpan/build/Google-AJAX-Library-0.022-lJXpXM/blib/lib/Google/AJAX/Library.pm line 0
	eval {...} called at /smoker/5.14.1/cpan/build/Google-AJAX-Library-0.022-lJXpXM/blib/lib/Google/AJAX/Library.pm line 0
t/03-fetch.t .... skipped: Not going out to http://ajax.googleapis.com to test fetching/writing
All tests successful.
Files=3, Tests=61,  3 wallclock secs ( 0.04 usr  0.00 sys +  0.90 cusr  0.10 csys =  1.04 CPU)
Result: PASS

------------------------------
PREREQUISITES
------------------------------

Prerequisite modules loaded:

requires:

    Module              Need Have   
    ------------------- ---- -------
    Carp::Clan::Share   0    0.013  
    HTML::Declare       0    2.4    
    LWP::UserAgent      0    6.02   
    Moose               0    2.0010 
    Path::Class         0    0.24   
    URI                 0    1.58   

build_requires:

    Module              Need Have   
    ------------------- ---- -------
    File::Temp          0    0.22   
    Test::Most          0    0.24   

configure_requires:

    Module              Need Have   
    ------------------- ---- -------
    ExtUtils::MakeMaker 6.31 6.57_05


------------------------------
ENVIRONMENT AND OTHER CONTEXT
------------------------------

Environment variables:

    AUTOMATED_TESTING = 1
    LANG = en_US.UTF-8
    LC_ALL = C
    PATH = /usr/local/bin:/usr/bin:/bin:/usr/local/games:/usr/games
    PERL5LIB = /smoker/5.14.1/cpan/build/Test-Deep-0.108-CCuABV/blib/arch:/smoker/5.14.1/cpan/build/Test-Deep-0.108-CCuABV/blib/lib:/smoker/5.14.1/cpan/build/Path-Class-0.24-QeMwA6/blib/arch:/smoker/5.14.1/cpan/build/Path-Class-0.24-QeMwA6/blib/lib:/smoker/5.14.1/cpan/build/Test-Most-0.24-BYKTCo/blib/arch:/smoker/5.14.1/cpan/build/Test-Most-0.24-BYKTCo/blib/lib:/smoker/5.14.1/cpan/build/Text-Diff-1.41-aT9eyv/blib/arch:/smoker/5.14.1/cpan/build/Text-Diff-1.41-aT9eyv/blib/lib:/smoker/5.14.1/cpan/build/Tree-DAG_Node-1.06-muGK8A/blib/arch:/smoker/5.14.1/cpan/build/Tree-DAG_Node-1.06-muGK8A/blib/lib:/smoker/5.14.1/cpan/build/Test-Differences-0.61-Dobvs4/blib/arch:/smoker/5.14.1/cpan/build/Test-Differences-0.61-Dobvs4/blib/lib:/smoker/5.14.1/cpan/build/Algorithm-Diff-1.1902-8hEcmL/blib/arch:/smoker/5.14.1/cpan/build/Algorithm-Diff-1.1902-8hEcmL/blib/lib:/smoker/5.14.1/cpan/build/Exception-Class-1.32-N1Xtbm/blib/arch:/smoker/5.14.1/cpan/build/Exception-Class-1.32-N1Xtbm/blib/lib:/smoker/5.14.1/cpan/build/Devel-StackTrace-1.27-QuTtaz/blib/arch:/smoker/5.14.1/cpan/build/Devel-StackTrace-1.27-QuTtaz/blib/lib:/smoker/5.14.1/cpan/build/Class-Data-Inheritable-0.08-NYBome/blib/arch:/smoker/5.14.1/cpan/build/Class-Data-Inheritable-0.08-NYBome/blib/lib:/smoker/5.14.1/cpan/build/Carp-Clan-6.04-bhLhCb/blib/arch:/smoker/5.14.1/cpan/build/Carp-Clan-6.04-bhLhCb/blib/lib:/smoker/5.14.1/cpan/build/Carp-Clan-Share-0.013-dNDHL5/blib/arch:/smoker/5.14.1/cpan/build/Carp-Clan-Share-0.013-dNDHL5/blib/lib:/smoker/5.14.1/cpan/build/HTML-Declare-2.4-jbI4l8/blib/arch:/smoker/5.14.1/cpan/build/HTML-Declare-2.4-jbI4l8/blib/lib:/smoker/5.14.1/cpan/build/Test-Warn-0.23-ClwKTX/blib/arch:/smoker/5.14.1/cpan/build/Test-Warn-0.23-ClwKTX/blib/lib
    PERL5OPT = 
    PERL5_CPANPLUS_IS_RUNNING = 86330
    PERL5_CPAN_IS_RUNNING = 86330
    PERL5_CPAN_IS_RUNNING_IN_RECURSION = 42615,86330
    PERL_AUTOINSTALL = --skip
    PERL_CPAN_REPORTER_CONFIG = /smoker/cpanreporter-config.ini
    PERL_CPAN_REPORTER_DIR = /smoker/5.14.1/cpanreporter
    PERL_CR_SMOKER_CURRENT = Google-AJAX-Library-0.022
    PERL_CR_SMOKER_RUNONCE = 1
    PERL_EXTUTILS_AUTOINSTALL = --defaultdeps
    PERL_MM_USE_DEFAULT = 1
    SHELL = /bin/sh
    TERM = screen

Perl special variables (and OS-specific diagnostics, for MSWin32):

    $^X = /smoker/5.14.1/perl/bin/perl
    $UID/$EUID = 60000 / 60000
    $GID = 60000 60000
    $EGID = 60000 60000

Perl module toolchain versions installed:

    Module              Have    
    ------------------- --------
    CPAN                1.9600  
    Cwd                 3.36    
    ExtUtils::CBuilder  0.280203
    ExtUtils::Command   1.17    
    ExtUtils::Install   1.56    
    ExtUtils::MakeMaker 6.57_05 
    ExtUtils::Manifest  1.58    
    ExtUtils::ParseXS   2.2210  
    File::Spec          3.33    
    Module::Build       0.3800  
    Module::Signature   n/a     
    Test::Harness       3.23    
    Test::More          0.98    
    YAML                0.73    
    YAML::Syck          1.17    
    version             0.91    


--

Summary of my perl5 (revision 5 version 14 subversion 1) configuration:
   
  Platform:
    osname=linux, osvers=2.6.26-2-amd64, archname=i686-linux
    uname='linux rijk 2.6.26-2-amd64 #1 smp thu nov 5 02:23:12 utc 2009 i686 gnulinux '
    config_args='-Duselargefiles -Uuse64bitint -Dusemymalloc=n -Uusedl -Uusethreads -Uuseithreads -Uusemultiplicity -Uusesfio -Uuseshrplib -Uinstallusrbinperl -A ccflags= -g -DPERL_DISABLE_PMC -DPERL_ARENA_SIZE=16376 -DNO_PERL_MALLOC_ENV -D_GNU_SOURCE -DNDEBUG -Dcc=cc -Doptimize=-O2 -mpush-args -fomit-frame-pointer -march=core2 -mtune=core2 -Dldflags= -lc -lm -ldl -lpthread -Dlibs=-lm -lcrypt -Dprefix=/smoker/5.14.1/perl -Dbin=/smoker/5.14.1/perl/bin -Dprivlib=/smoker/5.14.1/perl/lib -Darchlib=/smoker/5.14.1/perl/lib -Uusevendorprefix -Dsitelib=/smoker/5.14.1/perl/lib -Dsitearch=/smoker/5.14.1/perl/lib -Uman1dir -Uman3dir -Usiteman1dir -Usiteman3dir -Dpager=/usr/bin/less -Demail=Marc Lehmann <staticperl-smoker-5.14.1@plan9.de> -Dcf_email=Marc Lehmann <staticperl-smoker-5.14.1@plan9.de> -Dcf_by=Marc Lehmann <staticperl-smoker-5.14.1@plan9.de> -Dusedl -Uusemymalloc -Duseperlio -dE'
    hint=recommended, useposix=true, d_sigaction=define
    useithreads=undef, usemultiplicity=undef
    useperlio=define, d_sfio=undef, uselargefiles=define, usesocks=undef
    use64bitint=undef, use64bitall=undef, uselongdouble=undef
    usemymalloc=n, bincompat5005=undef
  Compiler:
    cc='cc', ccflags ='-g -DPERL_DISABLE_PMC -DPERL_ARENA_SIZE=16376 -DNO_PERL_MALLOC_ENV -D_GNU_SOURCE -DNDEBUG -fno-strict-aliasing -pipe -I/usr/local/include -D_LARGEFILE_SOURCE -D_FILE_OFFSET_BITS=64',
    optimize='-O2 -mpush-args -fomit-frame-pointer -march=core2 -mtune=core2',
    cppflags='-g -DPERL_DISABLE_PMC -DPERL_ARENA_SIZE=16376 -DNO_PERL_MALLOC_ENV -D_GNU_SOURCE -DNDEBUG -fno-strict-aliasing -pipe -I/usr/local/include'
    ccversion='', gccversion='4.4.5', gccosandvers=''
    intsize=4, longsize=4, ptrsize=4, doublesize=8, byteorder=1234
    d_longlong=define, longlongsize=8, d_longdbl=define, longdblsize=12
    ivtype='long', ivsize=4, nvtype='double', nvsize=8, Off_t='off_t', lseeksize=8
    alignbytes=4, prototype=define
  Linker and Libraries:
    ld='cc', ldflags =' -lc -lm -ldl -lpthread -L/usr/local/lib'
    libpth=/usr/local/lib /lib/../lib /usr/lib/../lib /lib /usr/lib /usr/lib64
    libs=-lm -lcrypt
    perllibs=-lm -lcrypt
    libc=/lib/libc-2.11.2.so, so=so, useshrplib=false, libperl=libperl.a
    gnulibc_version='2.11.2'
  Dynamic Linking:
    dlsrc=dl_dlopen.xs, dlext=so, d_dlsymun=undef, ccdlflags='-Wl,-E'
    cccdlflags='-fPIC', lddlflags='-shared -O2 -mpush-args -fomit-frame-pointer -march=core2 -mtune=core2 -L/usr/local/lib '


Characteristics of this binary (from libperl): 
  Compile-time options: PERL_DISABLE_PMC PERL_DONT_CREATE_GVSV
                        PERL_MALLOC_WRAP PERL_PRESERVE_IVUV USE_LARGE_FILES
                        USE_PERLIO USE_PERL_ATOF
  Built under linux
  Compiled at Jul  1 2011 17:05:54
  %ENV:
    PERL5LIB="/smoker/5.14.1/cpan/build/Test-Deep-0.108-CCuABV/blib/arch:/smoker/5.14.1/cpan/build/Test-Deep-0.108-CCuABV/blib/lib:/smoker/5.14.1/cpan/build/Path-Class-0.24-QeMwA6/blib/arch:/smoker/5.14.1/cpan/build/Path-Class-0.24-QeMwA6/blib/lib:/smoker/5.14.1/cpan/build/Test-Most-0.24-BYKTCo/blib/arch:/smoker/5.14.1/cpan/build/Test-Most-0.24-BYKTCo/blib/lib:/smoker/5.14.1/cpan/build/Text-Diff-1.41-aT9eyv/blib/arch:/smoker/5.14.1/cpan/build/Text-Diff-1.41-aT9eyv/blib/lib:/smoker/5.14.1/cpan/build/Tree-DAG_Node-1.06-muGK8A/blib/arch:/smoker/5.14.1/cpan/build/Tree-DAG_Node-1.06-muGK8A/blib/lib:/smoker/5.14.1/cpan/build/Test-Differences-0.61-Dobvs4/blib/arch:/smoker/5.14.1/cpan/build/Test-Differences-0.61-Dobvs4/blib/lib:/smoker/5.14.1/cpan/build/Algorithm-Diff-1.1902-8hEcmL/blib/arch:/smoker/5.14.1/cpan/build/Algorithm-Diff-1.1902-8hEcmL/blib/lib:/smoker/5.14.1/cpan/build/Exception-Class-1.32-N1Xtbm/blib/arch:/smoker/5.14.1/cpan/build/Exception-Class-1.32-N1Xtbm/blib/lib:/smoker/5.14.1/cpan/build/Devel-StackTrace-1.27-QuTtaz/blib/arch:/smoker/5.14.1/cpan/build/Devel-StackTrace-1.27-QuTtaz/blib/lib:/smoker/5.14.1/cpan/build/Class-Data-Inheritable-0.08-NYBome/blib/arch:/smoker/5.14.1/cpan/build/Class-Data-Inheritable-0.08-NYBome/blib/lib:/smoker/5.14.1/cpan/build/Carp-Clan-6.04-bhLhCb/blib/arch:/smoker/5.14.1/cpan/build/Carp-Clan-6.04-bhLhCb/blib/lib:/smoker/5.14.1/cpan/build/Carp-Clan-Share-0.013-dNDHL5/blib/arch:/smoker/5.14.1/cpan/build/Carp-Clan-Share-0.013-dNDHL5/blib/lib:/smoker/5.14.1/cpan/build/HTML-Declare-2.4-jbI4l8/blib/arch:/smoker/5.14.1/cpan/build/HTML-Declare-2.4-jbI4l8/blib/lib:/smoker/5.14.1/cpan/build/Test-Warn-0.23-ClwKTX/blib/arch:/smoker/5.14.1/cpan/build/Test-Warn-0.23-ClwKTX/blib/lib"
    PERL5OPT=""
    PERL5_CPANPLUS_IS_RUNNING="86330"
    PERL5_CPAN_IS_RUNNING="86330"
    PERL5_CPAN_IS_RUNNING_IN_RECURSION="42615,86330"
    PERL_AUTOINSTALL="--skip"
    PERL_CPAN_REPORTER_CONFIG="/smoker/cpanreporter-config.ini"
    PERL_CPAN_REPORTER_DIR="/smoker/5.14.1/cpanreporter"
    PERL_CR_SMOKER_CURRENT="Google-AJAX-Library-0.022"
    PERL_CR_SMOKER_RUNONCE="1"
    PERL_EXTUTILS_AUTOINSTALL="--defaultdeps"
    PERL_MM_USE_DEFAULT="1"
  @INC:
    /smoker/5.14.1/cpan/build/Test-Deep-0.108-CCuABV/blib/arch
    /smoker/5.14.1/cpan/build/Test-Deep-0.108-CCuABV/blib/lib
    /smoker/5.14.1/cpan/build/Path-Class-0.24-QeMwA6/blib/arch
    /smoker/5.14.1/cpan/build/Path-Class-0.24-QeMwA6/blib/lib
    /smoker/5.14.1/cpan/build/Test-Most-0.24-BYKTCo/blib/arch
    /smoker/5.14.1/cpan/build/Test-Most-0.24-BYKTCo/blib/lib
    /smoker/5.14.1/cpan/build/Text-Diff-1.41-aT9eyv/blib/arch
    /smoker/5.14.1/cpan/build/Text-Diff-1.41-aT9eyv/blib/lib
    /smoker/5.14.1/cpan/build/Tree-DAG_Node-1.06-muGK8A/blib/arch
    /smoker/5.14.1/cpan/build/Tree-DAG_Node-1.06-muGK8A/blib/lib
    /smoker/5.14.1/cpan/build/Test-Differences-0.61-Dobvs4/blib/arch
    /smoker/5.14.1/cpan/build/Test-Differences-0.61-Dobvs4/blib/lib
    /smoker/5.14.1/cpan/build/Algorithm-Diff-1.1902-8hEcmL/blib/arch
    /smoker/5.14.1/cpan/build/Algorithm-Diff-1.1902-8hEcmL/blib/lib
    /smoker/5.14.1/cpan/build/Exception-Class-1.32-N1Xtbm/blib/arch
    /smoker/5.14.1/cpan/build/Exception-Class-1.32-N1Xtbm/blib/lib
    /smoker/5.14.1/cpan/build/Devel-StackTrace-1.27-QuTtaz/blib/arch
    /smoker/5.14.1/cpan/build/Devel-StackTrace-1.27-QuTtaz/blib/lib
    /smoker/5.14.1/cpan/build/Class-Data-Inheritable-0.08-NYBome/blib/arch
    /smoker/5.14.1/cpan/build/Class-Data-Inheritable-0.08-NYBome/blib/lib
    /smoker/5.14.1/cpan/build/Carp-Clan-6.04-bhLhCb/blib/arch
    /smoker/5.14.1/cpan/build/Carp-Clan-6.04-bhLhCb/blib/lib
    /smoker/5.14.1/cpan/build/Carp-Clan-Share-0.013-dNDHL5/blib/arch
    /smoker/5.14.1/cpan/build/Carp-Clan-Share-0.013-dNDHL5/blib/lib
    /smoker/5.14.1/cpan/build/HTML-Declare-2.4-jbI4l8/blib/arch
    /smoker/5.14.1/cpan/build/HTML-Declare-2.4-jbI4l8/blib/lib
    /smoker/5.14.1/cpan/build/Test-Warn-0.23-ClwKTX/blib/arch
    /smoker/5.14.1/cpan/build/Test-Warn-0.23-ClwKTX/blib/lib
    /smoker/5.14.1/perl/lib
    .