Data-Session v1.18 Perl 5 v5.37.3 x86_64-linux-thread-multi

Status
Pass
From
Andreas J. König (ANDK)
Dist
Data-Session v1.18
Platform
Perl 5 v5.37.3 x86_64-linux-thread-multi
Date
2022-09-01 14:48:09
ID
189f47ba-2a05-11ed-b1a2-dbc121a89f68
This distribution has been tested as part of the CPAN Testers
project, supporting the Perl programming language.  See
http://wiki.cpantesters.org/ for more information or email
questions to cpan-testers-discuss@perl.org


--
Dear Ron Savage,

This is a computer-generated report for Data-Session-1.18
on perl 5.37.3, created by CPAN-Reporter-1.2018.

Thank you for uploading your work to CPAN.  Congratulations!
All tests were successful.

Sections of this report:

    * Tester comments
    * Program output
    * Prerequisites
    * Environment and other context

------------------------------
TESTER COMMENTS
------------------------------

Additional comments from tester:

this report is from an automated smoke testing program
and was not reviewed by a human for accuracy

------------------------------
PROGRAM OUTPUT
------------------------------

Output from '/usr/bin/make test':

PERL_DL_NONLAZY=1 "/tmp/basesmoker-reloperl-FbTS/bin/perl" "-MExtUtils::Command::MM" "-MTest::Harness" "-e" "undef *Test::Harness::Switches; test_harness(0, 'blib/lib', 'blib/arch')" t/*.t
# Testing Data::Session V 1.18
# Using autovivification V 0.18
# Using CGI V 4.54
# Using Class::Load V 0.25
# Using Config::Tiny V 2.28
# Using Data::Dumper V 2.186
# Using Data::UUID V 1.226
# Using DBD::SQLite V 1.70
# Using DBI V 1.643
# Using DBIx::Admin::CreateTable V 2.11
# Using Digest::MD5 V 2.58
# Using Digest::SHA V 6.03
# Using Fcntl V 1.15
# Using File::Basename V 2.85
# Using File::Path V 2.18
# Using File::Slurper V 0.013
# Using File::Spec V 3.86
# Using File::Temp V 0.2311
# Using FreezeThaw V 0.5001
# Using Hash::FieldHash V 0.15
# Using JSON V 4.09
# Using overload V 1.35
# Using parent V 0.238
# Using Safe V 2.43
# Using Scalar::Util V 1.63
# Using Storable V 3.27
# Using strict V 1.12
# Using Try::Tiny V 0.31
# Using vars V 1.05
# Using warnings V 1.58
# Using YAML::Tiny V 1.73
t/00.versions.t .. ok
# Test: File.1. DSN: dbi:File:. ID generator: AutoIncrement. Serializer: DataDumper
# id 1: 1002
# Test: File.1. DSN: dbi:File:. ID generator: AutoIncrement. Serializer: FreezeThaw
# id 1: 1008
# Test: File.1. DSN: dbi:File:. ID generator: AutoIncrement. Serializer: JSON
# id 1: 1014
# Test: File.1. DSN: dbi:File:. ID generator: AutoIncrement. Serializer: Storable
# id 1: 1020
# Test: File.1. DSN: dbi:File:. ID generator: AutoIncrement. Serializer: YAML
# id 1: 1026
# Test: File.1. DSN: dbi:File:. ID generator: MD5. Serializer: DataDumper
# id 1: a6f267ce952e0dc2498ac7e55c238caf
# Test: File.1. DSN: dbi:File:. ID generator: MD5. Serializer: FreezeThaw
# id 1: 059ea510293375db0ba29beec992d75c
# Test: File.1. DSN: dbi:File:. ID generator: MD5. Serializer: JSON
# id 1: 5b923670e5288b230634097a7486a7d3
# Test: File.1. DSN: dbi:File:. ID generator: MD5. Serializer: Storable
# id 1: 9d042560feb04a29bdf38cc8a5b2a57d
# Test: File.1. DSN: dbi:File:. ID generator: MD5. Serializer: YAML
# id 1: ddb31cf66c2b87dc072fef105721d01c
# Test: File.1. DSN: dbi:File:. ID generator: SHA1. Serializer: DataDumper
# id 1: 1039d0ff0808b67c658b038d4baca56d85ee9637
# Test: File.1. DSN: dbi:File:. ID generator: SHA1. Serializer: FreezeThaw
# id 1: 0ffe8c4a6eb9182c43946cf3642d6d81d617e53d
# Test: File.1. DSN: dbi:File:. ID generator: SHA1. Serializer: JSON
# id 1: cd3b0a3928daf5b9f5a944f9b841e4f30460e36f
# Test: File.1. DSN: dbi:File:. ID generator: SHA1. Serializer: Storable
# id 1: 5290cf5a91a89e0b3d06c749abf32f4f68df3788
# Test: File.1. DSN: dbi:File:. ID generator: SHA1. Serializer: YAML
# id 1: b3ee9d3fc8c6c12619bfa90afcc30a382b3a099e
# Test: File.1. DSN: dbi:File:. ID generator: SHA256. Serializer: DataDumper
# id 1: 628bfb2ab2c744f69d0e47f0e1402ba22df206bd2fc2a0d93cb4a0e0723d228d
# Test: File.1. DSN: dbi:File:. ID generator: SHA256. Serializer: FreezeThaw
# id 1: 0c95d08b68c67875e3198cd136f2ede59748384953d5556a7ff94b75829fc09a
# Test: File.1. DSN: dbi:File:. ID generator: SHA256. Serializer: JSON
# id 1: 3f8a5a5f8e570245c1b21c7593d5ab23fec29e2f4b77cdb48fa3e8f22e848d8d
# Test: File.1. DSN: dbi:File:. ID generator: SHA256. Serializer: Storable
# id 1: 98bddbf295d0fe1061851c51d87e6c796449bef7e6656d726babee04c00e1438
# Test: File.1. DSN: dbi:File:. ID generator: SHA256. Serializer: YAML
# id 1: a650fffa96208ec08b81c1b5f47de59a42e3192450b6fb5e91dfe7c9e31b0fe0
# Test: File.1. DSN: dbi:File:. ID generator: SHA512. Serializer: DataDumper
# id 1: 5e2f4aa480eac9689befad1bb104f08634a01d0cddda3c20bb1e169fee144f1392fbe7703fd9205c4d6548a56b0cc29e16813faaad12c3187de0d7b4ff2c1f4b
# Test: File.1. DSN: dbi:File:. ID generator: SHA512. Serializer: FreezeThaw
# id 1: b40693b1450a4ebf89fd04ab99521f10226aa263bb8c80366dc790e81c17af289fa5ba19dbdf202be91d93ca6b246e0711ca90f06da6ee31eff8ab93bb2a905c
# Test: File.1. DSN: dbi:File:. ID generator: SHA512. Serializer: JSON
# id 1: 799d37166d513b33f95a16f959b1566bb5757e7cccb30d595228a44a17cb240b1afeb48cc5770b2e491ac64f5dd2a7af21009bd2234f2a7d33f6ffb4a83fe308
# Test: File.1. DSN: dbi:File:. ID generator: SHA512. Serializer: Storable
# id 1: 85918cc49afbe942c2123ab0e60f4d052e0e67ec4f367888daed29b34db75a3520270f09b7a73a70bdffe6cd0079848a8c3843d333fd6a7a954f221e744217b1
# Test: File.1. DSN: dbi:File:. ID generator: SHA512. Serializer: YAML
# id 1: 4091e4e0968ed563719b5e5fe8e69fbe8cdfc547de7ca809afd26aa4f5602151666e91e6ac1b5952d4011532a7514a2ddbb4cf312c8e57969565b11b1be985d8
# Test: File.1. DSN: dbi:File:. ID generator: Static. Serializer: DataDumper
# id 1: 1234
# Test: File.1. DSN: dbi:File:. ID generator: Static. Serializer: FreezeThaw
# id 1: 1234
# Test: File.1. DSN: dbi:File:. ID generator: Static. Serializer: JSON
# id 1: 1234
# Test: File.1. DSN: dbi:File:. ID generator: Static. Serializer: Storable
# id 1: 1234
# Test: File.1. DSN: dbi:File:. ID generator: Static. Serializer: YAML
# id 1: 1234
# Test: File.1. DSN: dbi:File:. ID generator: UUID34. Serializer: DataDumper
# id 1: 0x0ACD0C8A2A0511ED98E0A8C021A89F68
# Test: File.1. DSN: dbi:File:. ID generator: UUID34. Serializer: FreezeThaw
# id 1: 0x0AD06C0E2A0511ED98E0A8C021A89F68
# Test: File.1. DSN: dbi:File:. ID generator: UUID34. Serializer: JSON
# id 1: 0x0AD349EC2A0511ED98E0A8C021A89F68
# Test: File.1. DSN: dbi:File:. ID generator: UUID34. Serializer: Storable
# id 1: 0x0AD635BC2A0511ED98E0A8C021A89F68
# Test: File.1. DSN: dbi:File:. ID generator: UUID34. Serializer: YAML
# id 1: 0x0ADC4F2E2A0511ED98E0A8C021A89F68
# Test: File.1. DSN: dbi:File:. ID generator: UUID36. Serializer: DataDumper
# id 1: 0AE2E758-2A05-11ED-98E0-A8C021A89F68
# Test: File.1. DSN: dbi:File:. ID generator: UUID36. Serializer: FreezeThaw
# id 1: 0AE855E4-2A05-11ED-98E0-A8C021A89F68
# Test: File.1. DSN: dbi:File:. ID generator: UUID36. Serializer: JSON
# id 1: 0AEE04F8-2A05-11ED-98E0-A8C021A89F68
# Test: File.1. DSN: dbi:File:. ID generator: UUID36. Serializer: Storable
# id 1: 0AF312CC-2A05-11ED-98E0-A8C021A89F68
# Test: File.1. DSN: dbi:File:. ID generator: UUID36. Serializer: YAML
# id 1: 0AF849EA-2A05-11ED-98E0-A8C021A89F68
# Skipping dsn 'dbi:SQLite:dbname=/tmp/sessions.sqlite' because the SQLite directory does not exist
# 
# Testing HTTP header generation
# 
# Testing expire the session. Sleeping for 1 second ...
# Expiring id: 0B0037EA-2A05-11ED-98E0-A8C021A89F68
# 
# Testing expire a session parameter. Sleeping for 1 second ...
t/basic.t ........ ok
# DSN name: File.1. DSN: dbi:File:. ID generator: MD5. Serializer: DataDumper
# id1: 22372c091b5816faed139cbd39ec313d
# 1: Recovered known id 906aed892f96cc7f2ac8c924f758dc13 from traverse
# 2: Recovered known id d763bd5bb99bb9743197e90c25e1090d from traverse
# 3: Recovered known id 155907e6c9f001893feb4bc22de3af36 from traverse
# 4: Recovered known id fd23d4b1c0c9670717928cee535393a0 from traverse
# Skipping dsn 'dbi:SQLite:dbname=/tmp/sessions.sqlite' because the SQLite directory does not exist
t/traverse.t ..... ok
All tests successful.
Files=3, Tests=52,  9 wallclock secs ( 0.07 usr  0.06 sys +  1.09 cusr  0.30 csys =  1.52 CPU)
Result: PASS

------------------------------
PREREQUISITES
------------------------------

Prerequisite modules loaded:

requires:

    Module                   Need     Have    
    ------------------------ -------- --------
    autovivification         0        0.18    
    CGI                      3.63     4.54    
    Class::Load              0.19     0.25    
    Config::Tiny             2.14     2.28    
    Data::Dumper             2.145    2.186   
    Data::UUID               1.218    1.226   
    DBD::SQLite              1.39     1.70    
    DBI                      1.627    1.643   
    DBIx::Admin::CreateTable 2.07     2.11    
    Digest::MD5              2.52     2.58    
    Digest::SHA              5.84     6.03    
    Fcntl                    1.06     1.15    
    File::Basename           2.77     2.85    
    File::Path               2.07     2.18    
    File::Slurper            0.012    0.013   
    File::Spec               3.3      3.86    
    File::Temp               0.22     0.2311  
    FreezeThaw               0.5001   0.5001  
    Hash::FieldHash          0.14     0.15    
    JSON                     2.59     4.09    
    overload                 0        1.35    
    parent                   0        0.238   
    Safe                     2.35     2.43    
    Scalar::Util             1.27     1.63    
    Storable                 2.39     3.27    
    strict                   0        1.12    
    Try::Tiny                0.12     0.31    
    vars                     0        1.05    
    warnings                 0        1.58    
    YAML::Tiny               1.51     1.73    

build_requires:

    Module                   Need     Have    
    ------------------------ -------- --------
    ExtUtils::MakeMaker      0        7.64    
    Test::More               1.001014 1.302191
    Test::Pod                1.48     1.52    

configure_requires:

    Module                   Need     Have    
    ------------------------ -------- --------
    ExtUtils::MakeMaker      0        7.64    


------------------------------
ENVIRONMENT AND OTHER CONTEXT
------------------------------

Environment variables:

    AUTOMATED_TESTING = 1
    LANG = en_US.UTF-8
    LANGUAGE = en_US:en
    PATH = /home/sand/bin:/usr/local/bin:/usr/bin:/bin:/usr/games:/usr/local/perl/bin:/usr/X11/bin:/sbin:/usr/sbin
    PERL5LIB = 
    PERL5OPT = 
    PERL5_CPANPLUS_IS_RUNNING = 3591734
    PERL5_CPAN_IS_RUNNING = 3591734
    PERL_CANARY_STABILITY_NOPROMPT = 1
    PERL_MM_USE_DEFAULT = 1
    PERL_USE_UNSAFE_INC = 1
    SHELL = /usr/bin/zsh
    TERM = screen

Perl special variables (and OS-specific diagnostics, for MSWin32):

    $^X = /tmp/basesmoker-reloperl-FbTS/bin/perl
    $UID/$EUID = 1005 / 1005
    $GID = 1005 1005
    $EGID = 1005 1005

Perl module toolchain versions installed:

    Module              Have    
    ------------------- --------
    CPAN                2.34    
    CPAN::Meta          2.150010
    Cwd                 3.86    
    ExtUtils::CBuilder  0.280237
    ExtUtils::Command   7.64    
    ExtUtils::Install   2.20    
    ExtUtils::MakeMaker 7.64    
    ExtUtils::Manifest  1.73    
    ExtUtils::ParseXS   3.45    
    File::Spec          3.86    
    JSON                4.09    
    JSON::PP            4.11    
    Module::Build       0.4231  
    Module::Signature   0.88    
    Parse::CPAN::Meta   2.150010
    Test::Harness       3.44    
    Test::More          1.302191
    YAML                1.30    
    YAML::Syck          1.34    
    version             0.9929  


--

Summary of my perl5 (revision 5 version 37 subversion 3) configuration:
  Commit id: 29b290ccaa79f40de7d941c9a79810119f5c6363
  Platform:
    osname=linux
    osvers=5.18.0-4-amd64
    archname=x86_64-linux-thread-multi
    uname='linux k93msid 5.18.0-4-amd64 #1 smp preempt_dynamic debian 5.18.16-1 (2022-08-10) x86_64 gnulinux '
    config_args='-Dprefix=/home/sand/src/perl/repoperls/installed-perls/host/k93msid/v5.37.2-224-g29b290ccaa/29fb -Dmyhostname=k93msid -Dinstallusrbinperl=n -Uversiononly -Dusedevel -des -Ui_db -Dlibswanted=cl pthread socket inet nsl gdbm dbm malloc dl ld sun m crypt sec util c cposix posix ucb BSD gdbm_compat -Duseithreads -Uuselongdouble -DEBUGGING=both'
    hint=recommended
    useposix=true
    d_sigaction=define
    useithreads=define
    usemultiplicity=define
    use64bitint=define
    use64bitall=define
    uselongdouble=undef
    usemymalloc=n
    default_inc_excludes_dot=define
  Compiler:
    cc='cc'
    ccflags ='-D_REENTRANT -D_GNU_SOURCE -fwrapv -DDEBUGGING -fno-strict-aliasing -pipe -fstack-protector-strong -I/usr/local/include -D_LARGEFILE_SOURCE -D_FILE_OFFSET_BITS=64 -D_FORTIFY_SOURCE=2'
    optimize='-O2 -g'
    cppflags='-D_REENTRANT -D_GNU_SOURCE -fwrapv -DDEBUGGING -fno-strict-aliasing -pipe -fstack-protector-strong -I/usr/local/include'
    ccversion=''
    gccversion='12.1.0'
    gccosandvers=''
    intsize=4
    longsize=8
    ptrsize=8
    doublesize=8
    byteorder=12345678
    doublekind=3
    d_longlong=define
    longlongsize=8
    d_longdbl=define
    longdblsize=16
    longdblkind=3
    ivtype='long'
    ivsize=8
    nvtype='double'
    nvsize=8
    Off_t='off_t'
    lseeksize=8
    alignbytes=8
    prototype=define
  Linker and Libraries:
    ld='cc'
    ldflags =' -fstack-protector-strong -L/usr/local/lib'
    libpth=/usr/local/lib /usr/lib/x86_64-linux-gnu /usr/lib /usr/lib64
    libs=-lpthread -lnsl -ldl -lm -lcrypt -lutil -lc
    perllibs=-lpthread -lnsl -ldl -lm -lcrypt -lutil -lc
    libc=/lib/x86_64-linux-gnu/libc.so.6
    so=so
    useshrplib=false
    libperl=libperl.a
    gnulibc_version='2.34'
  Dynamic Linking:
    dlsrc=dl_dlopen.xs
    dlext=so
    d_dlsymun=undef
    ccdlflags='-Wl,-E'
    cccdlflags='-fPIC'
    lddlflags='-shared -O2 -g -L/usr/local/lib -fstack-protector-strong'


Characteristics of this binary (from libperl): 
  Compile-time options:
    DEBUGGING
    HAS_TIMES
    MULTIPLICITY
    PERLIO_LAYERS
    PERL_COPY_ON_WRITE
    PERL_DONT_CREATE_GVSV
    PERL_HASH_FUNC_SIPHASH13
    PERL_HASH_USE_SBOX32
    PERL_MALLOC_WRAP
    PERL_OP_PARENT
    PERL_PRESERVE_IVUV
    PERL_TRACK_MEMPOOL
    PERL_USE_DEVEL
    PERL_USE_SAFE_PUTENV
    USE_64_BIT_ALL
    USE_64_BIT_INT
    USE_ITHREADS
    USE_LARGE_FILES
    USE_LOCALE
    USE_LOCALE_COLLATE
    USE_LOCALE_CTYPE
    USE_LOCALE_NUMERIC
    USE_LOCALE_TIME
    USE_PERLIO
    USE_PERL_ATOF
    USE_REENTRANT_API
    USE_THREAD_SAFE_LOCALE
  Built under linux
  Compiled at Aug 21 2022 00:23:47
  %ENV:
    PERL5LIB=""
    PERL5OPT=""
    PERL5_CPANPLUS_IS_RUNNING="3591734"
    PERL5_CPAN_IS_RUNNING="3591734"
    PERL_CANARY_STABILITY_NOPROMPT="1"
    PERL_MM_USE_DEFAULT="1"
    PERL_USE_UNSAFE_INC="1"
  @INC:
    /home/sand/src/perl/repoperls/installed-perls/host/k93msid/v5.37.2-224-g29b290ccaa/29fb/lib/site_perl/5.37.3/x86_64-linux-thread-multi
    /home/sand/src/perl/repoperls/installed-perls/host/k93msid/v5.37.2-224-g29b290ccaa/29fb/lib/site_perl/5.37.3
    /home/sand/src/perl/repoperls/installed-perls/host/k93msid/v5.37.2-224-g29b290ccaa/29fb/lib/5.37.3/x86_64-linux-thread-multi
    /home/sand/src/perl/repoperls/installed-perls/host/k93msid/v5.37.2-224-g29b290ccaa/29fb/lib/5.37.3
    .