DBIx-Class-Schema-PopulateMore v0.19 Perl 5 v5.30.3 sparc64-openbsd
- Status
- Pass
- From
- Dist
-
DBIx-Class-Schema-PopulateMore v0.19
- Platform
- Perl 5 v5.30.3 sparc64-openbsd
- Date
- 2021-01-02 04:22:16
- ID
- 18a37bdc-4cb2-11eb-9cdc-c0e3f433e05f
This distribution has been tested as part of the CPAN Testers
project, supporting the Perl programming language. See
http://wiki.cpantesters.org/ for more information or email
questions to cpan-testers-discuss@perl.org
--
Dear John Napiorkowski,
This is a computer-generated report for DBIx-Class-Schema-PopulateMore-0.19
on perl 5.30.3, created by CPAN-Reporter-1.2018.
Thank you for uploading your work to CPAN. Congratulations!
All tests were successful.
Sections of this report:
* Tester comments
* Program output
* Prerequisites
* Environment and other context
------------------------------
TESTER COMMENTS
------------------------------
Additional comments from tester:
this report is from an automated smoke testing program
and was not reviewed by a human for accuracy
------------------------------
PROGRAM OUTPUT
------------------------------
Output from '/usr/bin/make test':
PERL_DL_NONLAZY=1 "/usr/bin/perl" "-MExtUtils::Command::MM" "-MTest::Harness" "-e" "undef *Test::Harness::Switches; test_harness(0, 'inc', 'blib/lib', 'blib/arch')" t/*.t
# Testing DBIx::Class::Schema::PopulateMore 0.19, Perl 5.030003, /usr/bin/perl
t/00-load.t .......... ok
# Created Datebase with dbi:SQLite:dbname=:memory:
DBIx::Class::Storage::DBI::insert(): Missing value for primary key column 'gender_id' on Gender - perhaps you forgot to set its 'is_auto_increment' attribute during add_columns()? Treating 'gender_id' implicitly as an autoinc, and attempting value retrieval at t/01-schema.t line 84
DBIx::Class::Storage::DBI::insert(): Missing value for primary key column 'person_id' on Person - perhaps you forgot to set its 'is_auto_increment' attribute during add_columns()? Treating 'person_id' implicitly as an autoinc, and attempting value retrieval at t/01-schema.t line 84
DBIx::Class::Storage::DBI::insert(): Missing value for primary key column 'company_id' on Company - perhaps you forgot to set its 'is_auto_increment' attribute during add_columns()? Treating 'company_id' implicitly as an autoinc, and attempting value retrieval at t/01-schema.t line 84
DBIx::Class::Storage::DBI::insert(): Missing value for primary key column 'employment_history_id' on EmploymentHistory - perhaps you forgot to set its 'is_auto_increment' attribute during add_columns()? Treating 'employment_history_id' implicitly as an autoinc, and attempting value retrieval at t/01-schema.t line 84
DBIx::Class::Storage::DBI::insert(): Missing value for primary key column 'person_id' on Person - perhaps you forgot to set its 'is_auto_increment' attribute during add_columns()? Treating 'person_id' implicitly as an autoinc, and attempting value retrieval at t/01-schema.t line 197
DBIx::Class::Storage::DBI::insert(): Missing value for primary key column 'person_id' on Person - perhaps you forgot to set its 'is_auto_increment' attribute during add_columns()? Treating 'person_id' implicitly as an autoinc, and attempting value retrieval at t/01-schema.t line 207
DBIx::Class::Storage::DBI::insert(): Missing value for primary key column 'gender_id' on Gender - perhaps you forgot to set its 'is_auto_increment' attribute during add_columns()? Treating 'gender_id' implicitly as an autoinc, and attempting value retrieval at t/01-schema.t line 213
DBIx::Class::Storage::DBI::insert(): Missing value for primary key column 'person_id' on Person - perhaps you forgot to set its 'is_auto_increment' attribute during add_columns()? Treating 'person_id' implicitly as an autoinc, and attempting value retrieval at t/01-schema.t line 213
t/01-schema.t ........ ok
# Created Datebase with dbi:SQLite:dbname=:memory:
DBIx::Class::Storage::DBI::insert(): Missing value for primary key column 'gender_id' on Gender - perhaps you forgot to set its 'is_auto_increment' attribute during add_columns()? Treating 'gender_id' implicitly as an autoinc, and attempting value retrieval at t/02-yaml_example.t line 34
DBIx::Class::Storage::DBI::insert(): Missing value for primary key column 'person_id' on Person - perhaps you forgot to set its 'is_auto_increment' attribute during add_columns()? Treating 'person_id' implicitly as an autoinc, and attempting value retrieval at t/02-yaml_example.t line 34
DBIx::Class::Storage::DBI::insert(): Missing value for primary key column 'company_id' on Company - perhaps you forgot to set its 'is_auto_increment' attribute during add_columns()? Treating 'company_id' implicitly as an autoinc, and attempting value retrieval at t/02-yaml_example.t line 34
DBIx::Class::Storage::DBI::insert(): Missing value for primary key column 'employment_history_id' on EmploymentHistory - perhaps you forgot to set its 'is_auto_increment' attribute during add_columns()? Treating 'employment_history_id' implicitly as an autoinc, and attempting value retrieval at t/02-yaml_example.t line 34
t/02-yaml_example.t .. ok
All tests successful.
Files=3, Tests=90, 13 wallclock secs ( 0.11 usr 0.12 sys + 10.59 cusr 1.45 csys = 12.27 CPU)
Result: PASS
------------------------------
PREREQUISITES
------------------------------
Prerequisite modules loaded:
requires:
Module Need Have
------------------------ -------- --------
DateTimeX::Easy 0.089 0.089
List::MoreUtils 0.30 0.428
Module::Pluggable 3.9 5.2
Moo 1.004006 2.004004
MooX::HandlesVia 0.001005 0.001009
parent 0.224 0.237
perl 5.008005 5.030003
Scalar::Util 1.35 1.55
Type::Tiny 0.042 1.012000
build_requires:
Module Need Have
------------------------ -------- --------
DateTime::Format::SQLite 0.11 0.11
DBIx::Class 0.08127 0.082842
ExtUtils::MakeMaker 6.59 7.58
File::Find 0 1.36
Path::Class 0.23 0.37
SQL::Translator 0.11020 1.62
Test::More 0.98 1.302183
YAML::Tiny 1.48 1.73
configure_requires:
Module Need Have
------------------------ -------- --------
ExtUtils::MakeMaker 6.59 7.58
------------------------------
ENVIRONMENT AND OTHER CONTEXT
------------------------------
Environment variables:
AUTOMATED_TESTING = 1
NONINTERACTIVE_TESTING = 1
PATH = /home/smoker/perl/system/bin:/home/smoker/.plenv/libexec:/home/smoker/.plenv/plugins/perl-build/bin:/home/smoker/.plenv/plugins/plenv-contrib/bin:/home/smoker/.plenv/shims:/home/smoker/.plenv/bin:/home/smoker/bin:/bin:/sbin:/usr/bin:/usr/sbin:/usr/X11R6/bin:/usr/local/bin:/usr/local/sbin:/usr/games
PERL5LIB = /home/smoker/perl/system/lib/perl5
PERL5OPT =
PERL5_CPANPLUS_IS_RUNNING = 79934
PERL5_CPAN_IS_RUNNING = 79934
PERL5_CPAN_IS_RUNNING_IN_RECURSION = 379,79934
PERL_CARTON_PATH = /home/afresh1/cpan-smoker-setup/local/system
PERL_CR_SMOKER_CURRENT = DBIx-Class-Smooth-0.0108
PERL_EXTUTILS_AUTOINSTALL = --defaultdeps
PERL_LOCAL_LIB_ROOT = /home/smoker/perl/system
PERL_MB_OPT = --install_base '/home/smoker/perl/system'
PERL_MM_OPT = INSTALL_BASE=/home/smoker/perl/system
PERL_MM_USE_DEFAULT = 1
PERL_USE_UNSAFE_INC = 1
SHELL = /bin/ksh
TERM = screen
Perl special variables (and OS-specific diagnostics, for MSWin32):
$^X = /usr/bin/perl
$UID/$EUID = 900 / 900
$GID = 900 900
$EGID = 900 900
Perl module toolchain versions installed:
Module Have
------------------- --------
CPAN 2.22
CPAN::Meta 2.150010
Cwd 3.78
ExtUtils::CBuilder 0.280231
ExtUtils::Command 7.58
ExtUtils::Install 2.20
ExtUtils::MakeMaker 7.58
ExtUtils::Manifest 1.72
ExtUtils::ParseXS 3.40
File::Spec 3.78
JSON 4.02
JSON::PP 4.05
Module::Build 0.4231
Module::Signature 0.87
Parse::CPAN::Meta 2.150010
Test::Harness 3.42
Test::More 1.302183
YAML 1.26
YAML::Syck 1.34
version 0.9924
--
Summary of my perl5 (revision 5 version 30 subversion 3) configuration:
Platform:
osname=openbsd
osvers=6.8
archname=sparc64-openbsd
uname='openbsd'
config_args='-dse -Dopenbsd_distribution=defined -Dmksymlinks'
hint=recommended
useposix=true
d_sigaction=define
useithreads=undef
usemultiplicity=undef
use64bitint=define
use64bitall=define
uselongdouble=undef
usemymalloc=n
default_inc_excludes_dot=define
bincompat5005=undef
Compiler:
cc='cc'
ccflags ='-DNO_LOCALE_NUMERIC -DNO_LOCALE_COLLATE -fno-strict-aliasing -fno-delete-null-pointer-checks -pipe -fstack-protector-strong -D_FORTIFY_SOURCE=2 -I/usr/local/include'
optimize='-O2'
cppflags='-DBIG_TIME -DNO_LOCALE_NUMERIC -DNO_LOCALE_COLLATE -fno-strict-aliasing -fno-delete-null-pointer-checks -pipe -fstack-protector-strong -I/usr/local/include'
ccversion=''
gccversion='4.2.1 20070719 '
gccosandvers='openbsd6.8'
intsize=4
longsize=8
ptrsize=8
doublesize=8
byteorder=87654321
doublekind=4
d_longlong=define
longlongsize=8
d_longdbl=define
longdblsize=16
longdblkind=2
ivtype='long'
ivsize=8
nvtype='double'
nvsize=8
Off_t='off_t'
lseeksize=8
alignbytes=8
prototype=define
Linker and Libraries:
ld='cc'
ldflags ='-Wl,-E -fstack-protector-strong -L/usr/local/lib'
libpth=/usr/lib /usr/lib
libs=-lm -lc
perllibs=-lm -lc
libc=/usr/lib/libc.so.96.0
so=so
useshrplib=true
libperl=libperl.so.20.0
gnulibc_version=''
Dynamic Linking:
dlsrc=dl_dlopen.xs
dlext=so
d_dlsymun=undef
ccdlflags='-Wl,-R/usr/libdata/perl5/sparc64-openbsd/CORE'
cccdlflags='-DPIC -fPIC '
lddlflags='-shared -fPIC -fstack-protector-strong -L/usr/local/lib'
Characteristics of this binary (from libperl):
Compile-time options:
HAS_TIMES
PERLIO_LAYERS
PERL_COPY_ON_WRITE
PERL_DONT_CREATE_GVSV
PERL_MALLOC_WRAP
PERL_OP_PARENT
PERL_PRESERVE_IVUV
USE_64_BIT_ALL
USE_64_BIT_INT
USE_LARGE_FILES
USE_LOCALE
USE_LOCALE_CTYPE
USE_LOCALE_TIME
USE_PERLIO
USE_PERL_ATOF
Built under openbsd
%ENV:
PERL5LIB="/home/smoker/perl/system/lib/perl5"
PERL5OPT=""
PERL5_CPANPLUS_IS_RUNNING="79934"
PERL5_CPAN_IS_RUNNING="79934"
PERL5_CPAN_IS_RUNNING_IN_RECURSION="379,79934"
PERL_CARTON_PATH="/home/afresh1/cpan-smoker-setup/local/system"
PERL_CR_SMOKER_CURRENT="DBIx-Class-Smooth-0.0108"
PERL_EXTUTILS_AUTOINSTALL="--defaultdeps"
PERL_LOCAL_LIB_ROOT="/home/smoker/perl/system"
PERL_MB_OPT="--install_base '/home/smoker/perl/system'"
PERL_MM_OPT="INSTALL_BASE=/home/smoker/perl/system"
PERL_MM_USE_DEFAULT="1"
PERL_USE_UNSAFE_INC="1"
@INC:
/home/smoker/perl/system/lib/perl5/sparc64-openbsd
/home/smoker/perl/system/lib/perl5
/usr/local/libdata/perl5/site_perl/sparc64-openbsd
/usr/local/libdata/perl5/site_perl
/usr/libdata/perl5/sparc64-openbsd
/usr/libdata/perl5
.