Dist-Zilla-Plugin-StaticInstall v0.012 Perl 5 v5.26.3 x86_64-linux
- Status
- Pass
- From
- Slaven Rezić (SREZIC)
- Dist
-
Dist-Zilla-Plugin-StaticInstall v0.012
- Platform
- Perl 5 v5.26.3 x86_64-linux
- Date
- 2018-12-01 03:13:38
- ID
- 18ae199c-f517-11e8-9b08-c1d4ba3a35b8
This distribution has been tested as part of the CPAN Testers
project, supporting the Perl programming language. See
http://wiki.cpantesters.org/ for more information or email
questions to cpan-testers-discuss@perl.org
--
Dear Karen Etheridge,
This is a computer-generated report for Dist-Zilla-Plugin-StaticInstall-0.012
on perl 5.26.3, created by CPAN-Reporter-1.2018.
Thank you for uploading your work to CPAN. Congratulations!
All tests were successful.
Sections of this report:
* Tester comments
* Program output
* Prerequisites
* Environment and other context
------------------------------
TESTER COMMENTS
------------------------------
Additional comments from tester:
none provided
------------------------------
PROGRAM OUTPUT
------------------------------
Output from './Build test':
#
# Versions for all modules listed in MYMETA.json (including optional ones):
#
# === Configure Requires ===
#
# Module Want Have
# ------------------- ----- -----
# Module::Build::Tiny 0.034 0.039
#
# === Test Requires ===
#
# Module Want Have
# ------------------------------- ---- --------
# Dist::Zilla::Role::FileMunger any 6.012
# Dist::Zilla::Role::PrereqSource any 6.012
# File::Spec any 3.67
# Module::Metadata any 1.000033
# Module::Runtime any 0.016
# Test::DZil any 6.012
# Test::Deep any 1.128
# Test::Fatal any 0.014
# Test::More 0.96 1.302140
# Test::Needs any 0.002005
# if any 0.0606
# lib any 0.64
#
# === Test Recommends ===
#
# Module Want Have
# ---------- -------- --------
# CPAN::Meta 2.120900 2.150010
#
# === Runtime Requires ===
#
# Module Want Have
# ------------------------------- -------- -------
# Dist::Zilla 4.300039 6.012
# Dist::Zilla::Role::InstallTool any 6.012
# Dist::Zilla::Role::MetaProvider any 6.012
# List::Util 1.33 1.46_02
# Moose any 2.2011
# Moose::Util::TypeConstraints any 2.2011
# MooseX::Types::Moose any 0.50
# Path::Tiny any 0.108
# Scalar::Util any 1.46_02
# Term::ANSIColor 3.00 4.06
# autovivification any 0.18
# namespace::autoclean any 0.28
# strict any 1.11
# warnings any 1.37
#
# === Other Modules ===
#
# Module Have
# ---------------------------------------------- --------
# CPAN::Meta 2.150010
# CPAN::Meta::Merge 2.150010
# Dist::Zilla::Plugin::MakeMaker::Awesome missing
# Dist::Zilla::Plugin::MakeMaker::Fallback missing
# Dist::Zilla::Plugin::ModuleBuildTiny missing
# Dist::Zilla::Plugin::ModuleBuildTiny::Fallback missing
# Encode 2.98
# File::Temp 0.2308
# JSON::PP 2.97001
# Module::Runtime 0.016
# Pod::Coverage 0.23
# Sub::Name 0.21
# YAML 1.27
# autodie 2.29
#
t/00-report-prereqs.t .... ok
t/01-basic.t ............. ok
t/02-auto.t .............. ok
t/03-dry_run.t ........... ok
t/04-on-fatal.t .......... ok
t/05-mbt-auto.t .......... skipped: Need Dist::Zilla::Plugin::ModuleBuildTiny 0.011
t/06-off-notfatal.t ...... ok
t/07-two-sources-good.t .. ok
t/08-two-sources-bad.t ... ok
t/09-two-sources-ugly.t .. ok
t/10-dry_run-not-auto.t .. ok
t/zzz-check-breaks.t ..... ok
All tests successful.
Files=12, Tests=55, 13 wallclock secs ( 0.07 usr 0.03 sys + 10.39 cusr 0.85 csys = 11.34 CPU)
Result: PASS
------------------------------
PREREQUISITES
------------------------------
Prerequisite modules loaded:
requires:
Module Need Have
------------------------------- -------- --------
autovivification 0 0.18
Dist::Zilla 4.300039 6.012
Dist::Zilla::Role::InstallTool 0 6.012
Dist::Zilla::Role::MetaProvider 0 6.012
List::Util 1.33 1.46_02
Moose 0 2.2011
Moose::Util::TypeConstraints 0 2.2011
MooseX::Types::Moose 0 0.50
namespace::autoclean 0 0.28
Path::Tiny 0 0.108
perl 5.006 5.026003
Scalar::Util 0 1.46_02
strict 0 1.11
Term::ANSIColor 3.00 4.06
warnings 0 1.37
build_requires:
Module Need Have
------------------------------- -------- --------
Dist::Zilla::Role::FileMunger 0 6.012
Dist::Zilla::Role::PrereqSource 0 6.012
File::Spec 0 3.67
if 0 0.0606
lib 0 0.64
Module::Metadata 0 1.000033
Module::Runtime 0 0.016
perl 5.006 5.026003
Test::Deep 0 1.128
Test::DZil 0 6.012
Test::Fatal 0 0.014
Test::More 0.96 1.302140
Test::Needs 0 0.002005
configure_requires:
Module Need Have
------------------------------- -------- --------
Module::Build::Tiny 0.034 0.039
perl 5.006 5.026003
opt_build_requires:
Module Need Have
------------------------------- -------- --------
CPAN::Meta 2.120900 2.150010
------------------------------
ENVIRONMENT AND OTHER CONTEXT
------------------------------
Environment variables:
LANG = en_US.UTF-8
LC_ALL = de_DE.UTF-8
PATH = /usr/local/bin:/usr/bin:/bin:/usr/local/sbin:/usr/sbin:/sbin:/home/cpansand/bin/linux-gnu:/home/cpansand/bin/sh:/home/cpansand/bin:/usr/games:/home/cpansand/devel:/home/eserte/src/srezic-misc/scripts
PERL5LIB = /home/cpansand/.cpan/build/2018120104/autovivification-0.18-0/blib/arch:/home/cpansand/.cpan/build/2018120104/autovivification-0.18-0/blib/lib
PERL5OPT =
PERL5_CPANPLUS_IS_RUNNING = 15677
PERL5_CPAN_IS_RUNNING = 15677
PERL5_CPAN_IS_RUNNING_IN_RECURSION = 11109,15677
PERLDOC = -MPod::Perldoc::ToTextOverstrike
PERL_BATCH = yes
PERL_CANARY_STABILITY_NOPROMPT = 1
PERL_CPAN_REPORTER_CONFIG = /var/tmp/cpansmoker-1023/2018120101/cpanreporter_000_config.ini
PERL_EXTUTILS_AUTOINSTALL = --defaultdeps
PERL_PARALLEL_SMOKER = yes
PERL_USE_UNSAFE_INC = 1
SHELL = /usr/bin/zsh
TERM = screen
TMPDIR = /var/tmp/cpansmoker-1023/2018120101
Perl special variables (and OS-specific diagnostics, for MSWin32):
$^X = /opt/perl-5.26.3/bin/perl5.26.3
$UID/$EUID = 1023 / 1023
$GID = 1023 1023
$EGID = 1023 1023
Perl module toolchain versions installed:
Module Have
------------------- --------
CPAN 2.18
CPAN::Meta 2.150010
Cwd 3.67
ExtUtils::CBuilder 0.280225
ExtUtils::Command 7.24
ExtUtils::Install 2.04
ExtUtils::MakeMaker 7.24
ExtUtils::Manifest 1.70
ExtUtils::ParseXS 3.34
File::Spec 3.67
JSON 2.97001
JSON::PP 2.97001
Module::Build 0.4224
Module::Signature 0.83
Parse::CPAN::Meta 2.150010
Test::Harness 3.38
Test::More 1.302140
YAML 1.27
YAML::Syck 1.31
version 0.9917
--
Summary of my perl5 (revision 5 version 26 subversion 3) configuration:
Platform:
osname=linux
osvers=3.10.0-862.14.4.el7.x86_64
archname=x86_64-linux
uname='linux centos-4gb-hel1-1 3.10.0-862.14.4.el7.x86_64 #1 smp wed sep 26 15:12:11 utc 2018 x86_64 x86_64 x86_64 gnulinux '
config_args='-ds -e -Dprefix=/opt/perl-5.26.3 -Dcf_email=srezic@cpan.org'
hint=recommended
useposix=true
d_sigaction=define
useithreads=undef
usemultiplicity=undef
use64bitint=define
use64bitall=define
uselongdouble=undef
usemymalloc=n
default_inc_excludes_dot=define
bincompat5005=undef
Compiler:
cc='cc'
ccflags ='-fwrapv -fno-strict-aliasing -pipe -fstack-protector-strong -I/usr/local/include -D_LARGEFILE_SOURCE -D_FILE_OFFSET_BITS=64 -D_FORTIFY_SOURCE=2'
optimize='-O2'
cppflags='-fwrapv -fno-strict-aliasing -pipe -fstack-protector-strong -I/usr/local/include'
ccversion=''
gccversion='4.8.5 20150623 (Red Hat 4.8.5-28)'
gccosandvers=''
intsize=4
longsize=8
ptrsize=8
doublesize=8
byteorder=12345678
doublekind=3
d_longlong=define
longlongsize=8
d_longdbl=define
longdblsize=16
longdblkind=3
ivtype='long'
ivsize=8
nvtype='double'
nvsize=8
Off_t='off_t'
lseeksize=8
alignbytes=8
prototype=define
Linker and Libraries:
ld='cc'
ldflags =' -fstack-protector-strong -L/usr/local/lib'
libpth=/usr/local/lib /usr/lib /lib/../lib64 /usr/lib/../lib64 /lib /lib64 /usr/lib64 /usr/local/lib64
libs=-lpthread -lnsl -lgdbm -ldb -ldl -lm -lcrypt -lutil -lc -lgdbm_compat
perllibs=-lpthread -lnsl -ldl -lm -lcrypt -lutil -lc
libc=libc-2.17.so
so=so
useshrplib=false
libperl=libperl.a
gnulibc_version='2.17'
Dynamic Linking:
dlsrc=dl_dlopen.xs
dlext=so
d_dlsymun=undef
ccdlflags='-Wl,-E'
cccdlflags='-fPIC'
lddlflags='-shared -O2 -L/usr/local/lib -fstack-protector-strong'
Characteristics of this binary (from libperl):
Compile-time options:
HAS_TIMES
PERLIO_LAYERS
PERL_COPY_ON_WRITE
PERL_DONT_CREATE_GVSV
PERL_MALLOC_WRAP
PERL_OP_PARENT
PERL_PRESERVE_IVUV
USE_64_BIT_ALL
USE_64_BIT_INT
USE_LARGE_FILES
USE_LOCALE
USE_LOCALE_COLLATE
USE_LOCALE_CTYPE
USE_LOCALE_NUMERIC
USE_LOCALE_TIME
USE_PERLIO
USE_PERL_ATOF
Built under linux
Compiled at Nov 29 2018 22:53:06
%ENV:
PERL5LIB="/home/cpansand/.cpan/build/2018120104/autovivification-0.18-0/blib/arch:/home/cpansand/.cpan/build/2018120104/autovivification-0.18-0/blib/lib"
PERL5OPT=""
PERL5_CPANPLUS_IS_RUNNING="15677"
PERL5_CPAN_IS_RUNNING="15677"
PERL5_CPAN_IS_RUNNING_IN_RECURSION="11109,15677"
PERLDOC="-MPod::Perldoc::ToTextOverstrike"
PERL_BATCH="yes"
PERL_CANARY_STABILITY_NOPROMPT="1"
PERL_CPAN_REPORTER_CONFIG="/var/tmp/cpansmoker-1023/2018120101/cpanreporter_000_config.ini"
PERL_EXTUTILS_AUTOINSTALL="--defaultdeps"
PERL_PARALLEL_SMOKER="yes"
PERL_USE_UNSAFE_INC="1"
@INC:
/home/cpansand/.cpan/build/2018120104/autovivification-0.18-0/blib/arch
/home/cpansand/.cpan/build/2018120104/autovivification-0.18-0/blib/lib
/opt/perl-5.26.3/lib/site_perl/5.26.3/x86_64-linux
/opt/perl-5.26.3/lib/site_perl/5.26.3
/opt/perl-5.26.3/lib/5.26.3/x86_64-linux
/opt/perl-5.26.3/lib/5.26.3
.