Report for Net-LDAP-SimpleServer-0.0.17

Back
From: metabase:user:314402c4-2aae-11df-837a-5e0a49663a4f
Subject: PASS Net-LDAP-SimpleServer-0.0.17 v5.22.3 RC3 FreeBSD
Date: 2016-08-25T21:15:49Z

This distribution has been tested as part of the CPAN Testers
project, supporting the Perl programming language.  See
http://wiki.cpantesters.org/ for more information or email
questions to cpan-testers-discuss@perl.org


--
Dear Alexei Znamensky,

This is a computer-generated report for Net-LDAP-SimpleServer-0.0.17
on perl 5.22.3, created by CPAN-Reporter-1.2018.

Thank you for uploading your work to CPAN.  Congratulations!
All tests were successful.

Sections of this report:

    * Tester comments
    * Program output
    * Prerequisites
    * Environment and other context

------------------------------
TESTER COMMENTS
------------------------------

Additional comments from tester:

none provided

------------------------------
PROGRAM OUTPUT
------------------------------

Output from '/usr/bin/make test':

PERL_DL_NONLAZY=1 "/usr/perl5.22.3-RC3p/bin/perl5.22.3" "-MExtUtils::Command::MM" "-MTest::Harness" "-e" "undef *Test::Harness::Switches; test_harness(0, 'blib/lib', 'blib/arch')" t/*.t
t/00-compile.t ................ ok
t/00-load.t ................... ok
# 
# 
# Generated by Dist::Zilla::Plugin::ReportVersions::Tiny v1.05
# perl: v5.22.3 (wanted 5.010) on freebsd from /usr/perl5.22.3-RC3p/bin/perl5.22.3
# 
# Authen::SASL                                  => 2.16       (want any version)
# Carp                                          => 1.38       (want any version)
# Data::Dumper                                  => 2.161      (want any version)
# Exporter                                      => 5.72       (want any version)
# ExtUtils::MakeMaker                           => 7.24       (want 6.30)   
# File::Basename                                => 2.85       (want any version)
# File::Find                                    => 1.29       (want any version)
# File::HomeDir                                 => 1.00       (want any version)
# File::Path                                    => 2.12       (want 2.08)   
# File::Spec                                    => 3.62       (want any version)
# File::Temp                                    => 0.2304     (want any version)
# IO::Pipe                                      => 1.15       (want any version)
# Net::LDAP                                     => 0.65       (want any version)
# Net::LDAP::Constant                           => 0.23       (want any version)
# Net::LDAP::FilterMatch                        => 0.27       (want any version)
# Net::LDAP::LDIF                               => 0.26       (want any version)
# Net::LDAP::Server                             => 0.43       (want any version)
# Net::LDAP::Util                               => 0.19       (want any version)
# Net::Server                                   => 2.008      (want 2.003)  
# Proc::Fork                                    => 0.804      (want any version)
# Scalar::Util                                  => 1.45       (want any version)
# Test::More                                    => 1.302052   (want 0.88)   
# Test::UseAllModules                           => 0.17       (want any version)
# UNIVERSAL::isa                                => 1.20150614 (want any version)
# base                                          => 2.2201     (want any version)
# fields                                        => 2.17       (want any version)
# strict                                        => 1.09       (want any version)
# warnings                                      => 1.34       (want any version)
# 
# Thanks for using my code.  I hope it works for you.
# If not, please try and include this output in the bug report.
# That will help me reproduce the issue and solve your problem.
# 
t/000-report-versions-tiny.t .. ok
# Testing the constructor params for ProtocolHandler
t/05-handler.t ................ ok
# Testing the constructor params for LDIFStore
t/06-store.t .................. ok
# Starting server on port: 30389
# Starting server on port: 30389
# Net::Server error below:
# Starting server on port: 30389
Couldn't open conf "/no/such/file.conf" [No such file or directory]
# Starting server on port: 30389
# Starting server on port: 30389
# Starting server on port: 30389
# Starting server on port: 30389
# Starting server on port: 30389
# Starting server on port: 30389
# Starting server on port: 30389
t/13-param.t .................. ok
# Net::LDAP::SimpleServer Instantiating    [Fork]
# Net::LDAP::SimpleServer Starting :30389  [Fork]
# Net::LDAP::SimpleServer Testing         [Knive]
# Binding anonymously
# Binding with authentication
# Upper case bind DN
# Wrong password -> no bind
# Unsupported auth mechanism
# Net::LDAP::SimpleServer Instantiating    [Fork]
# Net::LDAP::SimpleServer Starting :30389  [Fork]
# Net::LDAP::SimpleServer Testing         [Knive]
# Binding anonymously
# Binding with authentication
t/14-bind.t ................... ok
# Net::LDAP::SimpleServer Instantiating    [Fork]
# Net::LDAP::SimpleServer Starting :30389  [Fork]
# Net::LDAP::SimpleServer Testing         [Knive]
t/15-search.t ................. ok
t/author-critic.t ............. skipped: these tests are for testing by the author
t/author-test-eol.t ........... skipped: these tests are for testing by the author
t/release-dist-manifest.t ..... skipped: these tests are for release candidate testing
t/release-distmeta.t .......... skipped: these tests are for release candidate testing
t/release-kwalitee.t .......... skipped: these tests are for release candidate testing
t/release-meta-json.t ......... skipped: these tests are for release candidate testing
t/release-minimum-version.t ... skipped: these tests are for release candidate testing
t/release-mojibake.t .......... skipped: these tests are for release candidate testing
t/release-no-tabs.t ........... skipped: these tests are for release candidate testing
t/release-pod-coverage.t ...... skipped: these tests are for release candidate testing
t/release-pod-linkcheck.t ..... skipped: these tests are for release candidate testing
t/release-pod-syntax.t ........ skipped: these tests are for release candidate testing
t/release-portability.t ....... skipped: these tests are for release candidate testing
t/release-test-version.t ...... skipped: these tests are for release candidate testing
t/release-unused-vars.t ....... skipped: these tests are for release candidate testing
All tests successful.
Files=23, Tests=57, 38 wallclock secs ( 0.03 usr  0.09 sys +  1.26 cusr  0.23 csys =  1.60 CPU)
Result: PASS

------------------------------
PREREQUISITES
------------------------------

Prerequisite modules loaded:

requires:

    Module                 Need  Have      
    ---------------------- ----- ----------
    base                   0     2.22_01   
    Carp                   0     1.38      
    Data::Dumper           0     2.161     
    fields                 0     2.17      
    File::Basename         0     2.85      
    File::HomeDir          0     1.00      
    File::Path             2.08  2.12      
    File::Spec             0     3.62      
    Net::LDAP::Constant    0     0.23      
    Net::LDAP::FilterMatch 0     0.27      
    Net::LDAP::LDIF        0     0.26      
    Net::LDAP::Server      0     0.43      
    Net::LDAP::Util        0     0.19      
    Net::Server            2.003 2.008     
    Scalar::Util           0     1.45      
    strict                 0     1.09      
    UNIVERSAL::isa         0     1.20150614
    warnings               0     1.34      

build_requires:

    Module                 Need  Have      
    ---------------------- ----- ----------
    Authen::SASL           0     2.16      
    Exporter               0     5.72      
    File::Find             0     1.29      
    File::Temp             0     0.2304    
    IO::Pipe               0     1.15      
    Net::LDAP              0     0.65      
    Proc::Fork             0     0.804     
    Test::More             0.88  1.302052  
    Test::UseAllModules    0     0.17      

configure_requires:

    Module                 Need  Have      
    ---------------------- ----- ----------
    ExtUtils::MakeMaker    6.30  7.24      


------------------------------
ENVIRONMENT AND OTHER CONTEXT
------------------------------

Environment variables:

    LC_ALL = de_DE.ISO8859-1
    PATH = /usr/local/bin:/usr/bin:/bin:/usr/local/sbin:/usr/sbin:/sbin:/home/cpansand/bin/freebsd10.1:/home/cpansand/bin/sh:/home/cpansand/bin:/usr/games:/home/cpansand/devel:/home/eserte/src/srezic-misc/scripts
    PERL5LIB = 
    PERL5OPT = 
    PERL5_CPANPLUS_IS_RUNNING = 50842
    PERL5_CPAN_IS_RUNNING = 50842
    PERL5_CPAN_IS_RUNNING_IN_RECURSION = 50643,50842
    PERLDOC = -MPod::Perldoc::ToTextOverstrike
    PERL_BATCH = yes
    PERL_CANARY_STABILITY_NOPROMPT = 1
    PERL_CPAN_REPORTER_CONFIG = /var/tmp/cpansmoker-1023/2016082521/cpanreporter_001_config.ini
    PERL_EXTUTILS_AUTOINSTALL = --defaultdeps
    SHELL = /usr/local/bin/zsh
    TERM = screen
    TMPDIR = /var/tmp/cpansmoker-1023/2016082521

Perl special variables (and OS-specific diagnostics, for MSWin32):

    $^X = /usr/perl5.22.3-RC3p/bin/perl5.22.3
    $UID/$EUID = 1023 / 1023
    $GID = 1023 1023
    $EGID = 1023 1023

Perl module toolchain versions installed:

    Module              Have      
    ------------------- ----------
    CPAN                2.14      
    CPAN::Meta          2.150010  
    Cwd                 3.62      
    ExtUtils::CBuilder  0.280221  
    ExtUtils::Command   7.24      
    ExtUtils::Install   2.04      
    ExtUtils::MakeMaker 7.24      
    ExtUtils::Manifest  1.70      
    ExtUtils::ParseXS   3.28      
    File::Spec          3.62      
    JSON                2.90      
    JSON::PP            2.27300_01
    Module::Build       0.4220    
    Module::Signature   0.80      
    Parse::CPAN::Meta   2.150010  
    Test::Harness       3.35_01   
    Test::More          1.302052  
    YAML                1.18      
    YAML::Syck          1.29      
    version             0.9917    


--

Summary of my perl5 (revision 5 version 22 subversion 3) configuration:
   
  Platform:
    osname=freebsd, osvers=10.1-release, archname=amd64-freebsd
    uname='freebsd cvrsnica-freebsd-101.herceg.de 10.1-release freebsd 10.1-release #0 r274401: tue nov 11 21:02:49 utc 2014 root@releng1.nyi.freebsd.org:usrobjusrsrcsysgeneric amd64 '
    config_args='-ds -e -Dprefix=/usr/perl5.22.3-RC3p -Dcf_email=srezic@cpan.org -Doptimize=-O2 -pipe'
    hint=recommended, useposix=true, d_sigaction=define
    useithreads=undef, usemultiplicity=undef
    use64bitint=define, use64bitall=define, uselongdouble=undef
    usemymalloc=n, bincompat5005=undef
  Compiler:
    cc='cc', ccflags ='-DHAS_FPSETMASK -DHAS_FLOATINGPOINT_H -fno-strict-aliasing -pipe -fstack-protector -I/usr/local/include -D_FORTIFY_SOURCE=2',
    optimize='-O2 -pipe',
    cppflags='-DHAS_FPSETMASK -DHAS_FLOATINGPOINT_H -fno-strict-aliasing -pipe -fstack-protector -I/usr/local/include'
    ccversion='', gccversion='4.2.1 Compatible FreeBSD Clang 3.4.1 (tags/RELEASE_34/dot1-final 208032)', gccosandvers=''
    intsize=4, longsize=8, ptrsize=8, doublesize=8, byteorder=12345678, doublekind=3
    d_longlong=define, longlongsize=8, d_longdbl=define, longdblsize=16, longdblkind=3
    ivtype='long', ivsize=8, nvtype='double', nvsize=8, Off_t='off_t', lseeksize=8
    alignbytes=8, prototype=define
  Linker and Libraries:
    ld='cc', ldflags ='-pthread -Wl,-E  -fstack-protector -L/usr/local/lib'
    libpth=/usr/lib /usr/local/lib /usr/include/clang/3.4.1 /usr/lib
    libs=-lpthread -lgdbm -lm -lcrypt -lutil -lc
    perllibs=-lpthread -lm -lcrypt -lutil -lc
    libc=, so=so, useshrplib=false, libperl=libperl.a
    gnulibc_version=''
  Dynamic Linking:
    dlsrc=dl_dlopen.xs, dlext=so, d_dlsymun=undef, ccdlflags=' '
    cccdlflags='-DPIC -fPIC', lddlflags='-shared  -L/usr/local/lib -fstack-protector'


Characteristics of this binary (from libperl): 
  Compile-time options: HAS_TIMES PERLIO_LAYERS PERL_DONT_CREATE_GVSV
                        PERL_HASH_FUNC_ONE_AT_A_TIME_HARD PERL_MALLOC_WRAP
                        PERL_NEW_COPY_ON_WRITE PERL_PRESERVE_IVUV
                        USE_64_BIT_ALL USE_64_BIT_INT USE_LARGE_FILES
                        USE_LOCALE USE_LOCALE_COLLATE USE_LOCALE_CTYPE
                        USE_LOCALE_NUMERIC USE_LOCALE_TIME USE_PERLIO
                        USE_PERL_ATOF
  Locally applied patches:
	RC3
  Built under freebsd
  Compiled at Aug 19 2016 22:29:51
  %ENV:
    PERL5LIB=""
    PERL5OPT=""
    PERL5_CPANPLUS_IS_RUNNING="50842"
    PERL5_CPAN_IS_RUNNING="50842"
    PERL5_CPAN_IS_RUNNING_IN_RECURSION="50643,50842"
    PERLDOC="-MPod::Perldoc::ToTextOverstrike"
    PERL_BATCH="yes"
    PERL_CANARY_STABILITY_NOPROMPT="1"
    PERL_CPAN_REPORTER_CONFIG="/var/tmp/cpansmoker-1023/2016082521/cpanreporter_001_config.ini"
    PERL_EXTUTILS_AUTOINSTALL="--defaultdeps"
  @INC:
    /usr/perl5.22.3-RC3p/lib/site_perl/5.22.3/amd64-freebsd
    /usr/perl5.22.3-RC3p/lib/site_perl/5.22.3
    /usr/perl5.22.3-RC3p/lib/5.22.3/amd64-freebsd
    /usr/perl5.22.3-RC3p/lib/5.22.3
    .