Redis-Fast v0.32 Perl 5 v5.34.0 x86_64-linux-thread-multi
- Status
- Pass
- From
- Slaven Rezić
- Dist
-
Redis-Fast v0.32
- Platform
- Perl 5 v5.34.0 x86_64-linux-thread-multi
- Date
- 2021-10-16 08:21:43
- ID
- 18bae60c-2e5a-11ec-9e2f-a51a1f24ea8f
This distribution has been tested as part of the CPAN Testers
project, supporting the Perl programming language. See
http://wiki.cpantesters.org/ for more information or email
questions to cpan-testers-discuss@perl.org
--
Dear Shogo Ichinose,
This is a computer-generated report for Redis-Fast-0.32
on perl 5.34.0, created by CPAN-Reporter-1.2018.
Thank you for uploading your work to CPAN. Congratulations!
All tests were successful.
Sections of this report:
* Tester comments
* Program output
* Prerequisites
* Environment and other context
------------------------------
TESTER COMMENTS
------------------------------
Additional comments from tester:
none provided
------------------------------
PROGRAM OUTPUT
------------------------------
Output from './Build test':
t/01-basic.t ............... skipped: Could not find binary redis-server
t/02-responses.t ........... ok
t/03-pubsub.t .............. skipped: Could not find binary redis-server
t/04-pipeline-issue117.t ... skipped: Could not find binary redis-server
t/04-pipeline.t ............ skipped: Could not find binary redis-server
t/05-nonblock.t ............ skipped: not needed, tested by hiredis
t/06-on-connect.t .......... skipped: Could not find binary redis-server
t/07-reconnect-on-error.t .. skipped: Could not find binary redis-server
t/07-reconnect.t ........... skipped: Could not find binary redis-server
t/08-unix-socket.t ......... skipped: Define ENV TEST_REDIS_SERVER_SOCK_PATH to test UNIX socket support
t/09-env-redis-server.t .... skipped: Could not find binary redis-server
t/10-tie-list.t ............ skipped: Could not find binary redis-server
t/11-timeout.t ............. ok
t/20-tie-hash.t ............ skipped: Could not find binary redis-server
t/30-scripts.t ............. skipped: Could not find binary redis-server
t/42-client_cmds.t ......... skipped: Could not find binary redis-server
t/44-no-unicode-bug.t ...... skipped: Could not find binary redis-server
t/50-fork_safe.t ........... skipped: Could not find binary redis-server
t/51-leak.t ................ skipped: Could not find binary redis-server
t/53-blpop.t ............... skipped: Could not find binary redis-server
t/53-blpop_and_timeout.t ... skipped: Could not find binary redis-server
t/53-deep-recursion.t ...... skipped: Could not find binary redis-server
t/53-fail-to-connect.t ..... ok
t/53-password.t ............ skipped: Could not find binary redis-server
t/53-signal.t .............. skipped: Could not find binary redis-server
t/53-timeout-length.t ...... skipped: Could not find binary redis-server
# shutting down sentinel2
# shutting down sentinel
# shutting down redis
t/60-sentinel.t ............ skipped: Could not find binary redis-server
All tests successful.
Files=27, Tests=27, 6 wallclock secs ( 0.06 usr 0.05 sys + 3.16 cusr 0.31 csys = 3.58 CPU)
Result: PASS
------------------------------
PREREQUISITES
------------------------------
Prerequisite modules loaded:
requires:
Module Need Have
--------------------- -------- --------
perl 5.008001 5.034000
Time::HiRes 0 1.9767
Try::Tiny 0 0.30
build_requires:
Module Need Have
--------------------- -------- --------
Digest::SHA 0 6.02
ExtUtils::CBuilder 0 0.280236
File::Temp 0 0.2311
Parallel::ForkManager 0 2.02
Test::Deep 0 1.130
Test::Fatal 0 0.016
Test::LeakTrace 0 0.17
Test::More 0.98 1.302188
Test::SharedFork 0 0.35
Test::TCP 0 2.22
Test::UNIXSock 0 0.4
configure_requires:
Module Need Have
--------------------- -------- --------
File::Which 0 1.27
Module::Build 0.4005 0.4231
Module::Build::XSUtil 0.02 0.19
------------------------------
ENVIRONMENT AND OTHER CONTEXT
------------------------------
Environment variables:
LANG = en_US.UTF-8
PATH = /usr/local/bin:/usr/bin:/bin:/usr/local/sbin:/usr/sbin:/sbin:/home/cpansand/bin/linux-gnu:/home/cpansand/bin/sh:/home/cpansand/bin:/usr/games:/home/cpansand/devel:/home/eserte/src/srezic-misc/scripts
PERL5LIB = /home/cpansand/.local/share/.cpan/build/2021101610/Test-UNIXSock-0.4-0/blib/arch:/home/cpansand/.local/share/.cpan/build/2021101610/Test-UNIXSock-0.4-0/blib/lib
PERL5OPT =
PERL5_CPANPLUS_IS_RUNNING = 17149
PERL5_CPAN_IS_RUNNING = 17149
PERL5_CPAN_IS_RUNNING_IN_RECURSION = 15088,17149
PERLDOC = -MPod::Perldoc::ToTextOverstrike
PERL_BATCH = yes
PERL_CANARY_STABILITY_NOPROMPT = 1
PERL_CPAN_REPORTER_CONFIG = /var/tmp/cpansmoker-1023/2021101610/cpanreporter_001_config.ini
PERL_EXTUTILS_AUTOINSTALL = --defaultdeps
PERL_USE_UNSAFE_INC = 1
SHELL = /usr/bin/zsh
TERM = screen
TMPDIR = /var/tmp/cpansmoker-1023/2021101610
Perl special variables (and OS-specific diagnostics, for MSWin32):
$^X = /opt/perl-5.34.0t/bin/perl
$UID/$EUID = 1023 / 1023
$GID = 1023 1023
$EGID = 1023 1023
Perl module toolchain versions installed:
Module Have
------------------- --------
CPAN 2.28
CPAN::Meta 2.150010
Cwd 3.80
ExtUtils::CBuilder 0.280236
ExtUtils::Command 7.62
ExtUtils::Install 2.20
ExtUtils::MakeMaker 7.62
ExtUtils::Manifest 1.73
ExtUtils::ParseXS 3.43
File::Spec 3.80
JSON 4.03
JSON::PP 4.06
Module::Build 0.4231
Module::Signature 0.87
Parse::CPAN::Meta 2.150010
Test::Harness 3.43
Test::More 1.302188
YAML 1.30
YAML::Syck 1.34
version 0.9928
--
Summary of my perl5 (revision 5 version 34 subversion 0) configuration:
Platform:
osname=linux
osvers=4.15.0-154-generic
archname=x86_64-linux-thread-multi
uname='linux cloud6.bbbike.org 4.15.0-154-generic #161-ubuntu smp fri jul 30 13:04:17 utc 2021 x86_64 x86_64 x86_64 gnulinux '
config_args='-ds -e -Dprefix=/opt/perl-5.34.0t -Dusethreads -Dcf_email=srezic@cpan.org'
hint=recommended
useposix=true
d_sigaction=define
useithreads=define
usemultiplicity=define
use64bitint=define
use64bitall=define
uselongdouble=undef
usemymalloc=n
default_inc_excludes_dot=define
Compiler:
cc='cc'
ccflags ='-D_REENTRANT -D_GNU_SOURCE -fwrapv -fno-strict-aliasing -pipe -fstack-protector-strong -I/usr/local/include -D_LARGEFILE_SOURCE -D_FILE_OFFSET_BITS=64'
optimize='-O2'
cppflags='-D_REENTRANT -D_GNU_SOURCE -fwrapv -fno-strict-aliasing -pipe -fstack-protector-strong -I/usr/local/include'
ccversion=''
gccversion='7.5.0'
gccosandvers=''
intsize=4
longsize=8
ptrsize=8
doublesize=8
byteorder=12345678
doublekind=3
d_longlong=define
longlongsize=8
d_longdbl=define
longdblsize=16
longdblkind=3
ivtype='long'
ivsize=8
nvtype='double'
nvsize=8
Off_t='off_t'
lseeksize=8
alignbytes=8
prototype=define
Linker and Libraries:
ld='cc'
ldflags =' -fstack-protector-strong -L/usr/local/lib'
libpth=/usr/local/lib /usr/lib/x86_64-linux-gnu /usr/lib /lib/x86_64-linux-gnu /lib
libs=-lpthread -lnsl -ldl -lm -lcrypt -lutil -lc
perllibs=-lpthread -lnsl -ldl -lm -lcrypt -lutil -lc
libc=libc-2.27.so
so=so
useshrplib=false
libperl=libperl.a
gnulibc_version='2.27'
Dynamic Linking:
dlsrc=dl_dlopen.xs
dlext=so
d_dlsymun=undef
ccdlflags='-Wl,-E'
cccdlflags='-fPIC'
lddlflags='-shared -O2 -L/usr/local/lib -fstack-protector-strong'
Characteristics of this binary (from libperl):
Compile-time options:
HAS_TIMES
MULTIPLICITY
PERLIO_LAYERS
PERL_COPY_ON_WRITE
PERL_DONT_CREATE_GVSV
PERL_IMPLICIT_CONTEXT
PERL_MALLOC_WRAP
PERL_OP_PARENT
PERL_PRESERVE_IVUV
USE_64_BIT_ALL
USE_64_BIT_INT
USE_ITHREADS
USE_LARGE_FILES
USE_LOCALE
USE_LOCALE_COLLATE
USE_LOCALE_CTYPE
USE_LOCALE_NUMERIC
USE_LOCALE_TIME
USE_PERLIO
USE_PERL_ATOF
USE_REENTRANT_API
USE_THREAD_SAFE_LOCALE
Built under linux
Compiled at Sep 4 2021 11:17:12
%ENV:
PERL5LIB="/home/cpansand/.local/share/.cpan/build/2021101610/Test-UNIXSock-0.4-0/blib/arch:/home/cpansand/.local/share/.cpan/build/2021101610/Test-UNIXSock-0.4-0/blib/lib"
PERL5OPT=""
PERL5_CPANPLUS_IS_RUNNING="17149"
PERL5_CPAN_IS_RUNNING="17149"
PERL5_CPAN_IS_RUNNING_IN_RECURSION="15088,17149"
PERLDOC="-MPod::Perldoc::ToTextOverstrike"
PERL_BATCH="yes"
PERL_CANARY_STABILITY_NOPROMPT="1"
PERL_CPAN_REPORTER_CONFIG="/var/tmp/cpansmoker-1023/2021101610/cpanreporter_001_config.ini"
PERL_EXTUTILS_AUTOINSTALL="--defaultdeps"
PERL_USE_UNSAFE_INC="1"
@INC:
/home/cpansand/.local/share/.cpan/build/2021101610/Test-UNIXSock-0.4-0/blib/arch
/home/cpansand/.local/share/.cpan/build/2021101610/Test-UNIXSock-0.4-0/blib/lib
/opt/perl-5.34.0t/lib/site_perl/5.34.0/x86_64-linux-thread-multi
/opt/perl-5.34.0t/lib/site_perl/5.34.0
/opt/perl-5.34.0t/lib/5.34.0/x86_64-linux-thread-multi
/opt/perl-5.34.0t/lib/5.34.0
.