Net-Async-Webservice-DHL v1.2.2 Perl 5 v5.28.0 RC1 MSWin32-x86-multi-thread-64int

Status
Pass
From
Alexandr Ciornii (CHORNY)
Dist
Net-Async-Webservice-DHL v1.2.2
Platform
Perl 5 v5.28.0 RC1 MSWin32-x86-multi-thread-64int
Date
2018-06-15 22:56:10
ID
18c8dc41-6c20-1014-b0c5-f33aec25c955
This distribution has been tested as part of the CPAN Testers
project, supporting the Perl programming language.  See
http://wiki.cpantesters.org/ for more information or email
questions to cpan-testers-discuss@perl.org


--
Dear Gianni Ceccarelli,

This is a computer-generated report for Net-Async-Webservice-DHL-1.2.2
on perl 5.28.0, created by CPAN-Reporter-1.2018.

Thank you for uploading your work to CPAN.  Congratulations!
All tests were successful.

Sections of this report:

    * Tester comments
    * Program output
    * Prerequisites
    * Environment and other context

------------------------------
TESTER COMMENTS
------------------------------

Additional comments from tester:

this report is from an automated smoke testing program
and was not reviewed by a human for accuracy

------------------------------
PROGRAM OUTPUT
------------------------------

Output from 'C:\STRAWB~1\c\bin\gmake.exe test':

Skip blib\lib\auto\share\dist\Net-Async-Webservice-DHL\routing-global-res.xsd (unchanged)
Skip blib\lib\auto\share\dist\Net-Async-Webservice-DHL\DCTResponsedatatypes.xsd (unchanged)
Skip blib\lib\auto\share\dist\Net-Async-Webservice-DHL\DCTRequestdatatypes.xsd (unchanged)
Skip blib\lib\auto\share\dist\Net-Async-Webservice-DHL\routing-err-res.xsd (unchanged)
Skip blib\lib\auto\share\dist\Net-Async-Webservice-DHL\datatypes_global.xsd (unchanged)
Skip blib\lib\auto\share\dist\Net-Async-Webservice-DHL\datatypes.xsd (unchanged)
Skip blib\lib\auto\share\dist\Net-Async-Webservice-DHL\DCT-req.xsd (unchanged)
Skip blib\lib\auto\share\dist\Net-Async-Webservice-DHL\DCT-Response.xsd (unchanged)
Skip blib\lib\auto\share\dist\Net-Async-Webservice-DHL\routing-global-req.xsd (unchanged)
Skip blib\lib\auto\share\dist\Net-Async-Webservice-DHL\err-res.xsd (unchanged)
"C:\Strawberry280RC1\perl\bin\perl.exe" "-MExtUtils::Command::MM" "-MTest::Harness" "-e" "undef *Test::Harness::Switches; test_harness(0, 'blib\lib', 'blib\arch')" t/*.t
t/author-critic.t ........ skipped: these tests are for testing by the author
t/author-no-tabs.t ....... skipped: these tests are for testing by the author
t/author-pod-coverage.t .. skipped: these tests are for testing by the author
t/author-pod-syntax.t .... skipped: these tests are for testing by the author
t/dhl-live-sync.t ........ skipped: need a ~/.naws_dhl.conf file, or a NAWS_DHL_CONFIG env variable pointing to a valid config file
t/dhl-live.t ............. skipped: this test only runs with IO::Async and Net::Async::HTTP
t/dhl-offline.t .......... ok
t/xml-schema.t ........... ok
All tests successful.
Files=8, Tests=5, 20 wallclock secs ( 0.07 usr +  0.08 sys =  0.15 CPU)
Result: PASS

------------------------------
PREREQUISITES
------------------------------

Prerequisite modules loaded:

requires:

    Module                         Need  Have    
    ------------------------------ ----- --------
    DateTime                       0     1.49    
    DateTime::Format::ISO8601      0     0.08    
    Encode                         0     2.98    
    Error::TypeTiny                0     1.002002
    File::ShareDir                 0     1.104   
    Future                         0     0.38    
    HTTP::Request                  0     6.16    
    List::AllUtils                 0     0.14    
    Moo                            0     2.003004
    namespace::autoclean           0     0.28    
    Net::Async::Webservice::Common 0     1.0.2   
    perl                           5.010 5.028000
    strict                         0     1.11    
    Try::Tiny                      0     0.30    
    Type::Library                  0     1.002002
    Type::Params                   0     1.002002
    Type::Utils                    0     1.002002
    Types::DateTime                0     0.002   
    Types::Standard                0     1.002002
    Types::URI                     0     0.006   
    warnings                       0     1.42    
    XML::Compile::Cache            0     1.06    
    XML::Compile::Util             0     1.60    
    XML::LibXML                    0     2.0132  

build_requires:

    Module                         Need  Have    
    ------------------------------ ----- --------
    Data::Printer                  0     0.40    
    Data::Visitor::Callback        0     0.30    
    ExtUtils::MakeMaker            0     7.34    
    File::Spec                     0     3.74    
    File::Temp                     0     0.2304  
    HTTP::Response                 0     6.16    
    lib                            0     0.64    
    Test::Deep                     0     1.128   
    Test::File::ShareDir           0     1.001002
    Test::More                     0     1.302136
    Test::Most                     0     0.35    
    Time::HiRes                    0     1.9759  
    XML::Simple                    0     2.25    

configure_requires:

    Module                         Need  Have    
    ------------------------------ ----- --------
    ExtUtils::MakeMaker            0     7.34    
    File::ShareDir::Install        0.06  0.11    


------------------------------
ENVIRONMENT AND OTHER CONTEXT
------------------------------

Environment variables:

    AUTOMATED_TESTING = 1
    COMSPEC = C:\WINDOWS\system32\cmd.exe
    NUMBER_OF_PROCESSORS = 1
    PATH = C:\WINDOWS\system32;C:\WINDOWS;C:\WINDOWS\System32\Wbem;C:\Git\cmd;C:\Strawberry280RC1\c\bin;C:\Strawberry280RC1\perl\site\bin;C:\Strawberry280RC1\perl\bin
    PERL5LIB = C:\STRAWB~1\cpan\build\Types-DateTime-0.002-0/blib/arch;C:\STRAWB~1\cpan\build\Types-DateTime-0.002-0/blib/lib;C:\STRAWB~1\cpan\build\Net-Async-Webservice-Common-1.0.2-0/blib/arch;C:\STRAWB~1\cpan\build\Net-Async-Webservice-Common-1.0.2-0/blib/lib
    PERL5OPT = 
    PERL5_CPANPLUS_IS_RUNNING = 1852
    PERL5_CPAN_IS_RUNNING = 1852
    PERL5_CPAN_IS_RUNNING_IN_RECURSION = 972,1852
    PERL_CR_SMOKER_CURRENT = Net-Async-Webservice-DHL-1.2.2
    PERL_CR_SMOKER_RUNONCE = 1
    PERL_EXTUTILS_AUTOINSTALL = --defaultdeps
    PERL_HASH_SEED = 0x11111111
    PERL_MM_USE_DEFAULT = 1
    PERL_USE_UNSAFE_INC = 1
    PROCESSOR_IDENTIFIER = x86 Family 16 Model 5 Stepping 3, AuthenticAMD
    TEMP = C:\DOCUME~1\a\LOCALS~1\Temp

Perl special variables (and OS-specific diagnostics, for MSWin32):

    $^X = C:\Strawberry280RC1\perl\bin\perl.exe
    $UID/$EUID = 0 / 0
    $GID = 0
    $EGID = 0
    Win32::GetOSName = WinXP/.Net
    Win32::GetOSVersion = Service Pack 3, 5, 1, 2600, 2, 3, 0, 256, 1
    Win32::FsType = NTFS
    Win32::IsAdminUser = 1

Perl module toolchain versions installed:

    Module              Have    
    ------------------- --------
    CPAN                2.20    
    CPAN::Meta          2.150010
    Cwd                 3.74    
    ExtUtils::CBuilder  0.280230
    ExtUtils::Command   7.34    
    ExtUtils::Install   2.14    
    ExtUtils::MakeMaker 7.34    
    ExtUtils::Manifest  1.71    
    ExtUtils::ParseXS   3.39    
    File::Spec          3.74    
    JSON                2.97001 
    JSON::PP            2.97001 
    Module::Build       0.4224  
    Module::Signature   0.81    
    Parse::CPAN::Meta   2.150010
    Test::Harness       3.42    
    Test::More          1.302136
    YAML                1.26    
    YAML::Syck          1.30    
    version             0.9924  


--

Summary of my perl5 (revision 5 version 28 subversion 0) configuration:
   
  Platform:
    osname=MSWin32
    osvers=5.1.2600
    archname=MSWin32-x86-multi-thread-64int
    uname='Win32 strawberry-perl 5.28.0.1-beta1 #1 Tue May 22 11:32:25 2018 i386'
    config_args='undef'
    hint=recommended
    useposix=true
    d_sigaction=undef
    useithreads=define
    usemultiplicity=define
    use64bitint=define
    use64bitall=undef
    uselongdouble=undef
    usemymalloc=n
    default_inc_excludes_dot=define
    bincompat5005=undef
  Compiler:
    cc='gcc'
    ccflags =' -s -O2 -DWIN32 -D__USE_MINGW_ANSI_STDIO -DPERL_TEXTMODE_SCRIPTS -DPERL_IMPLICIT_CONTEXT -DPERL_IMPLICIT_SYS -DUSE_PERLIO -fwrapv -fno-strict-aliasing -mms-bitfields'
    optimize='-s -O2'
    cppflags='-DWIN32'
    ccversion=''
    gccversion='7.1.0'
    gccosandvers=''
    intsize=4
    longsize=4
    ptrsize=4
    doublesize=8
    byteorder=12345678
    doublekind=3
    d_longlong=define
    longlongsize=8
    d_longdbl=define
    longdblsize=12
    longdblkind=3
    ivtype='long long'
    ivsize=8
    nvtype='double'
    nvsize=8
    Off_t='long long'
    lseeksize=8
    alignbytes=8
    prototype=define
  Linker and Libraries:
    ld='g++'
    ldflags ='-s -L"C:\STRAWB~1\perl\lib\CORE" -L"C:\STRAWB~1\c\lib"'
    libpth=C:\STRAWB~1\c\lib C:\STRAWB~1\c\i686-w64-mingw32\lib C:\STRAWB~1\c\lib\gcc\i686-w64-mingw32\7.1.0
    libs= -lmoldname -lkernel32 -luser32 -lgdi32 -lwinspool -lcomdlg32 -ladvapi32 -lshell32 -lole32 -loleaut32 -lnetapi32 -luuid -lws2_32 -lmpr -lwinmm -lversion -lodbc32 -lodbccp32 -lcomctl32
    perllibs= -lmoldname -lkernel32 -luser32 -lgdi32 -lwinspool -lcomdlg32 -ladvapi32 -lshell32 -lole32 -loleaut32 -lnetapi32 -luuid -lws2_32 -lmpr -lwinmm -lversion -lodbc32 -lodbccp32 -lcomctl32
    libc=
    so=dll
    useshrplib=true
    libperl=libperl528.a
    gnulibc_version=''
  Dynamic Linking:
    dlsrc=dl_win32.xs
    dlext=xs.dll
    d_dlsymun=undef
    ccdlflags=' '
    cccdlflags=' '
    lddlflags='-mdll -s -L"C:\STRAWB~1\perl\lib\CORE" -L"C:\STRAWB~1\c\lib"'


Characteristics of this binary (from libperl): 
  Compile-time options:
    HAS_TIMES
    HAVE_INTERP_INTERN
    MULTIPLICITY
    PERLIO_LAYERS
    PERL_COPY_ON_WRITE
    PERL_DONT_CREATE_GVSV
    PERL_IMPLICIT_CONTEXT
    PERL_IMPLICIT_SYS
    PERL_MALLOC_WRAP
    PERL_OP_PARENT
    PERL_PRESERVE_IVUV
    USE_64_BIT_INT
    USE_ITHREADS
    USE_LARGE_FILES
    USE_LOCALE
    USE_LOCALE_COLLATE
    USE_LOCALE_CTYPE
    USE_LOCALE_NUMERIC
    USE_LOCALE_TIME
    USE_PERLIO
    USE_PERL_ATOF
  Locally applied patches:
    RC1
  Built under MSWin32
  Compiled at May 22 2018 11:43:06
  %ENV:
    PERL5LIB="C:\STRAWB~1\cpan\build\Types-DateTime-0.002-0/blib/arch;C:\STRAWB~1\cpan\build\Types-DateTime-0.002-0/blib/lib;C:\STRAWB~1\cpan\build\Net-Async-Webservice-Common-1.0.2-0/blib/arch;C:\STRAWB~1\cpan\build\Net-Async-Webservice-Common-1.0.2-0/blib/lib"
    PERL5_CPANPLUS_IS_RUNNING="1852"
    PERL5_CPAN_IS_RUNNING="1852"
    PERL5_CPAN_IS_RUNNING_IN_RECURSION="972,1852"
    PERL_CR_SMOKER_CURRENT="Net-Async-Webservice-DHL-1.2.2"
    PERL_CR_SMOKER_RUNONCE="1"
    PERL_EXTUTILS_AUTOINSTALL="--defaultdeps"
    PERL_HASH_SEED="0x11111111"
    PERL_MM_USE_DEFAULT="1"
    PERL_USE_UNSAFE_INC="1"
  @INC:
    C:\STRAWB~1\cpan\build\Types-DateTime-0.002-0/blib/arch
    C:\STRAWB~1\cpan\build\Types-DateTime-0.002-0/blib/lib
    C:\STRAWB~1\cpan\build\Net-Async-Webservice-Common-1.0.2-0/blib/arch
    C:\STRAWB~1\cpan\build\Net-Async-Webservice-Common-1.0.2-0/blib/lib
    C:/Strawberry280RC1/perl/site/lib
    C:/Strawberry280RC1/perl/vendor/lib
    C:/Strawberry280RC1/perl/lib
    .