Back
From: metabase:user:30f4dfbe-2aae-11df-837a-5e0a49663a4f
Subject: PASS MaxMind-DB-Common-0.040001 v5.20.2 Mac OS X
Date: 2016-04-12T01:15:51Z
This distribution has been tested as part of the CPAN Testers
project, supporting the Perl programming language. See
http://wiki.cpantesters.org/ for more information or email
questions to cpan-testers-discuss@perl.org
--
Dear MaxMind, Inc.,
This is a computer-generated report for MaxMind-DB-Common-0.040001
on perl 5.20.2, created by CPAN-Reporter-1.2016.
Thank you for uploading your work to CPAN. Congratulations!
All tests were successful.
Sections of this report:
* Tester comments
* Program output
* Prerequisites
* Environment and other context
------------------------------
TESTER COMMENTS
------------------------------
Additional comments from tester:
this report is from an automated smoke testing program
and was not reviewed by a human for accuracy
------------------------------
PROGRAM OUTPUT
------------------------------
Output from '/sw/bin/make test':
PERL_DL_NONLAZY=1 "/Users/hornenj/perl5/perlbrew/perls/perl-5.20.2/bin/perl5.20.2" "-MExtUtils::Command::MM" "-MTest::Harness" "-e" "undef *Test::Harness::Switches; test_harness(0, 'blib/lib', 'blib/arch')" t/*.t t/MaxMind/DB/*.t
#
# Versions for all modules listed in MYMETA.json (including optional ones):
#
# === Configure Requires ===
#
# Module Want Have
# ------------------- ---- ----
# ExtUtils::MakeMaker any 7.10
#
# === Build Requires ===
#
# Module Want Have
# ------------------- ---- ----
# ExtUtils::MakeMaker any 7.10
#
# === Test Requires ===
#
# Module Want Have
# ------------------- ---- --------
# ExtUtils::MakeMaker any 7.10
# File::Spec any 3.48_01
# Test::More 0.96 1.001014
#
# === Test Recommends ===
#
# Module Want Have
# ---------- -------- --------
# CPAN::Meta 2.120900 2.150005
#
# === Runtime Requires ===
#
# Module Want Have
# ----------------------- ---- --------
# Carp any 1.36
# Data::Dumper::Concise any 2.022
# DateTime any 1.21
# Exporter any 5.72
# List::AllUtils any 0.09
# Math::BigInt any 1.999707
# Moo any 2.000002
# Moo::Role any 2.000002
# MooX::StrictConstructor any 0.008
# Scalar::Util any 1.42
# Sub::Quote any 2.000002
# autodie any 2.29
# constant any 1.33
# namespace::autoclean any 0.28
# overload any 1.22
# strict any 1.08
# warnings any 1.23
#
t/00-report-prereqs.t ..... ok
t/author-00-compile.t ..... skipped: these tests are for testing by the author
t/author-eol.t ............ skipped: these tests are for testing by the author
t/author-no-tabs.t ........ skipped: these tests are for testing by the author
t/author-pod-spell.t ...... skipped: these tests are for testing by the author
t/author-pod-syntax.t ..... skipped: these tests are for testing by the author
t/author-test-version.t ... skipped: these tests are for testing by the author
t/compile.t ............... ok
t/MaxMind/DB/Common.t ..... ok
t/MaxMind/DB/Metadata.t ... ok
t/release-cpan-changes.t .. skipped: these tests are for release candidate testing
t/release-portability.t ... skipped: these tests are for release candidate testing
t/release-synopsis.t ...... skipped: these tests are for release candidate testing
t/release-tidyall.t ....... skipped: these tests are for release candidate testing
All tests successful.
Files=14, Tests=8, 1 wallclock secs ( 0.03 usr 0.02 sys + 0.30 cusr 0.07 csys = 0.42 CPU)
Result: PASS
------------------------------
PREREQUISITES
------------------------------
Prerequisite modules loaded:
requires:
Module Need Have
----------------------- ----- --------
autodie 0 2.29
Carp 0 1.36
constant 0 1.33
Data::Dumper::Concise 0 2.022
DateTime 0 1.21
Exporter 0 5.72
List::AllUtils 0 0.09
Math::BigInt 0 1.999707
Moo 0 2.000002
Moo::Role 0 2.000002
MooX::StrictConstructor 0 0.008
namespace::autoclean 0 0.28
overload 0 1.22
perl 5.008 5.020002
Scalar::Util 0 1.42
strict 0 1.08
Sub::Quote 0 2.000002
warnings 0 1.23
build_requires:
Module Need Have
----------------------- ----- --------
ExtUtils::MakeMaker 0 7.10
File::Spec 0 3.48_01
Test::More 0.96 1.001014
configure_requires:
Module Need Have
----------------------- ----- --------
ExtUtils::MakeMaker 0 7.10
perl 5.008 5.020002
------------------------------
ENVIRONMENT AND OTHER CONTEXT
------------------------------
Environment variables:
AUTOMATED_TESTING = 1
LANG = en_US.UTF-8
LC_ALL = POSIX
LD_LIBRARY_PATH = :/net/traces01.be-md.ncbi.nlm.nih.gov/trace_software/vdb/mac/release/x86_64/lib
NO_NETWORK_TESTING = 1
PATH = /Users/hornenj/perl5/perlbrew/bin:/Users/hornenj/perl5/perlbrew/perls/perl-5.20.2/bin:/Users/hornenj/perl5/perlbrew/bin:/Users/hornenj/perl5/perlbrew/perls/perl-5.14.2/bin:/Users/hornenj/bin:/sw/lib/perl5/ExtUtils:/sw/bin:/am/ncbiapdata/bin:/usr/bin:/bin:/usr/X11R6/bin:/netopt/ncbi_tools/bin:/usr/local/ncbi/blast/bin:/net/traces01.be-md.ncbi.nlm.nih.gov/trace_software/vdb/mac/release/x86_64/bin
PERL5LIB = /Users/hornenj/.cpan/build/Net-Works-0.21-yjPiKT/blib/arch:/Users/hornenj/.cpan/build/Net-Works-0.21-yjPiKT/blib/lib:/Users/hornenj/.cpan/build/Math-Int128-0.22-tae8U6/blib/arch:/Users/hornenj/.cpan/build/Math-Int128-0.22-tae8U6/blib/lib:/Users/hornenj/.cpan/build/Math-Int64-0.54-J6cFiO/blib/arch:/Users/hornenj/.cpan/build/Math-Int64-0.54-J6cFiO/blib/lib:/Users/hornenj/.cpan/build/Data-IEEE754-0.01-lMDvFg/blib/arch:/Users/hornenj/.cpan/build/Data-IEEE754-0.01-lMDvFg/blib/lib:/Users/hornenj/.cpan/build/Test-Bits-0.02-FwMDwp/blib/arch:/Users/hornenj/.cpan/build/Test-Bits-0.02-FwMDwp/blib/lib:/Users/hornenj/.cpan/build/Sereal-Decoder-3.014-sADEJ0/blib/arch:/Users/hornenj/.cpan/build/Sereal-Decoder-3.014-sADEJ0/blib/lib
PERL5OPT =
PERL5_CPANPLUS_IS_RUNNING = 42230
PERL5_CPAN_IS_RUNNING = 42230
PERL5_MINISMOKEBOX = 0.58
PERLBREW_BASHRC_VERSION = 0.75
PERLBREW_HOME = /Users/hornenj/.perlbrew
PERLBREW_LIB =
PERLBREW_MANPATH = /Users/hornenj/perl5/perlbrew/perls/perl-5.20.2/man
PERLBREW_PATH = /Users/hornenj/perl5/perlbrew/bin:/Users/hornenj/perl5/perlbrew/perls/perl-5.20.2/bin
PERLBREW_PERL = perl-5.20.2
PERLBREW_ROOT = /Users/hornenj/perl5/perlbrew
PERLBREW_VERSION = 0.75
PERL_EXTUTILS_AUTOINSTALL = --defaultdeps
PERL_LOCAL_LIB_ROOT =
PERL_MM_USE_DEFAULT = 1
SHELL = /bin/bash
TERM = xterm-256color
TMPDIR = /var/folders/pz/pd7y1qjs6s3cbk170cw50fjc000c61/T/
ac_cv_path_INTLTOOL_PERL = /usr/bin/perl
Perl special variables (and OS-specific diagnostics, for MSWin32):
$^X = /Users/hornenj/perl5/perlbrew/perls/perl-5.20.2/bin/perl5.20.2
$UID/$EUID = 12481 / 12481
$GID = 14 14 5344 37191 527 241
$EGID = 14 14 5344 37191 527 241
Perl module toolchain versions installed:
Module Have
------------------- --------
CPAN 2.10
CPAN::Meta 2.150005
Cwd 3.48_01
ExtUtils::CBuilder 0.280224
ExtUtils::Command 7.10
ExtUtils::Install 2.04
ExtUtils::MakeMaker 7.10
ExtUtils::Manifest 1.70
ExtUtils::ParseXS 3.30
File::Spec 3.48_01
JSON 2.90
JSON::PP 2.27300
Module::Build 0.4214
Module::Signature n/a
Parse::CPAN::Meta 1.4417
Test::Harness 3.35
Test::More 1.001014
YAML 1.15
YAML::Syck 1.29
version 0.9912
--
Summary of my perl5 (revision 5 version 20 subversion 2) configuration:
Platform:
osname=darwin, osvers=14.1.0, archname=darwin-thread-multi-2level
uname='darwin ncbimac2027.ncbi.nlm.nih.gov 14.1.0 darwin kernel version 14.1.0: mon dec 22 23:10:38 pst 2014; root:xnu-2782.10.72~2release_x86_64 x86_64 '
config_args='-de -Dprefix=/Users/hornenj/perl5/perlbrew/perls/perl-5.20.2 -Duseithreads -Dusemultiplicity -Dusedevel -Accflags=-O2 -W -Wformat=2 -Wswitch -Wshadow -Wwrite-strings -Wuninitialized -Wall -pipe -mtune=native -march=native -fomit-frame-pointer -msse2 -msse -mmmx -pedantic -D_FORTIFY_SOURCE=2 -Wpointer-arith -Wstrict-prototypes -fstack-protector -Wstack-protector -Wextra -Wbad-function-cast -Wcast-align -Wcast-qual -Wdisabled-optimization -Wendif-labels -Wfloat-equal -Wformat-nonliteral -Winline -Wmissing-declarations -Wmissing-prototypes -Wnested-externs -Wpointer-arith -Wundef -Wformat-security -fassociative-math -Acc=cc -Aeval:scriptdir=/Users/hornenj/perl5/perlbrew/perls/perl-5.20.2/bin'
hint=recommended, useposix=true, d_sigaction=define
useithreads=define, usemultiplicity=define
use64bitint=define, use64bitall=define, uselongdouble=undef
usemymalloc=n, bincompat5005=undef
Compiler:
cc=' cc', ccflags ='-fno-common -DPERL_DARWIN -O2 -W -Wformat=2 -Wswitch -Wshadow -Wwrite-strings -Wuninitialized -Wall -pipe -mtune=native -march=native -fomit-frame-pointer -msse2 -msse -mmmx -pedantic -D_FORTIFY_SOURCE=2 -Wpointer-arith -Wstrict-prototypes -fstack-protector -Wstack-protector -Wextra -Wbad-function-cast -Wcast-align -Wcast-qual -Wdisabled-optimization -Wendif-labels -Wfloat-equal -Wformat-nonliteral -Winline -Wmissing-declarations -Wmissing-prototypes -Wnested-externs -Wpointer-arith -Wundef -Wformat-security -fassociative-math -fno-strict-aliasing -I/usr/local/include',
optimize='-O3',
cppflags='-fno-common -DPERL_DARWIN -O2 -W -Wformat=2 -Wswitch -Wshadow -Wwrite-strings -Wuninitialized -Wall -pipe -mtune=native -march=native -fomit-frame-pointer -msse2 -msse -mmmx -pedantic -D_FORTIFY_SOURCE=2 -Wpointer-arith -Wstrict-prototypes -fstack-protector -Wstack-protector -Wextra -Wbad-function-cast -Wcast-align -Wcast-qual -Wdisabled-optimization -Wendif-labels -Wfloat-equal -Wformat-nonliteral -Winline -Wmissing-declarations -Wmissing-prototypes -Wnested-externs -Wpointer-arith -Wundef -Wformat-security -fassociative-math -fno-strict-aliasing -I/usr/local/include'
ccversion='', gccversion='4.2.1 Compatible Apple LLVM 6.0 (clang-600.0.56)', gccosandvers=''
intsize=4, longsize=8, ptrsize=8, doublesize=8, byteorder=12345678
d_longlong=define, longlongsize=8, d_longdbl=define, longdblsize=16
ivtype='long', ivsize=8, nvtype='double', nvsize=8, Off_t='off_t', lseeksize=8
alignbytes=8, prototype=define
Linker and Libraries:
ld='env MACOSX_DEPLOYMENT_TARGET=10.3 cc', ldflags =' -fstack-protector -L/usr/local/lib'
libpth=/Applications/Xcode.app/Contents/Developer/Toolchains/XcodeDefault.xctoolchain/usr/bin/../lib/clang/6.0/lib /Applications/Xcode.app/Contents/Developer/Toolchains/XcodeDefault.xctoolchain/usr/lib /Applications/Xcode.app/Contents/Developer/Platforms/MacOSX.platform/Developer/SDKs/MacOSX10.10.sdk/usr/lib /usr/local/lib /usr/lib
libs=-ldbm -ldl -lm -lutil -lc
perllibs=-ldl -lm -lutil -lc
libc=, so=dylib, useshrplib=false, libperl=libperl.a
gnulibc_version=''
Dynamic Linking:
dlsrc=dl_dlopen.xs, dlext=bundle, d_dlsymun=undef, ccdlflags=' '
cccdlflags=' ', lddlflags=' -bundle -undefined dynamic_lookup -L/usr/local/lib -fstack-protector'
Characteristics of this binary (from libperl):
Compile-time options: HAS_TIMES MULTIPLICITY PERLIO_LAYERS
PERL_DONT_CREATE_GVSV
PERL_HASH_FUNC_ONE_AT_A_TIME_HARD
PERL_IMPLICIT_CONTEXT PERL_MALLOC_WRAP
PERL_NEW_COPY_ON_WRITE PERL_PRESERVE_IVUV
PERL_USE_DEVEL USE_64_BIT_ALL USE_64_BIT_INT
USE_ITHREADS USE_LARGE_FILES USE_LOCALE
USE_LOCALE_COLLATE USE_LOCALE_CTYPE
USE_LOCALE_NUMERIC USE_PERLIO USE_PERL_ATOF
USE_REENTRANT_API
Locally applied patches:
Devel::PatchPerl 1.30
Built under darwin
Compiled at Mar 2 2015 07:45:58
%ENV:
PERL5LIB="/Users/hornenj/.cpan/build/Net-Works-0.21-yjPiKT/blib/arch:/Users/hornenj/.cpan/build/Net-Works-0.21-yjPiKT/blib/lib:/Users/hornenj/.cpan/build/Math-Int128-0.22-tae8U6/blib/arch:/Users/hornenj/.cpan/build/Math-Int128-0.22-tae8U6/blib/lib:/Users/hornenj/.cpan/build/Math-Int64-0.54-J6cFiO/blib/arch:/Users/hornenj/.cpan/build/Math-Int64-0.54-J6cFiO/blib/lib:/Users/hornenj/.cpan/build/Data-IEEE754-0.01-lMDvFg/blib/arch:/Users/hornenj/.cpan/build/Data-IEEE754-0.01-lMDvFg/blib/lib:/Users/hornenj/.cpan/build/Test-Bits-0.02-FwMDwp/blib/arch:/Users/hornenj/.cpan/build/Test-Bits-0.02-FwMDwp/blib/lib:/Users/hornenj/.cpan/build/Sereal-Decoder-3.014-sADEJ0/blib/arch:/Users/hornenj/.cpan/build/Sereal-Decoder-3.014-sADEJ0/blib/lib"
PERL5OPT=""
PERL5_CPANPLUS_IS_RUNNING="42230"
PERL5_CPAN_IS_RUNNING="42230"
PERL5_MINISMOKEBOX="0.58"
PERLBREW_BASHRC_VERSION="0.75"
PERLBREW_HOME="/Users/hornenj/.perlbrew"
PERLBREW_LIB=""
PERLBREW_MANPATH="/Users/hornenj/perl5/perlbrew/perls/perl-5.20.2/man"
PERLBREW_PATH="/Users/hornenj/perl5/perlbrew/bin:/Users/hornenj/perl5/perlbrew/perls/perl-5.20.2/bin"
PERLBREW_PERL="perl-5.20.2"
PERLBREW_ROOT="/Users/hornenj/perl5/perlbrew"
PERLBREW_VERSION="0.75"
PERL_EXTUTILS_AUTOINSTALL="--defaultdeps"
PERL_LOCAL_LIB_ROOT=""
PERL_MM_USE_DEFAULT="1"
@INC:
/Users/hornenj/.cpan/build/Net-Works-0.21-yjPiKT/blib/arch
/Users/hornenj/.cpan/build/Net-Works-0.21-yjPiKT/blib/lib
/Users/hornenj/.cpan/build/Math-Int128-0.22-tae8U6/blib/arch
/Users/hornenj/.cpan/build/Math-Int128-0.22-tae8U6/blib/lib
/Users/hornenj/.cpan/build/Math-Int64-0.54-J6cFiO/blib/arch
/Users/hornenj/.cpan/build/Math-Int64-0.54-J6cFiO/blib/lib
/Users/hornenj/.cpan/build/Data-IEEE754-0.01-lMDvFg/blib/arch
/Users/hornenj/.cpan/build/Data-IEEE754-0.01-lMDvFg/blib/lib
/Users/hornenj/.cpan/build/Test-Bits-0.02-FwMDwp/blib/arch
/Users/hornenj/.cpan/build/Test-Bits-0.02-FwMDwp/blib/lib
/Users/hornenj/.cpan/build/Sereal-Decoder-3.014-sADEJ0/blib/arch
/Users/hornenj/.cpan/build/Sereal-Decoder-3.014-sADEJ0/blib/lib
/Users/hornenj/perl5/perlbrew/perls/perl-5.20.2/lib/site_perl/5.20.2/darwin-thread-multi-2level
/Users/hornenj/perl5/perlbrew/perls/perl-5.20.2/lib/site_perl/5.20.2
/Users/hornenj/perl5/perlbrew/perls/perl-5.20.2/lib/5.20.2/darwin-thread-multi-2level
/Users/hornenj/perl5/perlbrew/perls/perl-5.20.2/lib/5.20.2
.