Report for Catalyst-View-Email-0.33

Back
From: metabase:user:320bfe00-2aae-11df-837a-5e0a49663a4f
Subject: PASS Catalyst-View-Email-0.33 v5.20.0 RC0 GNU/Linux
Date: 2014-05-14T19:22:32Z

This distribution has been tested as part of the CPAN Testers
project, supporting the Perl programming language.  See
http://wiki.cpantesters.org/ for more information or email
questions to cpan-testers-discuss@perl.org


--
Dear Devin Austin,

This is a computer-generated report for Catalyst-View-Email-0.33
on perl 5.20.0, created by CPAN-Reporter-1.2011.

Thank you for uploading your work to CPAN.  Congratulations!
All tests were successful.

Sections of this report:

    * Tester comments
    * Program output
    * Prerequisites
    * Environment and other context

------------------------------
TESTER COMMENTS
------------------------------

Additional comments from tester:

this report is from an automated smoke testing program
and was not reviewed by a human for accuracy

------------------------------
PROGRAM OUTPUT
------------------------------

Output from '/usr/bin/make test':

PERL_DL_NONLAZY=1 /tmp/basesmoker-reloperl-sjTB/bin/perl "-MExtUtils::Command::MM" "-MTest::Harness" "-e" "undef *Test::Harness::Switches; test_harness(0, 'inc', 'blib/lib', 'blib/arch')" t/01use.t t/02pod.t t/04basic.t t/05template.t t/06config.t t/07mason.t
t/01use.t ....... ok
t/02pod.t ....... skipped: set TEST_POD to enable this test
require TestApp::View::Mason was successful but the package is not defined. at /home/sand/src/perl/repoperls/installed-perls/perl/v5.19.11-109-gdb93ece/9980/lib/site_perl/5.20.0/Catalyst/Utils.pm line 314.
Class::MOP::load_class is deprecated at /home/sand/src/perl/repoperls/installed-perls/perl/v5.19.11-109-gdb93ece/9980/lib/site_perl/5.20.0/x86_64-linux-thread-multi/Class/MOP.pm line 73.
	Class::MOP::load_class("Email::Sender::Transport::Test") called at /tmp/loop_over_bdir-5191-nq5gYw/Catalyst-View-Email-0.33-IaXm9x/blib/lib/Catalyst/View/Email.pm line 226
	Catalyst::View::Email::_build_mailer_obj(TestApp::View::Email=HASH(0x41c2d00)) called at accessor Catalyst::View::Email::_mailer_obj (defined at /tmp/loop_over_bdir-5191-nq5gYw/Catalyst-View-Email-0.33-IaXm9x/blib/lib/Catalyst/View/Email.pm line 21) line 11
	Catalyst::View::Email::_mailer_obj(TestApp::View::Email=HASH(0x41c2d00)) called at /tmp/loop_over_bdir-5191-nq5gYw/Catalyst-View-Email-0.33-IaXm9x/blib/lib/Catalyst/View/Email.pm line 299
	Catalyst::View::Email::process(TestApp::View::Email=HASH(0x41c2d00), TestApp=HASH(0x42b3278)) called at /home/sand/src/perl/repoperls/installed-perls/perl/v5.19.11-109-gdb93ece/9980/lib/site_perl/5.20.0/Catalyst/Action.pm line 65
	Catalyst::Action::execute(Catalyst::Action=HASH(0x42bf100), TestApp::View::Email=HASH(0x41c2d00), TestApp=HASH(0x42b3278)) called at /home/sand/src/perl/repoperls/installed-perls/perl/v5.19.11-109-gdb93ece/9980/lib/site_perl/5.20.0/Catalyst.pm line 1734
	eval {...} called at /home/sand/src/perl/repoperls/installed-perls/perl/v5.19.11-109-gdb93ece/9980/lib/site_perl/5.20.0/Catalyst.pm line 1734
	Catalyst::execute(TestApp=HASH(0x42b3278), "TestApp::View::Email", Catalyst::Action=HASH(0x42bf100)) called at /home/sand/src/perl/repoperls/installed-perls/perl/v5.19.11-109-gdb93ece/9980/lib/site_perl/5.20.0/Catalyst/Action.pm line 60
	Catalyst::Action::dispatch(Catalyst::Action=HASH(0x42bf100), TestApp=HASH(0x42b3278)) called at /home/sand/src/perl/repoperls/installed-perls/perl/v5.19.11-109-gdb93ece/9980/lib/site_perl/5.20.0/Catalyst/Dispatcher.pm line 258
	Catalyst::Dispatcher::_do_forward(Catalyst::Dispatcher=HASH(0x39bca98), "forward", TestApp=HASH(0x42b3278), "TestApp::View::Email") called at /home/sand/src/perl/repoperls/installed-perls/perl/v5.19.11-109-gdb93ece/9980/lib/site_perl/5.20.0/Catalyst/Dispatcher.pm line 238
	Catalyst::Dispatcher::forward(Catalyst::Dispatcher=HASH(0x39bca98), TestApp=HASH(0x42b3278), "TestApp::View::Email") called at /home/sand/src/perl/repoperls/installed-perls/perl/v5.19.11-109-gdb93ece/9980/lib/site_perl/5.20.0/Catalyst.pm line 397
	Catalyst::forward(TestApp=HASH(0x42b3278), "TestApp::View::Email") called at /tmp/loop_over_bdir-5191-nq5gYw/Catalyst-View-Email-0.33-IaXm9x/t/lib/TestApp/Controller/Root.pm line 26
	TestApp::Controller::Root::email(TestApp::Controller::Root=HASH(0x41260b8), TestApp=HASH(0x42b3278)) called at /home/sand/src/perl/repoperls/installed-perls/perl/v5.19.11-109-gdb93ece/9980/lib/site_perl/5.20.0/Catalyst/Action.pm line 65
	Catalyst::Action::execute(Catalyst::Action=HASH(0x4204c10), TestApp::Controller::Root=HASH(0x41260b8), TestApp=HASH(0x42b3278)) called at /home/sand/src/perl/repoperls/installed-perls/perl/v5.19.11-109-gdb93ece/9980/lib/site_perl/5.20.0/Catalyst.pm line 1734
	eval {...} called at /home/sand/src/perl/repoperls/installed-perls/perl/v5.19.11-109-gdb93ece/9980/lib/site_perl/5.20.0/Catalyst.pm line 1734
	Catalyst::execute(TestApp=HASH(0x42b3278), "TestApp::Controller::Root", Catalyst::Action=HASH(0x4204c10)) called at /home/sand/src/perl/repoperls/installed-perls/perl/v5.19.11-109-gdb93ece/9980/lib/site_perl/5.20.0/Catalyst/Action.pm line 60
	Catalyst::Action::dispatch(Catalyst::Action=HASH(0x4204c10), TestApp=HASH(0x42b3278)) called at /home/sand/src/perl/repoperls/installed-perls/perl/v5.19.11-109-gdb93ece/9980/lib/site_perl/5.20.0/Catalyst/Controller.pm line 161
	Catalyst::Controller::_ACTION(TestApp::Controller::Root=HASH(0x41260b8), TestApp=HASH(0x42b3278)) called at /home/sand/src/perl/repoperls/installed-perls/perl/v5.19.11-109-gdb93ece/9980/lib/site_perl/5.20.0/Catalyst/Action.pm line 65
	Catalyst::Action::execute(Catalyst::Action=HASH(0x4204b98), TestApp::Controller::Root=HASH(0x41260b8), TestApp=HASH(0x42b3278)) called at /home/sand/src/perl/repoperls/installed-perls/perl/v5.19.11-109-gdb93ece/9980/lib/site_perl/5.20.0/Catalyst.pm line 1734
	eval {...} called at /home/sand/src/perl/repoperls/installed-perls/perl/v5.19.11-109-gdb93ece/9980/lib/site_perl/5.20.0/Catalyst.pm line 1734
	Catalyst::execute(TestApp=HASH(0x42b3278), "TestApp::Controller::Root", Catalyst::Action=HASH(0x4204b98)) called at /home/sand/src/perl/repoperls/installed-perls/perl/v5.19.11-109-gdb93ece/9980/lib/site_perl/5.20.0/Catalyst/Action.pm line 60
	Catalyst::Action::dispatch(Catalyst::Action=HASH(0x4204b98), TestApp=HASH(0x42b3278)) called at /home/sand/src/perl/repoperls/installed-perls/perl/v5.19.11-109-gdb93ece/9980/lib/site_perl/5.20.0/Catalyst/Dispatcher.pm line 258
	Catalyst::Dispatcher::_do_forward(Catalyst::Dispatcher=HASH(0x39bca98), "forward", TestApp=HASH(0x42b3278), "_ACTION") called at /home/sand/src/perl/repoperls/installed-perls/perl/v5.19.11-109-gdb93ece/9980/lib/site_perl/5.20.0/Catalyst/Dispatcher.pm line 238
	Catalyst::Dispatcher::forward(Catalyst::Dispatcher=HASH(0x39bca98), TestApp=HASH(0x42b3278), "_ACTION") called at /home/sand/src/perl/repoperls/installed-perls/perl/v5.19.11-109-gdb93ece/9980/lib/site_perl/5.20.0/Catalyst.pm line 397
	Catalyst::forward(TestApp=HASH(0x42b3278), "_ACTION") called at /home/sand/src/perl/repoperls/installed-perls/perl/v5.19.11-109-gdb93ece/9980/lib/site_perl/5.20.0/Catalyst/Controller.pm line 135
	Catalyst::Controller::_DISPATCH(TestApp::Controller::Root=HASH(0x41260b8), TestApp=HASH(0x42b3278)) called at /home/sand/src/perl/repoperls/installed-perls/perl/v5.19.11-109-gdb93ece/9980/lib/site_perl/5.20.0/Catalyst/Action.pm line 65
	Catalyst::Action::execute(Catalyst::Action=HASH(0x42014b8), TestApp::Controller::Root=HASH(0x41260b8), TestApp=HASH(0x42b3278)) called at /home/sand/src/perl/repoperls/installed-perls/perl/v5.19.11-109-gdb93ece/9980/lib/site_perl/5.20.0/Catalyst.pm line 1734
	eval {...} called at /home/sand/src/perl/repoperls/installed-perls/perl/v5.19.11-109-gdb93ece/9980/lib/site_perl/5.20.0/Catalyst.pm line 1734
	Catalyst::execute(TestApp=HASH(0x42b3278), "TestApp::Controller::Root", Catalyst::Action=HASH(0x42014b8)) called at /home/sand/src/perl/repoperls/installed-perls/perl/v5.19.11-109-gdb93ece/9980/lib/site_perl/5.20.0/Catalyst/Action.pm line 60
	Catalyst::Action::dispatch(Catalyst::Action=HASH(0x42014b8), TestApp=HASH(0x42b3278)) called at /home/sand/src/perl/repoperls/installed-perls/perl/v5.19.11-109-gdb93ece/9980/lib/site_perl/5.20.0/Catalyst/Dispatcher.pm line 258
	Catalyst::Dispatcher::_do_forward(Catalyst::Dispatcher=HASH(0x39bca98), "forward", TestApp=HASH(0x42b3278), "/root/_DISPATCH") called at /home/sand/src/perl/repoperls/installed-perls/perl/v5.19.11-109-gdb93ece/9980/lib/site_perl/5.20.0/Catalyst/Dispatcher.pm line 238
	Catalyst::Dispatcher::forward(Catalyst::Dispatcher=HASH(0x39bca98), TestApp=HASH(0x42b3278), "/root/_DISPATCH") called at /home/sand/src/perl/repoperls/installed-perls/perl/v5.19.11-109-gdb93ece/9980/lib/site_perl/5.20.0/Catalyst.pm line 397
	Catalyst::forward(TestApp=HASH(0x42b3278), "/root/_DISPATCH") called at /home/sand/src/perl/repoperls/installed-perls/perl/v5.19.11-109-gdb93ece/9980/lib/site_perl/5.20.0/Catalyst/Dispatcher.pm line 107
	Catalyst::Dispatcher::dispatch(Catalyst::Dispatcher=HASH(0x39bca98), TestApp=HASH(0x42b3278)) called at /home/sand/src/perl/repoperls/installed-perls/perl/v5.19.11-109-gdb93ece/9980/lib/site_perl/5.20.0/Catalyst.pm line 1680
	Catalyst::dispatch(TestApp=HASH(0x42b3278)) called at /home/sand/src/perl/repoperls/installed-perls/perl/v5.19.11-109-gdb93ece/9980/lib/site_perl/5.20.0/Catalyst.pm line 2019
	Catalyst::try {...} () called at /home/sand/src/perl/repoperls/installed-perls/perl/v5.19.11-109-gdb93ece/9980/lib/site_perl/5.20.0/Try/Tiny.pm line 81
	eval {...} called at /home/sand/src/perl/repoperls/installed-perls/perl/v5.19.11-109-gdb93ece/9980/lib/site_perl/5.20.0/Try/Tiny.pm line 72
	Try::Tiny::try(CODE(0x42b2bb8), Try::Tiny::Catch=REF(0x42b2a50)) called at /home/sand/src/perl/repoperls/installed-perls/perl/v5.19.11-109-gdb93ece/9980/lib/site_perl/5.20.0/Catalyst.pm line 2028
	Catalyst::handle_request("TestApp", "env", HASH(0x3f345c8), "response_cb", CODE(0x42b2a80)) called at /home/sand/src/perl/repoperls/installed-perls/perl/v5.19.11-109-gdb93ece/9980/lib/site_perl/5.20.0/Catalyst/Engine.pm line 797
	Catalyst::Engine::__ANON__(CODE(0x42b2a80)) called at /home/sand/src/perl/repoperls/installed-perls/perl/v5.19.11-109-gdb93ece/9980/lib/site_perl/5.20.0/Plack/Middleware/HTTPExceptions.pm line 32
	Plack::Middleware::HTTPExceptions::try {...} () called at /home/sand/src/perl/repoperls/installed-perls/perl/v5.19.11-109-gdb93ece/9980/lib/site_perl/5.20.0/Try/Tiny.pm line 81
	eval {...} called at /home/sand/src/perl/repoperls/installed-perls/perl/v5.19.11-109-gdb93ece/9980/lib/site_perl/5.20.0/Try/Tiny.pm line 72
	Try::Tiny::try(CODE(0x42b28e8), Try::Tiny::Catch=REF(0x4251128)) called at /home/sand/src/perl/repoperls/installed-perls/perl/v5.19.11-109-gdb93ece/9980/lib/site_perl/5.20.0/Plack/Middleware/HTTPExceptions.pm line 41
	Plack::Middleware::HTTPExceptions::__ANON__(CODE(0x42b27e0)) called at /home/sand/src/perl/repoperls/installed-perls/perl/v5.19.11-109-gdb93ece/9980/lib/site_perl/5.20.0/Plack/Util.pm line 301
	Plack::Util::__ANON__(CODE(0x4251980)) called at /home/sand/src/perl/repoperls/installed-perls/perl/v5.19.11-109-gdb93ece/9980/lib/site_perl/5.20.0/Plack/Util.pm line 301
	Plack::Util::__ANON__(CODE(0x4251878)) called at /home/sand/src/perl/repoperls/installed-perls/perl/v5.19.11-109-gdb93ece/9980/lib/site_perl/5.20.0/Plack/Util.pm line 301
	Plack::Util::__ANON__(CODE(0x42517e8)) called at /home/sand/src/perl/repoperls/installed-perls/perl/v5.19.11-109-gdb93ece/9980/lib/site_perl/5.20.0/HTTP/Message/PSGI.pm line 100
	HTTP::Message::PSGI::res_from_psgi(CODE(0x4250ff0)) called at /home/sand/src/perl/repoperls/installed-perls/perl/v5.19.11-109-gdb93ece/9980/lib/site_perl/5.20.0/HTTP/Message/PSGI.pm line 155
	HTTP::Response::from_psgi("HTTP::Response", CODE(0x4250ff0)) called at /home/sand/src/perl/repoperls/installed-perls/perl/v5.19.11-109-gdb93ece/9980/lib/site_perl/5.20.0/Plack/Test/MockHTTP.pm line 24
	Plack::Test::MockHTTP::try {...} () called at /home/sand/src/perl/repoperls/installed-perls/perl/v5.19.11-109-gdb93ece/9980/lib/site_perl/5.20.0/Try/Tiny.pm line 79
	eval {...} called at /home/sand/src/perl/repoperls/installed-perls/perl/v5.19.11-109-gdb93ece/9980/lib/site_perl/5.20.0/Try/Tiny.pm line 72
	Try::Tiny::try(CODE(0x420bd78), Try::Tiny::Catch=REF(0x41cb8a8)) called at /home/sand/src/perl/repoperls/installed-perls/perl/v5.19.11-109-gdb93ece/9980/lib/site_perl/5.20.0/Plack/Test/MockHTTP.pm line 27
	Plack::Test::MockHTTP::request(Plack::Test::MockHTTP=HASH(0x4218bc8), HTTP::Request=HASH(0x420f820)) called at /home/sand/src/perl/repoperls/installed-perls/perl/v5.19.11-109-gdb93ece/9980/lib/site_perl/5.20.0/Plack/Test.pm line 38
	Plack::Test::__ANON__(HTTP::Request=HASH(0x420f820)) called at /home/sand/src/perl/repoperls/installed-perls/perl/v5.19.11-109-gdb93ece/9980/lib/site_perl/5.20.0/Catalyst/Test.pm line 281
	Catalyst::Test::__ANON__(CODE(0x423de78)) called at /home/sand/src/perl/repoperls/installed-perls/perl/v5.19.11-109-gdb93ece/9980/lib/site_perl/5.20.0/Plack/Test.pm line 38
	Plack::Test::test_psgi("mangle_response", CODE(0x2e28160), "app", CODE(0x420f3d0), "app", CODE(0x423d350), "client", CODE(0x423da88)) called at /home/sand/src/perl/repoperls/installed-perls/perl/v5.19.11-109-gdb93ece/9980/lib/site_perl/5.20.0/Catalyst/Test.pm line 284
	Catalyst::Test::_request(HASH(0xb84de0), "/email?time=1400065266") called at /home/sand/src/perl/repoperls/installed-perls/perl/v5.19.11-109-gdb93ece/9980/lib/site_perl/5.20.0/Catalyst/Test.pm line 327
	Catalyst::Test::_local_request("TestApp", "/email?time=1400065266") called at /home/sand/src/perl/repoperls/installed-perls/perl/v5.19.11-109-gdb93ece/9980/lib/site_perl/5.20.0/Catalyst/Test.pm line 32
	Catalyst::Test::__ANON__("/email?time=1400065266") called at t/04basic.t line 14
t/04basic.t ..... ok
require TestApp::View::Mason was successful but the package is not defined. at /home/sand/src/perl/repoperls/installed-perls/perl/v5.19.11-109-gdb93ece/9980/lib/site_perl/5.20.0/Catalyst/Utils.pm line 314.
Class::MOP::load_class is deprecated at /home/sand/src/perl/repoperls/installed-perls/perl/v5.19.11-109-gdb93ece/9980/lib/site_perl/5.20.0/x86_64-linux-thread-multi/Class/MOP.pm line 73.
	Class::MOP::load_class("Email::Sender::Transport::Test") called at /tmp/loop_over_bdir-5191-nq5gYw/Catalyst-View-Email-0.33-IaXm9x/blib/lib/Catalyst/View/Email.pm line 226
	Catalyst::View::Email::_build_mailer_obj(TestApp::View::Email::Template=HASH(0x5a753d0)) called at accessor Catalyst::View::Email::_mailer_obj (defined at /tmp/loop_over_bdir-5191-nq5gYw/Catalyst-View-Email-0.33-IaXm9x/blib/lib/Catalyst/View/Email.pm line 21) line 11
	Catalyst::View::Email::_mailer_obj(TestApp::View::Email::Template=HASH(0x5a753d0)) called at /tmp/loop_over_bdir-5191-nq5gYw/Catalyst-View-Email-0.33-IaXm9x/blib/lib/Catalyst/View/Email.pm line 299
	Catalyst::View::Email::process(TestApp::View::Email::Template=HASH(0x5a753d0), TestApp=HASH(0x5c01b78)) called at /tmp/loop_over_bdir-5191-nq5gYw/Catalyst-View-Email-0.33-IaXm9x/blib/lib/Catalyst/View/Email/Template.pm line 306
	Class::MOP::Class:::around(CODE(0x59851e8), TestApp::View::Email::Template=HASH(0x5a753d0), TestApp=HASH(0x5c01b78)) called at /home/sand/src/perl/repoperls/installed-perls/perl/v5.19.11-109-gdb93ece/9980/lib/site_perl/5.20.0/x86_64-linux-thread-multi/Class/MOP/Method/Wrapped.pm line 163
	Class::MOP::Method::Wrapped::__ANON__(TestApp::View::Email::Template=HASH(0x5a753d0), TestApp=HASH(0x5c01b78)) called at /home/sand/src/perl/repoperls/installed-perls/perl/v5.19.11-109-gdb93ece/9980/lib/site_perl/5.20.0/x86_64-linux-thread-multi/Class/MOP/Method/Wrapped.pm line 92
	Catalyst::View::Email::Template::process(TestApp::View::Email::Template=HASH(0x5a753d0), TestApp=HASH(0x5c01b78)) called at /home/sand/src/perl/repoperls/installed-perls/perl/v5.19.11-109-gdb93ece/9980/lib/site_perl/5.20.0/Catalyst/Action.pm line 65
	Catalyst::Action::execute(Catalyst::Action=HASH(0x5c76ac0), TestApp::View::Email::Template=HASH(0x5a753d0), TestApp=HASH(0x5c01b78)) called at /home/sand/src/perl/repoperls/installed-perls/perl/v5.19.11-109-gdb93ece/9980/lib/site_perl/5.20.0/Catalyst.pm line 1734
	eval {...} called at /home/sand/src/perl/repoperls/installed-perls/perl/v5.19.11-109-gdb93ece/9980/lib/site_perl/5.20.0/Catalyst.pm line 1734
	Catalyst::execute(TestApp=HASH(0x5c01b78), "TestApp::View::Email::Template", Catalyst::Action=HASH(0x5c76ac0)) called at /home/sand/src/perl/repoperls/installed-perls/perl/v5.19.11-109-gdb93ece/9980/lib/site_perl/5.20.0/Catalyst/Action.pm line 60
	Catalyst::Action::dispatch(Catalyst::Action=HASH(0x5c76ac0), TestApp=HASH(0x5c01b78)) called at /home/sand/src/perl/repoperls/installed-perls/perl/v5.19.11-109-gdb93ece/9980/lib/site_perl/5.20.0/Catalyst/Dispatcher.pm line 258
	Catalyst::Dispatcher::_do_forward(Catalyst::Dispatcher=HASH(0x4b2b900), "forward", TestApp=HASH(0x5c01b78), "TestApp::View::Email::Template") called at /home/sand/src/perl/repoperls/installed-perls/perl/v5.19.11-109-gdb93ece/9980/lib/site_perl/5.20.0/Catalyst/Dispatcher.pm line 238
	Catalyst::Dispatcher::forward(Catalyst::Dispatcher=HASH(0x4b2b900), TestApp=HASH(0x5c01b78), "TestApp::View::Email::Template") called at /home/sand/src/perl/repoperls/installed-perls/perl/v5.19.11-109-gdb93ece/9980/lib/site_perl/5.20.0/Catalyst.pm line 397
	Catalyst::forward(TestApp=HASH(0x5c01b78), "TestApp::View::Email::Template") called at /tmp/loop_over_bdir-5191-nq5gYw/Catalyst-View-Email-0.33-IaXm9x/t/lib/TestApp/Controller/Root.pm line 81
	TestApp::Controller::Root::template_email(TestApp::Controller::Root=HASH(0x58daaa8), TestApp=HASH(0x5c01b78)) called at /home/sand/src/perl/repoperls/installed-perls/perl/v5.19.11-109-gdb93ece/9980/lib/site_perl/5.20.0/Catalyst/Action.pm line 65
	Catalyst::Action::execute(Catalyst::Action=HASH(0x5bbbb60), TestApp::Controller::Root=HASH(0x58daaa8), TestApp=HASH(0x5c01b78)) called at /home/sand/src/perl/repoperls/installed-perls/perl/v5.19.11-109-gdb93ece/9980/lib/site_perl/5.20.0/Catalyst.pm line 1734
	eval {...} called at /home/sand/src/perl/repoperls/installed-perls/perl/v5.19.11-109-gdb93ece/9980/lib/site_perl/5.20.0/Catalyst.pm line 1734
	Catalyst::execute(TestApp=HASH(0x5c01b78), "TestApp::Controller::Root", Catalyst::Action=HASH(0x5bbbb60)) called at /home/sand/src/perl/repoperls/installed-perls/perl/v5.19.11-109-gdb93ece/9980/lib/site_perl/5.20.0/Catalyst/Action.pm line 60
	Catalyst::Action::dispatch(Catalyst::Action=HASH(0x5bbbb60), TestApp=HASH(0x5c01b78)) called at /home/sand/src/perl/repoperls/installed-perls/perl/v5.19.11-109-gdb93ece/9980/lib/site_perl/5.20.0/Catalyst/Controller.pm line 161
	Catalyst::Controller::_ACTION(TestApp::Controller::Root=HASH(0x58daaa8), TestApp=HASH(0x5c01b78)) called at /home/sand/src/perl/repoperls/installed-perls/perl/v5.19.11-109-gdb93ece/9980/lib/site_perl/5.20.0/Catalyst/Action.pm line 65
	Catalyst::Action::execute(Catalyst::Action=HASH(0x5bbb3c8), TestApp::Controller::Root=HASH(0x58daaa8), TestApp=HASH(0x5c01b78)) called at /home/sand/src/perl/repoperls/installed-perls/perl/v5.19.11-109-gdb93ece/9980/lib/site_perl/5.20.0/Catalyst.pm line 1734
	eval {...} called at /home/sand/src/perl/repoperls/installed-perls/perl/v5.19.11-109-gdb93ece/9980/lib/site_perl/5.20.0/Catalyst.pm line 1734
	Catalyst::execute(TestApp=HASH(0x5c01b78), "TestApp::Controller::Root", Catalyst::Action=HASH(0x5bbb3c8)) called at /home/sand/src/perl/repoperls/installed-perls/perl/v5.19.11-109-gdb93ece/9980/lib/site_perl/5.20.0/Catalyst/Action.pm line 60
	Catalyst::Action::dispatch(Catalyst::Action=HASH(0x5bbb3c8), TestApp=HASH(0x5c01b78)) called at /home/sand/src/perl/repoperls/installed-perls/perl/v5.19.11-109-gdb93ece/9980/lib/site_perl/5.20.0/Catalyst/Dispatcher.pm line 258
	Catalyst::Dispatcher::_do_forward(Catalyst::Dispatcher=HASH(0x4b2b900), "forward", TestApp=HASH(0x5c01b78), "_ACTION") called at /home/sand/src/perl/repoperls/installed-perls/perl/v5.19.11-109-gdb93ece/9980/lib/site_perl/5.20.0/Catalyst/Dispatcher.pm line 238
	Catalyst::Dispatcher::forward(Catalyst::Dispatcher=HASH(0x4b2b900), TestApp=HASH(0x5c01b78), "_ACTION") called at /home/sand/src/perl/repoperls/installed-perls/perl/v5.19.11-109-gdb93ece/9980/lib/site_perl/5.20.0/Catalyst.pm line 397
	Catalyst::forward(TestApp=HASH(0x5c01b78), "_ACTION") called at /home/sand/src/perl/repoperls/installed-perls/perl/v5.19.11-109-gdb93ece/9980/lib/site_perl/5.20.0/Catalyst/Controller.pm line 135
	Catalyst::Controller::_DISPATCH(TestApp::Controller::Root=HASH(0x58daaa8), TestApp=HASH(0x5c01b78)) called at /home/sand/src/perl/repoperls/installed-perls/perl/v5.19.11-109-gdb93ece/9980/lib/site_perl/5.20.0/Catalyst/Action.pm line 65
	Catalyst::Action::execute(Catalyst::Action=HASH(0x5bab560), TestApp::Controller::Root=HASH(0x58daaa8), TestApp=HASH(0x5c01b78)) called at /home/sand/src/perl/repoperls/installed-perls/perl/v5.19.11-109-gdb93ece/9980/lib/site_perl/5.20.0/Catalyst.pm line 1734
	eval {...} called at /home/sand/src/perl/repoperls/installed-perls/perl/v5.19.11-109-gdb93ece/9980/lib/site_perl/5.20.0/Catalyst.pm line 1734
	Catalyst::execute(TestApp=HASH(0x5c01b78), "TestApp::Controller::Root", Catalyst::Action=HASH(0x5bab560)) called at /home/sand/src/perl/repoperls/installed-perls/perl/v5.19.11-109-gdb93ece/9980/lib/site_perl/5.20.0/Catalyst/Action.pm line 60
	Catalyst::Action::dispatch(Catalyst::Action=HASH(0x5bab560), TestApp=HASH(0x5c01b78)) called at /home/sand/src/perl/repoperls/installed-perls/perl/v5.19.11-109-gdb93ece/9980/lib/site_perl/5.20.0/Catalyst/Dispatcher.pm line 258
	Catalyst::Dispatcher::_do_forward(Catalyst::Dispatcher=HASH(0x4b2b900), "forward", TestApp=HASH(0x5c01b78), "/root/_DISPATCH") called at /home/sand/src/perl/repoperls/installed-perls/perl/v5.19.11-109-gdb93ece/9980/lib/site_perl/5.20.0/Catalyst/Dispatcher.pm line 238
	Catalyst::Dispatcher::forward(Catalyst::Dispatcher=HASH(0x4b2b900), TestApp=HASH(0x5c01b78), "/root/_DISPATCH") called at /home/sand/src/perl/repoperls/installed-perls/perl/v5.19.11-109-gdb93ece/9980/lib/site_perl/5.20.0/Catalyst.pm line 397
	Catalyst::forward(TestApp=HASH(0x5c01b78), "/root/_DISPATCH") called at /home/sand/src/perl/repoperls/installed-perls/perl/v5.19.11-109-gdb93ece/9980/lib/site_perl/5.20.0/Catalyst/Dispatcher.pm line 107
	Catalyst::Dispatcher::dispatch(Catalyst::Dispatcher=HASH(0x4b2b900), TestApp=HASH(0x5c01b78)) called at /home/sand/src/perl/repoperls/installed-perls/perl/v5.19.11-109-gdb93ece/9980/lib/site_perl/5.20.0/Catalyst.pm line 1680
	Catalyst::dispatch(TestApp=HASH(0x5c01b78)) called at /home/sand/src/perl/repoperls/installed-perls/perl/v5.19.11-109-gdb93ece/9980/lib/site_perl/5.20.0/Catalyst.pm line 2019
	Catalyst::try {...} () called at /home/sand/src/perl/repoperls/installed-perls/perl/v5.19.11-109-gdb93ece/9980/lib/site_perl/5.20.0/Try/Tiny.pm line 81
	eval {...} called at /home/sand/src/perl/repoperls/installed-perls/perl/v5.19.11-109-gdb93ece/9980/lib/site_perl/5.20.0/Try/Tiny.pm line 72
	Try::Tiny::try(CODE(0x5c014b8), Try::Tiny::Catch=REF(0x5c01350)) called at /home/sand/src/perl/repoperls/installed-perls/perl/v5.19.11-109-gdb93ece/9980/lib/site_perl/5.20.0/Catalyst.pm line 2028
	Catalyst::handle_request("TestApp", "env", HASH(0x58d26b8), "response_cb", CODE(0x5c01380)) called at /home/sand/src/perl/repoperls/installed-perls/perl/v5.19.11-109-gdb93ece/9980/lib/site_perl/5.20.0/Catalyst/Engine.pm line 797
	Catalyst::Engine::__ANON__(CODE(0x5c01380)) called at /home/sand/src/perl/repoperls/installed-perls/perl/v5.19.11-109-gdb93ece/9980/lib/site_perl/5.20.0/Plack/Middleware/HTTPExceptions.pm line 32
	Plack::Middleware::HTTPExceptions::try {...} () called at /home/sand/src/perl/repoperls/installed-perls/perl/v5.19.11-109-gdb93ece/9980/lib/site_perl/5.20.0/Try/Tiny.pm line 81
	eval {...} called at /home/sand/src/perl/repoperls/installed-perls/perl/v5.19.11-109-gdb93ece/9980/lib/site_perl/5.20.0/Try/Tiny.pm line 72
	Try::Tiny::try(CODE(0x5c011e8), Try::Tiny::Catch=REF(0x5c049c8)) called at /home/sand/src/perl/repoperls/installed-perls/perl/v5.19.11-109-gdb93ece/9980/lib/site_perl/5.20.0/Plack/Middleware/HTTPExceptions.pm line 41
	Plack::Middleware::HTTPExceptions::__ANON__(CODE(0x5c010e0)) called at /home/sand/src/perl/repoperls/installed-perls/perl/v5.19.11-109-gdb93ece/9980/lib/site_perl/5.20.0/Plack/Util.pm line 301
	Plack::Util::__ANON__(CODE(0x5c00fd8)) called at /home/sand/src/perl/repoperls/installed-perls/perl/v5.19.11-109-gdb93ece/9980/lib/site_perl/5.20.0/Plack/Util.pm line 301
	Plack::Util::__ANON__(CODE(0x5c00ed0)) called at /home/sand/src/perl/repoperls/installed-perls/perl/v5.19.11-109-gdb93ece/9980/lib/site_perl/5.20.0/Plack/Util.pm line 301
	Plack::Util::__ANON__(CODE(0x5c00e40)) called at /home/sand/src/perl/repoperls/installed-perls/perl/v5.19.11-109-gdb93ece/9980/lib/site_perl/5.20.0/HTTP/Message/PSGI.pm line 100
	HTTP::Message::PSGI::res_from_psgi(CODE(0x5c04890)) called at /home/sand/src/perl/repoperls/installed-perls/perl/v5.19.11-109-gdb93ece/9980/lib/site_perl/5.20.0/HTTP/Message/PSGI.pm line 155
	HTTP::Response::from_psgi("HTTP::Response", CODE(0x5c04890)) called at /home/sand/src/perl/repoperls/installed-perls/perl/v5.19.11-109-gdb93ece/9980/lib/site_perl/5.20.0/Plack/Test/MockHTTP.pm line 24
	Plack::Test::MockHTTP::try {...} () called at /home/sand/src/perl/repoperls/installed-perls/perl/v5.19.11-109-gdb93ece/9980/lib/site_perl/5.20.0/Try/Tiny.pm line 79
	eval {...} called at /home/sand/src/perl/repoperls/installed-perls/perl/v5.19.11-109-gdb93ece/9980/lib/site_perl/5.20.0/Try/Tiny.pm line 72
	Try::Tiny::try(CODE(0x5a36970), Try::Tiny::Catch=REF(0x5b804c0)) called at /home/sand/src/perl/repoperls/installed-perls/perl/v5.19.11-109-gdb93ece/9980/lib/site_perl/5.20.0/Plack/Test/MockHTTP.pm line 27
	Plack::Test::MockHTTP::request(Plack::Test::MockHTTP=HASH(0x5bfca38), HTTP::Request=HASH(0x5bcdc50)) called at /home/sand/src/perl/repoperls/installed-perls/perl/v5.19.11-109-gdb93ece/9980/lib/site_perl/5.20.0/Plack/Test.pm line 38
	Plack::Test::__ANON__(HTTP::Request=HASH(0x5bcdc50)) called at /home/sand/src/perl/repoperls/installed-perls/perl/v5.19.11-109-gdb93ece/9980/lib/site_perl/5.20.0/Catalyst/Test.pm line 281
	Catalyst::Test::__ANON__(CODE(0x5bfc8b8)) called at /home/sand/src/perl/repoperls/installed-perls/perl/v5.19.11-109-gdb93ece/9980/lib/site_perl/5.20.0/Plack/Test.pm line 38
	Plack::Test::test_psgi("app", CODE(0x5bc51e8), "mangle_response", CODE(0x4afbd68), "app", CODE(0x5befa70), "client", CODE(0x5bf01a8)) called at /home/sand/src/perl/repoperls/installed-perls/perl/v5.19.11-109-gdb93ece/9980/lib/site_perl/5.20.0/Catalyst/Test.pm line 284
	Catalyst::Test::_request(HASH(0x251dde0), "/template_email?time=1400065267") called at /home/sand/src/perl/repoperls/installed-perls/perl/v5.19.11-109-gdb93ece/9980/lib/site_perl/5.20.0/Catalyst/Test.pm line 327
	Catalyst::Test::_local_request("TestApp", "/template_email?time=1400065267") called at /home/sand/src/perl/repoperls/installed-perls/perl/v5.19.11-109-gdb93ece/9980/lib/site_perl/5.20.0/Catalyst/Test.pm line 32
	Catalyst::Test::__ANON__("/template_email?time=1400065267") called at t/05template.t line 18
t/05template.t .. ok
require TestApp::View::Mason was successful but the package is not defined. at /home/sand/src/perl/repoperls/installed-perls/perl/v5.19.11-109-gdb93ece/9980/lib/site_perl/5.20.0/Catalyst/Utils.pm line 314.
Class::MOP::load_class is deprecated at /home/sand/src/perl/repoperls/installed-perls/perl/v5.19.11-109-gdb93ece/9980/lib/site_perl/5.20.0/x86_64-linux-thread-multi/Class/MOP.pm line 73.
	Class::MOP::load_class("Email::Sender::Transport::Test") called at /tmp/loop_over_bdir-5191-nq5gYw/Catalyst-View-Email-0.33-IaXm9x/blib/lib/Catalyst/View/Email.pm line 226
	Catalyst::View::Email::_build_mailer_obj(TestApp::View::Email::AppConfig=HASH(0x5966ef0)) called at accessor Catalyst::View::Email::_mailer_obj (defined at /tmp/loop_over_bdir-5191-nq5gYw/Catalyst-View-Email-0.33-IaXm9x/blib/lib/Catalyst/View/Email.pm line 21) line 11
	Catalyst::View::Email::_mailer_obj(TestApp::View::Email::AppConfig=HASH(0x5966ef0)) called at /tmp/loop_over_bdir-5191-nq5gYw/Catalyst-View-Email-0.33-IaXm9x/blib/lib/Catalyst/View/Email.pm line 299
	Catalyst::View::Email::process(TestApp::View::Email::AppConfig=HASH(0x5966ef0), TestApp=HASH(0x5cf6288)) called at /home/sand/src/perl/repoperls/installed-perls/perl/v5.19.11-109-gdb93ece/9980/lib/site_perl/5.20.0/Catalyst/Action.pm line 65
	Catalyst::Action::execute(Catalyst::Action=HASH(0x5d02a30), TestApp::View::Email::AppConfig=HASH(0x5966ef0), TestApp=HASH(0x5cf6288)) called at /home/sand/src/perl/repoperls/installed-perls/perl/v5.19.11-109-gdb93ece/9980/lib/site_perl/5.20.0/Catalyst.pm line 1734
	eval {...} called at /home/sand/src/perl/repoperls/installed-perls/perl/v5.19.11-109-gdb93ece/9980/lib/site_perl/5.20.0/Catalyst.pm line 1734
	Catalyst::execute(TestApp=HASH(0x5cf6288), "TestApp::View::Email::AppConfig", Catalyst::Action=HASH(0x5d02a30)) called at /home/sand/src/perl/repoperls/installed-perls/perl/v5.19.11-109-gdb93ece/9980/lib/site_perl/5.20.0/Catalyst/Action.pm line 60
	Catalyst::Action::dispatch(Catalyst::Action=HASH(0x5d02a30), TestApp=HASH(0x5cf6288)) called at /home/sand/src/perl/repoperls/installed-perls/perl/v5.19.11-109-gdb93ece/9980/lib/site_perl/5.20.0/Catalyst/Dispatcher.pm line 258
	Catalyst::Dispatcher::_do_forward(Catalyst::Dispatcher=HASH(0x56049b8), "forward", TestApp=HASH(0x5cf6288), "TestApp::View::Email::AppConfig") called at /home/sand/src/perl/repoperls/installed-perls/perl/v5.19.11-109-gdb93ece/9980/lib/site_perl/5.20.0/Catalyst/Dispatcher.pm line 238
	Catalyst::Dispatcher::forward(Catalyst::Dispatcher=HASH(0x56049b8), TestApp=HASH(0x5cf6288), "TestApp::View::Email::AppConfig") called at /home/sand/src/perl/repoperls/installed-perls/perl/v5.19.11-109-gdb93ece/9980/lib/site_perl/5.20.0/Catalyst.pm line 397
	Catalyst::forward(TestApp=HASH(0x5cf6288), "TestApp::View::Email::AppConfig") called at /tmp/loop_over_bdir-5191-nq5gYw/Catalyst-View-Email-0.33-IaXm9x/t/lib/TestApp/Controller/Root.pm line 48
	TestApp::Controller::Root::email_app_config(TestApp::Controller::Root=HASH(0x59666c8), TestApp=HASH(0x5cf6288)) called at /home/sand/src/perl/repoperls/installed-perls/perl/v5.19.11-109-gdb93ece/9980/lib/site_perl/5.20.0/Catalyst/Action.pm line 65
	Catalyst::Action::execute(Catalyst::Action=HASH(0x5c4c4b8), TestApp::Controller::Root=HASH(0x59666c8), TestApp=HASH(0x5cf6288)) called at /home/sand/src/perl/repoperls/installed-perls/perl/v5.19.11-109-gdb93ece/9980/lib/site_perl/5.20.0/Catalyst.pm line 1734
	eval {...} called at /home/sand/src/perl/repoperls/installed-perls/perl/v5.19.11-109-gdb93ece/9980/lib/site_perl/5.20.0/Catalyst.pm line 1734
	Catalyst::execute(TestApp=HASH(0x5cf6288), "TestApp::Controller::Root", Catalyst::Action=HASH(0x5c4c4b8)) called at /home/sand/src/perl/repoperls/installed-perls/perl/v5.19.11-109-gdb93ece/9980/lib/site_perl/5.20.0/Catalyst/Action.pm line 60
	Catalyst::Action::dispatch(Catalyst::Action=HASH(0x5c4c4b8), TestApp=HASH(0x5cf6288)) called at /home/sand/src/perl/repoperls/installed-perls/perl/v5.19.11-109-gdb93ece/9980/lib/site_perl/5.20.0/Catalyst/Controller.pm line 161
	Catalyst::Controller::_ACTION(TestApp::Controller::Root=HASH(0x59666c8), TestApp=HASH(0x5cf6288)) called at /home/sand/src/perl/repoperls/installed-perls/perl/v5.19.11-109-gdb93ece/9980/lib/site_perl/5.20.0/Catalyst/Action.pm line 65
	Catalyst::Action::execute(Catalyst::Action=HASH(0x5c470d0), TestApp::Controller::Root=HASH(0x59666c8), TestApp=HASH(0x5cf6288)) called at /home/sand/src/perl/repoperls/installed-perls/perl/v5.19.11-109-gdb93ece/9980/lib/site_perl/5.20.0/Catalyst.pm line 1734
	eval {...} called at /home/sand/src/perl/repoperls/installed-perls/perl/v5.19.11-109-gdb93ece/9980/lib/site_perl/5.20.0/Catalyst.pm line 1734
	Catalyst::execute(TestApp=HASH(0x5cf6288), "TestApp::Controller::Root", Catalyst::Action=HASH(0x5c470d0)) called at /home/sand/src/perl/repoperls/installed-perls/perl/v5.19.11-109-gdb93ece/9980/lib/site_perl/5.20.0/Catalyst/Action.pm line 60
	Catalyst::Action::dispatch(Catalyst::Action=HASH(0x5c470d0), TestApp=HASH(0x5cf6288)) called at /home/sand/src/perl/repoperls/installed-perls/perl/v5.19.11-109-gdb93ece/9980/lib/site_perl/5.20.0/Catalyst/Dispatcher.pm line 258
	Catalyst::Dispatcher::_do_forward(Catalyst::Dispatcher=HASH(0x56049b8), "forward", TestApp=HASH(0x5cf6288), "_ACTION") called at /home/sand/src/perl/repoperls/installed-perls/perl/v5.19.11-109-gdb93ece/9980/lib/site_perl/5.20.0/Catalyst/Dispatcher.pm line 238
	Catalyst::Dispatcher::forward(Catalyst::Dispatcher=HASH(0x56049b8), TestApp=HASH(0x5cf6288), "_ACTION") called at /home/sand/src/perl/repoperls/installed-perls/perl/v5.19.11-109-gdb93ece/9980/lib/site_perl/5.20.0/Catalyst.pm line 397
	Catalyst::forward(TestApp=HASH(0x5cf6288), "_ACTION") called at /home/sand/src/perl/repoperls/installed-perls/perl/v5.19.11-109-gdb93ece/9980/lib/site_perl/5.20.0/Catalyst/Controller.pm line 135
	Catalyst::Controller::_DISPATCH(TestApp::Controller::Root=HASH(0x59666c8), TestApp=HASH(0x5cf6288)) called at /home/sand/src/perl/repoperls/installed-perls/perl/v5.19.11-109-gdb93ece/9980/lib/site_perl/5.20.0/Catalyst/Action.pm line 65
	Catalyst::Action::execute(Catalyst::Action=HASH(0x5c37268), TestApp::Controller::Root=HASH(0x59666c8), TestApp=HASH(0x5cf6288)) called at /home/sand/src/perl/repoperls/installed-perls/perl/v5.19.11-109-gdb93ece/9980/lib/site_perl/5.20.0/Catalyst.pm line 1734
	eval {...} called at /home/sand/src/perl/repoperls/installed-perls/perl/v5.19.11-109-gdb93ece/9980/lib/site_perl/5.20.0/Catalyst.pm line 1734
	Catalyst::execute(TestApp=HASH(0x5cf6288), "TestApp::Controller::Root", Catalyst::Action=HASH(0x5c37268)) called at /home/sand/src/perl/repoperls/installed-perls/perl/v5.19.11-109-gdb93ece/9980/lib/site_perl/5.20.0/Catalyst/Action.pm line 60
	Catalyst::Action::dispatch(Catalyst::Action=HASH(0x5c37268), TestApp=HASH(0x5cf6288)) called at /home/sand/src/perl/repoperls/installed-perls/perl/v5.19.11-109-gdb93ece/9980/lib/site_perl/5.20.0/Catalyst/Dispatcher.pm line 258
	Catalyst::Dispatcher::_do_forward(Catalyst::Dispatcher=HASH(0x56049b8), "forward", TestApp=HASH(0x5cf6288), "/root/_DISPATCH") called at /home/sand/src/perl/repoperls/installed-perls/perl/v5.19.11-109-gdb93ece/9980/lib/site_perl/5.20.0/Catalyst/Dispatcher.pm line 238
	Catalyst::Dispatcher::forward(Catalyst::Dispatcher=HASH(0x56049b8), TestApp=HASH(0x5cf6288), "/root/_DISPATCH") called at /home/sand/src/perl/repoperls/installed-perls/perl/v5.19.11-109-gdb93ece/9980/lib/site_perl/5.20.0/Catalyst.pm line 397
	Catalyst::forward(TestApp=HASH(0x5cf6288), "/root/_DISPATCH") called at /home/sand/src/perl/repoperls/installed-perls/perl/v5.19.11-109-gdb93ece/9980/lib/site_perl/5.20.0/Catalyst/Dispatcher.pm line 107
	Catalyst::Dispatcher::dispatch(Catalyst::Dispatcher=HASH(0x56049b8), TestApp=HASH(0x5cf6288)) called at /home/sand/src/perl/repoperls/installed-perls/perl/v5.19.11-109-gdb93ece/9980/lib/site_perl/5.20.0/Catalyst.pm line 1680
	Catalyst::dispatch(TestApp=HASH(0x5cf6288)) called at /home/sand/src/perl/repoperls/installed-perls/perl/v5.19.11-109-gdb93ece/9980/lib/site_perl/5.20.0/Catalyst.pm line 2019
	Catalyst::try {...} () called at /home/sand/src/perl/repoperls/installed-perls/perl/v5.19.11-109-gdb93ece/9980/lib/site_perl/5.20.0/Try/Tiny.pm line 81
	eval {...} called at /home/sand/src/perl/repoperls/installed-perls/perl/v5.19.11-109-gdb93ece/9980/lib/site_perl/5.20.0/Try/Tiny.pm line 72
	Try::Tiny::try(CODE(0x5cf5bc8), Try::Tiny::Catch=REF(0x5cf5a60)) called at /home/sand/src/perl/repoperls/installed-perls/perl/v5.19.11-109-gdb93ece/9980/lib/site_perl/5.20.0/Catalyst.pm line 2028
	Catalyst::handle_request("TestApp", "env", HASH(0x5c59cf0), "response_cb", CODE(0x5cf5a90)) called at /home/sand/src/perl/repoperls/installed-perls/perl/v5.19.11-109-gdb93ece/9980/lib/site_perl/5.20.0/Catalyst/Engine.pm line 797
	Catalyst::Engine::__ANON__(CODE(0x5cf5a90)) called at /home/sand/src/perl/repoperls/installed-perls/perl/v5.19.11-109-gdb93ece/9980/lib/site_perl/5.20.0/Plack/Middleware/HTTPExceptions.pm line 32
	Plack::Middleware::HTTPExceptions::try {...} () called at /home/sand/src/perl/repoperls/installed-perls/perl/v5.19.11-109-gdb93ece/9980/lib/site_perl/5.20.0/Try/Tiny.pm line 81
	eval {...} called at /home/sand/src/perl/repoperls/installed-perls/perl/v5.19.11-109-gdb93ece/9980/lib/site_perl/5.20.0/Try/Tiny.pm line 72
	Try::Tiny::try(CODE(0x5cf58f8), Try::Tiny::Catch=REF(0x5c915b8)) called at /home/sand/src/perl/repoperls/installed-perls/perl/v5.19.11-109-gdb93ece/9980/lib/site_perl/5.20.0/Plack/Middleware/HTTPExceptions.pm line 41
	Plack::Middleware::HTTPExceptions::__ANON__(CODE(0x5cf57f0)) called at /home/sand/src/perl/repoperls/installed-perls/perl/v5.19.11-109-gdb93ece/9980/lib/site_perl/5.20.0/Plack/Util.pm line 301
	Plack::Util::__ANON__(CODE(0x5cf56e8)) called at /home/sand/src/perl/repoperls/installed-perls/perl/v5.19.11-109-gdb93ece/9980/lib/site_perl/5.20.0/Plack/Util.pm line 301
	Plack::Util::__ANON__(CODE(0x5c91d08)) called at /home/sand/src/perl/repoperls/installed-perls/perl/v5.19.11-109-gdb93ece/9980/lib/site_perl/5.20.0/Plack/Util.pm line 301
	Plack::Util::__ANON__(CODE(0x5c91c78)) called at /home/sand/src/perl/repoperls/installed-perls/perl/v5.19.11-109-gdb93ece/9980/lib/site_perl/5.20.0/HTTP/Message/PSGI.pm line 100
	HTTP::Message::PSGI::res_from_psgi(CODE(0x5c91480)) called at /home/sand/src/perl/repoperls/installed-perls/perl/v5.19.11-109-gdb93ece/9980/lib/site_perl/5.20.0/HTTP/Message/PSGI.pm line 155
	HTTP::Response::from_psgi("HTTP::Response", CODE(0x5c91480)) called at /home/sand/src/perl/repoperls/installed-perls/perl/v5.19.11-109-gdb93ece/9980/lib/site_perl/5.20.0/Plack/Test/MockHTTP.pm line 24
	Plack::Test::MockHTTP::try {...} () called at /home/sand/src/perl/repoperls/installed-perls/perl/v5.19.11-109-gdb93ece/9980/lib/site_perl/5.20.0/Try/Tiny.pm line 79
	eval {...} called at /home/sand/src/perl/repoperls/installed-perls/perl/v5.19.11-109-gdb93ece/9980/lib/site_perl/5.20.0/Try/Tiny.pm line 72
	Try::Tiny::try(CODE(0x595f4f8), Try::Tiny::Catch=REF(0x5c0c2d8)) called at /home/sand/src/perl/repoperls/installed-perls/perl/v5.19.11-109-gdb93ece/9980/lib/site_perl/5.20.0/Plack/Test/MockHTTP.pm line 27
	Plack::Test::MockHTTP::request(Plack::Test::MockHTTP=HASH(0x5c598e8), HTTP::Request=HASH(0x5c511b8)) called at /home/sand/src/perl/repoperls/installed-perls/perl/v5.19.11-109-gdb93ece/9980/lib/site_perl/5.20.0/Plack/Test.pm line 38
	Plack::Test::__ANON__(HTTP::Request=HASH(0x5c511b8)) called at /home/sand/src/perl/repoperls/installed-perls/perl/v5.19.11-109-gdb93ece/9980/lib/site_perl/5.20.0/Catalyst/Test.pm line 281
	Catalyst::Test::__ANON__(CODE(0x5c59768)) called at /home/sand/src/perl/repoperls/installed-perls/perl/v5.19.11-109-gdb93ece/9980/lib/site_perl/5.20.0/Plack/Test.pm line 38
	Plack::Test::test_psgi("app", CODE(0x5c50d68), "mangle_response", CODE(0x4b89280), "app", CODE(0x5c7ecb0), "client", CODE(0x5c7f3e8)) called at /home/sand/src/perl/repoperls/installed-perls/perl/v5.19.11-109-gdb93ece/9980/lib/site_perl/5.20.0/Catalyst/Test.pm line 284
	Catalyst::Test::_request(HASH(0x25aade0), "/email_app_config?time=1400065267") called at /home/sand/src/perl/repoperls/installed-perls/perl/v5.19.11-109-gdb93ece/9980/lib/site_perl/5.20.0/Catalyst/Test.pm line 327
	Catalyst::Test::_local_request("TestApp", "/email_app_config?time=1400065267") called at /home/sand/src/perl/repoperls/installed-perls/perl/v5.19.11-109-gdb93ece/9980/lib/site_perl/5.20.0/Catalyst/Test.pm line 32
	Catalyst::Test::__ANON__("/email_app_config?time=1400065267") called at t/06config.t line 21
t/06config.t .... ok
t/07mason.t ..... skipped: Test requires module 'Catalyst::View::Mason' but it's not found
All tests successful.
Files=6, Tests=34,  2 wallclock secs ( 0.02 usr  0.01 sys +  2.41 cusr  0.13 csys =  2.57 CPU)
Result: PASS

------------------------------
PREREQUISITES
------------------------------

Prerequisite modules loaded:

requires:

    Module                Need     Have    
    --------------------- -------- --------
    Authen::SASL          2.13     2.16    
    Catalyst              5.7      5.90064 
    Email::MIME           1.859    1.926   
    Email::MIME::Creator  1.455    1.926   
    Email::Sender::Simple 0.100110 1.300011
    MIME::Base64          3.08     3.14    
    Moose                 0.93     2.1205  
    parent                0.223    0.228   
    Test::More            0.88     1.001003
    Test::Requires        0        0.07    

build_requires:

    Module                Need     Have    
    --------------------- -------- --------
    ExtUtils::MakeMaker   6.36     6.98    
    Test::More            0        1.001003
    Test::Requires        0        0.07    

configure_requires:

    Module                Need     Have    
    --------------------- -------- --------
    ExtUtils::MakeMaker   6.36     6.98    


------------------------------
ENVIRONMENT AND OTHER CONTEXT
------------------------------

Environment variables:

    AUTOMATED_TESTING = 1
    LANG = en_US.UTF-8
    LANGUAGE = en_US:en
    PATH = /usr/lib/ccache:/home/sand/bin:/usr/local/bin:/usr/bin:/bin:/usr/games:/usr/local/perl/bin:/usr/X11/bin:/sbin:/usr/sbin
    PERL = /tmp/basesmoker-reloperl-sjTB/bin/perl
    PERL5LIB = 
    PERL5OPT = 
    PERL5_CPANPLUS_IS_RUNNING = 32527
    PERL5_CPAN_IS_RUNNING = 32527
    PERL_MM_USE_DEFAULT = 1
    SHELL = /usr/bin/zsh
    TERM = screen

Perl special variables (and OS-specific diagnostics, for MSWin32):

    $^X = /tmp/basesmoker-reloperl-sjTB/bin/perl
    $UID/$EUID = 1005 / 1005
    $GID = 1005 1005
    $EGID = 1005 1005

Perl module toolchain versions installed:

    Module              Have    
    ------------------- --------
    CPAN                2.05    
    CPAN::Meta          2.141170
    Cwd                 3.47    
    ExtUtils::CBuilder  0.280216
    ExtUtils::Command   1.18    
    ExtUtils::Install   1.67    
    ExtUtils::MakeMaker 6.98    
    ExtUtils::Manifest  1.63    
    ExtUtils::ParseXS   3.24    
    File::Spec          3.47    
    JSON                2.90    
    JSON::PP            2.27203 
    Module::Build       0.4205  
    Module::Signature   0.73    
    Parse::CPAN::Meta   1.4414  
    Test::Harness       3.30    
    Test::More          1.001003
    YAML                0.90    
    YAML::Syck          1.27    
    version             0.9908  


--

Summary of my perl5 (revision 5 version 20 subversion 0) configuration:
  Commit id: db93ece847ecae62a67dd3899f41f9625d05f011
  Platform:
    osname=linux, osvers=3.13-1-amd64, archname=x86_64-linux-thread-multi
    uname='linux k83 3.13-1-amd64 #1 smp debian 3.13.7-1 (2014-03-25) x86_64 gnulinux '
    config_args='-Dprefix=/home/sand/src/perl/repoperls/installed-perls/perl/v5.19.11-109-gdb93ece/9980 -Dmyhostname=k83 -Dinstallusrbinperl=n -Uversiononly -Dusedevel -des -Ui_db -Duseithreads -Uuselongdouble -DDEBUGGING=-g'
    hint=recommended, useposix=true, d_sigaction=define
    useithreads=define, usemultiplicity=define
    use64bitint=define, use64bitall=define, uselongdouble=undef
    usemymalloc=n, bincompat5005=undef
  Compiler:
    cc='cc', ccflags ='-D_REENTRANT -D_GNU_SOURCE -fwrapv -fno-strict-aliasing -pipe -fstack-protector -I/usr/local/include -D_LARGEFILE_SOURCE -D_FILE_OFFSET_BITS=64',
    optimize='-O2 -g',
    cppflags='-D_REENTRANT -D_GNU_SOURCE -fwrapv -fno-strict-aliasing -pipe -fstack-protector -I/usr/local/include'
    ccversion='', gccversion='4.8.2', gccosandvers=''
    intsize=4, longsize=8, ptrsize=8, doublesize=8, byteorder=12345678
    d_longlong=define, longlongsize=8, d_longdbl=define, longdblsize=16
    ivtype='long', ivsize=8, nvtype='double', nvsize=8, Off_t='off_t', lseeksize=8
    alignbytes=8, prototype=define
  Linker and Libraries:
    ld='cc', ldflags =' -fstack-protector -L/usr/local/lib'
    libpth=/usr/local/lib /usr/lib/gcc/x86_64-linux-gnu/4.8/include-fixed /usr/include/x86_64-linux-gnu /usr/lib /lib/x86_64-linux-gnu /lib/../lib /usr/lib/x86_64-linux-gnu /usr/lib/../lib /lib
    libs=-lnsl -lgdbm -ldb -ldl -lm -lcrypt -lutil -lpthread -lc -lgdbm_compat
    perllibs=-lnsl -ldl -lm -lcrypt -lutil -lpthread -lc
    libc=libc-2.18.so, so=so, useshrplib=false, libperl=libperl.a
    gnulibc_version='2.18'
  Dynamic Linking:
    dlsrc=dl_dlopen.xs, dlext=so, d_dlsymun=undef, ccdlflags='-Wl,-E'
    cccdlflags='-fPIC', lddlflags='-shared -O2 -g -L/usr/local/lib -fstack-protector'


Characteristics of this binary (from libperl): 
  Compile-time options: HAS_TIMES MULTIPLICITY PERLIO_LAYERS
                        PERL_DONT_CREATE_GVSV
                        PERL_HASH_FUNC_ONE_AT_A_TIME_HARD
                        PERL_IMPLICIT_CONTEXT PERL_MALLOC_WRAP
                        PERL_NEW_COPY_ON_WRITE PERL_PRESERVE_IVUV
                        PERL_USE_DEVEL USE_64_BIT_ALL USE_64_BIT_INT
                        USE_ITHREADS USE_LARGE_FILES USE_LOCALE
                        USE_LOCALE_COLLATE USE_LOCALE_CTYPE
                        USE_LOCALE_NUMERIC USE_PERLIO USE_PERL_ATOF
                        USE_REENTRANT_API
  Locally applied patches:
	RC0
  Built under linux
  Compiled at May 14 2014 05:08:47
  %ENV:
    PERL="/tmp/basesmoker-reloperl-sjTB/bin/perl"
    PERL5LIB=""
    PERL5OPT=""
    PERL5_CPANPLUS_IS_RUNNING="32527"
    PERL5_CPAN_IS_RUNNING="32527"
    PERL_MM_USE_DEFAULT="1"
  @INC:
    /home/sand/src/perl/repoperls/installed-perls/perl/v5.19.11-109-gdb93ece/9980/lib/site_perl/5.20.0/x86_64-linux-thread-multi
    /home/sand/src/perl/repoperls/installed-perls/perl/v5.19.11-109-gdb93ece/9980/lib/site_perl/5.20.0
    /home/sand/src/perl/repoperls/installed-perls/perl/v5.19.11-109-gdb93ece/9980/lib/5.20.0/x86_64-linux-thread-multi
    /home/sand/src/perl/repoperls/installed-perls/perl/v5.19.11-109-gdb93ece/9980/lib/5.20.0
    .