Alien-Build-Plugin-Download-GitHub v0.10 Perl 5 v5.32.1 MSWin32-x86-multi-thread-64int

Status
Pass
From
aero
Dist
Alien-Build-Plugin-Download-GitHub v0.10
Platform
Perl 5 v5.32.1 MSWin32-x86-multi-thread-64int
Date
2022-10-31 23:35:46
ID
19320d69-6f9a-1014-94e8-c93b26ebb980
This distribution has been tested as part of the CPAN Testers
project, supporting the Perl programming language.  See
http://wiki.cpantesters.org/ for more information or email
questions to cpan-testers-discuss@perl.org


--
Dear Graham Ollis,

This is a computer-generated report for Alien-Build-Plugin-Download-GitHub-0.10
on perl 5.32.1, created by CPAN-Reporter-1.2018.

Thank you for uploading your work to CPAN.  Congratulations!
All tests were successful.

Sections of this report:

    * Tester comments
    * Program output
    * Prerequisites
    * Environment and other context

------------------------------
TESTER COMMENTS
------------------------------

Additional comments from tester:

none provided

------------------------------
PROGRAM OUTPUT
------------------------------

Output from 'C:\strawberry-perl-5.32-32bit\c\bin\gmake.exe test':

"C:\strawberry-perl-5.32-32bit\perl\bin\perl.exe" "-MExtUtils::Command::MM" "-MTest::Harness" "-e" "undef *Test::Harness::Switches; test_harness(0, 'blib\lib', 'blib\arch')" t/*.t
# 
# 
# 
# HARNESS_ACTIVE=1
# HARNESS_VERSION=3.44
# PERL5LIB=C:\strawberry-perl-5.32-32bit\cpan\build\Alien-Build-Plugin-Download-GitHub-0.10-0\blib\lib;C:\strawberry-perl-5.32-32bit\cpan\build\Alien-Build-Plugin-Download-GitHub-0.10-0\blib\arch
# PERL5_CPANPLUS_IS_RUNNING=21260
# PERL5_CPAN_IS_RUNNING=21260
# PERL_MM_USE_DEFAULT=1
# PERL_USE_UNSAFE_INC=1
# 
# 
# 
# PERL5LIB path
# C:\strawberry-perl-5.32-32bit\cpan\build\Alien-Build-Plugin-Download-GitHub-0.10-0\blib\lib
# C:\strawberry-perl-5.32-32bit\cpan\build\Alien-Build-Plugin-Download-GitHub-0.10-0\blib\arch
# 
# 
# 
# perl                                      5.032001 MSWin32 MSWin32-x86-multi-thread-64int
# Alien::Build                              2.72
# Alien::Build::Plugin                      2.72
# Alien::Build::Plugin::Download::Negotiate 2.72
# Alien::Build::Plugin::Extract::Negotiate  2.72
# Capture::Tiny                             0.48
# ExtUtils::MakeMaker                       7.64
# HTTP::Tiny                                0.082
# JSON::PP                                  4.12
# Path::Tiny                                0.130
# Test2::V0                                 0.000145
# Test::Alien::Build                        2.72
# URI                                       5.16
# YAML                                      1.30
# 
# 
# 
t/00_diag.t ............................. ok
t/01_use.t .............................. ok
t/alien_build_plugin_download_github.t .. ok
All tests successful.
Files=3, Tests=4, 23 wallclock secs ( 0.20 usr +  0.03 sys =  0.23 CPU)
Result: PASS

------------------------------
PREREQUISITES
------------------------------

Prerequisite modules loaded:

requires:

    Module                                    Need     Have    
    ----------------------------------------- -------- --------
    Alien::Build                              2.39     2.72    
    Alien::Build::Plugin                      0        2.72    
    Alien::Build::Plugin::Download::Negotiate 0        2.72    
    Alien::Build::Plugin::Extract::Negotiate  0        2.72    
    JSON::PP                                  0        4.12    
    Path::Tiny                                0        0.130   
    perl                                      5.008001 5.032001
    URI                                       0        5.16    
    YAML                                      0        1.30    

build_requires:

    Module                                    Need     Have    
    ----------------------------------------- -------- --------
    Capture::Tiny                             0        0.48    
    ExtUtils::MakeMaker                       0        7.64    
    HTTP::Tiny                                0        0.082   
    Test2::V0                                 0.000121 0.000145
    Test::Alien::Build                        0        2.72    

configure_requires:

    Module                                    Need     Have    
    ----------------------------------------- -------- --------
    ExtUtils::MakeMaker                       0        7.64    
    perl                                      5.008001 5.032001


------------------------------
ENVIRONMENT AND OTHER CONTEXT
------------------------------

Environment variables:

    COMSPEC = C:\WINDOWS\system32\cmd.exe
    NONINTERACTIVE_TESTING = 1
    NUMBER_OF_PROCESSORS = 4
    PATH = C:\strawberry-perl-5.32-32bit\perl\site\bin;C:\strawberry-perl-5.32-32bit\perl\bin;C:\strawberry-perl-5.32-32bit\c\bin;C:\ProgramData\Oracle\Java\javapath;C:\Program Files (x86)\Wizvera\Delfino;C:\WINDOWS\SYSTEM32;C:\WINDOWS;C:\WINDOWS\SYSTEM32\WBEM;C:\WINDOWS\SYSTEM32\WINDOWSPOWERSHELL\V1.0\;C:\PROGRAM FILES\THINKPAD\BLUETOOTH SOFTWARE\;C:\PROGRAM FILES\THINKPAD\BLUETOOTH SOFTWARE\SYSWOW64;C:\Program Files (x86)\Intel\OpenCL SDK\2.0\bin\x86;C:\Program Files (x86)\Intel\OpenCL SDK\2.0\bin\x64;C:\WINDOWS\system32;C:\WINDOWS;C:\WINDOWS\System32\Wbem;C:\WINDOWS\System32\WindowsPowerShell\v1.0\;C:\WINDOWS\System32\OpenSSH\;C:\Program Files\Microsoft VS Code\bin;C:\Program Files (x86)\Pulse Secure\VC142.CRT\X64\;C:\Program Files (x86)\Pulse Secure\VC142.CRT\X86\;C:\Program Files\Kubernetes\Minikube;C:\Program Files\Docker\Docker\resources\bin;C:\ProgramData\DockerDesktop\version-bin;C:\HashiCorp\Vagrant\bin;C:\Program Files\Git\cmd;C:\Program Files (x86)\Microsoft VS Code\bin;C:\Users\kang\AppData\Local\Microsoft\WindowsApps;;C:\Tcl\bin
    PERL5LIB = 
    PERL5OPT = 
    PERL5_CPANPLUS_IS_RUNNING = 21260
    PERL5_CPAN_IS_RUNNING = 21260
    PERL_MM_USE_DEFAULT = 1
    PERL_USE_UNSAFE_INC = 1
    PROCESSOR_IDENTIFIER = Intel64 Family 6 Model 42 Stepping 7, GenuineIntel
    TEMP = C:\Users\kang\AppData\Local\Temp
    TERM = dumb

Perl special variables (and OS-specific diagnostics, for MSWin32):

    $^X = C:\strawberry-perl-5.32-32bit\perl\bin\perl.exe
    $UID/$EUID = 0 / 0
    $GID = 0
    $EGID = 0
    Win32::GetOSName = Win10
    Win32::GetOSVersion = , 10, 0, 19045, 2, 0, 0, 256, 1
    Win32::FsType = NTFS
    Win32::IsAdminUser = 0

Perl module toolchain versions installed:

    Module              Have    
    ------------------- --------
    CPAN                2.34    
    CPAN::Meta          2.150010
    Cwd                 3.78    
    ExtUtils::CBuilder  0.280236
    ExtUtils::Command   7.64    
    ExtUtils::Install   2.20    
    ExtUtils::MakeMaker 7.64    
    ExtUtils::Manifest  1.73    
    ExtUtils::ParseXS   3.44    
    File::Spec          3.78    
    JSON                4.10    
    JSON::PP            4.12    
    Module::Build       0.4231  
    Module::Signature   0.88    
    Parse::CPAN::Meta   2.150010
    Test::Harness       3.44    
    Test::More          1.302191
    YAML                1.30    
    YAML::Syck          n/a     
    version             0.9929  


--

Summary of my perl5 (revision 5 version 32 subversion 1) configuration:
   
  Platform:
    osname=MSWin32
    osvers=10.0.19042.746
    archname=MSWin32-x86-multi-thread-64int
    uname='Win32 strawberry-perl 5.32.1.1 #1 Sun Jan 24 12:17:47 2021 i386'
    config_args='undef'
    hint=recommended
    useposix=true
    d_sigaction=undef
    useithreads=define
    usemultiplicity=define
    use64bitint=define
    use64bitall=undef
    uselongdouble=undef
    usemymalloc=n
    default_inc_excludes_dot=define
    bincompat5005=undef
  Compiler:
    cc='gcc'
    ccflags =' -DWIN32 -D__USE_MINGW_ANSI_STDIO -DPERL_TEXTMODE_SCRIPTS -DPERL_IMPLICIT_CONTEXT -DPERL_IMPLICIT_SYS -DUSE_PERLIO -fwrapv -fno-strict-aliasing -mms-bitfields'
    optimize='-s -O2'
    cppflags='-DWIN32'
    ccversion=''
    gccversion='8.3.0'
    gccosandvers=''
    intsize=4
    longsize=4
    ptrsize=4
    doublesize=8
    byteorder=12345678
    doublekind=3
    d_longlong=define
    longlongsize=8
    d_longdbl=define
    longdblsize=12
    longdblkind=3
    ivtype='long long'
    ivsize=8
    nvtype='double'
    nvsize=8
    Off_t='long long'
    lseeksize=8
    alignbytes=8
    prototype=define
  Linker and Libraries:
    ld='g++.exe'
    ldflags ='-s -L"C:\strawberry-perl-5.32-32bit\perl\lib\CORE" -L"C:\strawberry-perl-5.32-32bit\c\lib"'
    libpth=C:\strawberry-perl-5.32-32bit\c\lib C:\strawberry-perl-5.32-32bit\c\i686-w64-mingw32\lib C:\strawberry-perl-5.32-32bit\c\lib\gcc\i686-w64-mingw32\8.3.0
    libs= -lmoldname -lkernel32 -luser32 -lgdi32 -lwinspool -lcomdlg32 -ladvapi32 -lshell32 -lole32 -loleaut32 -lnetapi32 -luuid -lws2_32 -lmpr -lwinmm -lversion -lodbc32 -lodbccp32 -lcomctl32
    perllibs= -lmoldname -lkernel32 -luser32 -lgdi32 -lwinspool -lcomdlg32 -ladvapi32 -lshell32 -lole32 -loleaut32 -lnetapi32 -luuid -lws2_32 -lmpr -lwinmm -lversion -lodbc32 -lodbccp32 -lcomctl32
    libc=
    so=dll
    useshrplib=true
    libperl=libperl532.a
    gnulibc_version=''
  Dynamic Linking:
    dlsrc=dl_win32.xs
    dlext=xs.dll
    d_dlsymun=undef
    ccdlflags=' '
    cccdlflags=' '
    lddlflags='-mdll -s -L"C:\strawberry-perl-5.32-32bit\perl\lib\CORE" -L"C:\strawberry-perl-5.32-32bit\c\lib"'


Characteristics of this binary (from libperl): 
  Compile-time options:
    HAS_TIMES
    HAVE_INTERP_INTERN
    MULTIPLICITY
    PERLIO_LAYERS
    PERL_COPY_ON_WRITE
    PERL_DONT_CREATE_GVSV
    PERL_IMPLICIT_CONTEXT
    PERL_IMPLICIT_SYS
    PERL_MALLOC_WRAP
    PERL_OP_PARENT
    PERL_PRESERVE_IVUV
    USE_64_BIT_INT
    USE_ITHREADS
    USE_LARGE_FILES
    USE_LOCALE
    USE_LOCALE_COLLATE
    USE_LOCALE_CTYPE
    USE_LOCALE_NUMERIC
    USE_LOCALE_TIME
    USE_PERLIO
    USE_PERL_ATOF
  Built under MSWin32
  Compiled at Jan 24 2021 12:22:49
  %ENV:
    PERL5_CPANPLUS_IS_RUNNING="21260"
    PERL5_CPAN_IS_RUNNING="21260"
    PERL_MM_USE_DEFAULT="1"
    PERL_USE_UNSAFE_INC="1"
  @INC:
    C:/strawberry-perl-5.32-32bit/perl/site/lib/MSWin32-x86-multi-thread-64int
    C:/strawberry-perl-5.32-32bit/perl/site/lib
    C:/strawberry-perl-5.32-32bit/perl/vendor/lib
    C:/strawberry-perl-5.32-32bit/perl/lib
    .