Report for Pinto-0.09995

Back
From: metabase:user:320bfe00-2aae-11df-837a-5e0a49663a4f
Subject: PASS Pinto-0.09995 v5.10.1 GNU/Linux
Date: 2014-08-20T02:38:42Z

This distribution has been tested as part of the CPAN Testers
project, supporting the Perl programming language.  See
http://wiki.cpantesters.org/ for more information or email
questions to cpan-testers-discuss@perl.org


--
Dear Jeffrey Ryan Thalhammer,

This is a computer-generated report for Pinto-0.09995
on perl 5.10.1, created by CPAN-Reporter-1.2011.

Thank you for uploading your work to CPAN.  Congratulations!
All tests were successful.

Sections of this report:

    * Tester comments
    * Program output
    * Prerequisites
    * Environment and other context

------------------------------
TESTER COMMENTS
------------------------------

Additional comments from tester:

this report is from an automated smoke testing program
and was not reviewed by a human for accuracy

------------------------------
PROGRAM OUTPUT
------------------------------

Output from './Build test':

t/00-compile.t ........................ ok

# Versions for all modules listed in MYMETA.json (including optional ones):
#        Version Module                         
#   ------------ -------------------------------
#            1.9 Apache::Htpasswd               
#          0.323 App::Cmd                       
#          0.323 App::Cmd::Command::help        
#          0.323 App::Cmd::Setup                
#           0.72 Archive::Extract               
#           2.00 Archive::Tar                   
#            0.6 Authen::Simple::Passwd         
#           2.09 CPAN::Checksums                
#           0.12 CPAN::DistnameInfo             
#       2.142060 CPAN::Meta                     
#          2.126 CPAN::Meta::Requirements       
#           0.25 Capture::Tiny                  
#         1.3301 Carp                           
#           0.22 Class::Load                    
#           3.47 Cwd                            
#           0.04 Cwd::Guard                     
#           1.42 DBD::SQLite                    
#        0.08270 DBIx::Class                    
#          undef DBIx::Class::Core              
#          undef DBIx::Class::ResultSet         
#          undef DBIx::Class::Schema            
#           1.10 DateTime                       
#           1.73 DateTime::TimeZone             
#           1.73 DateTime::TimeZone::Local::Unix
#           1.73 DateTime::TimeZone::OffsetOnly 
#           1.34 Devel::StackTrace              
#           2.53 Digest::MD5                    
#           5.92 Digest::SHA                    
#          0.925 Dist::Metadata                 
#           2.62 Encode                         
#           5.70 Exporter                       
#        6.99_08 ExtUtils::MakeMaker            
#           2.14 File::Copy                     
#           1.14 File::Find                     
#           1.00 File::HomeDir                  
#           1.24 File::NFSLock                  
#           3.47 File::Spec                     
#           3.47 File::Spec::Functions          
#         0.2304 File::Temp                     
#           1.09 File::Which                    
#           1.50 FindBin                        
#           2.42 Getopt::Long                   
#           1.19 HTTP::Body                     
#           6.02 HTTP::Date                     
#           6.04 HTTP::Request::Common          
#           6.04 HTTP::Response                 
#          undef HTTP::Server::PSGI             
#           6.03 HTTP::Status                   
#           1.14 IO::File                       
#           1.28 IO::Handle                     
#          0.0.6 IO::Interactive                
#           1.13 IO::Pipe                       
#        missing IO::Prompt                     
#           1.17 IO::Select                     
#           1.08 IO::String                     
#           1.10 IO::Zlib                       
#           1.04 IPC::Open3                     
#           2.90 JSON                           
#        2.27203 JSON::PP                       
#           6.06 LWP::UserAgent                 
#           0.33 List::MoreUtils                
#           1.39 List::Util                     
#         0.4208 Module::Build                  
#           0.05 Module::Build::CleanInstall    
#       5.021002 Module::CoreList               
#          0.016 Module::Faker::Dist            
#         2.1302 Moose                          
#         2.1302 Moose::Role                    
#           0.11 MooseX::Aliases                
#           0.27 MooseX::ClassAttribute         
#           0.02 MooseX::Configuration          
#           0.15 MooseX::MarkAsMethods          
#           0.26 MooseX::NonMoose               
#       0.200002 MooseX::SetOnce                
#           0.19 MooseX::StrictConstructor      
#           0.44 MooseX::Types                  
#           0.44 MooseX::Types::Moose           
#           0.33 Path::Class                    
#           0.33 Path::Class::Dir               
#           0.33 Path::Class::File              
#         1.0031 Plack                          
#          undef Plack::MIME                    
#          undef Plack::Middleware::Auth::Basic 
#         1.0031 Plack::Request                 
#         1.0031 Plack::Response                
#          undef Plack::Runner                  
#          undef Plack::Test                    
#           1.64 Pod::Usage                     
#          0.802 Proc::Fork                     
#           0.05 Proc::Terminator               
#           2.00 Readonly                       
#           0.15 Router::Simple                 
#           1.39 Scalar::Util                   
#         0.4009 Starman                        
#           1.17 String::Format                 
#           4.03 Term::ANSIColor                
#         0.0016 Term::EditorEdit               
#   1.301001_038 Test::Builder::Module          
#           0.32 Test::Exception                
#           1.36 Test::File                     
#          0.025 Test::LWP::UserAgent           
#   1.301001_038 Test::More                     
#           2.06 Test::TCP                      
#           0.30 Test::Warn                     
#       0.200011 Throwable::Error               
#           0.22 Try::Tiny                      
#           1.64 URI                            
#           3.31 URI::Escape                    
#           4.21 URI::file                      
#           1.04 UUID::Tiny                     
#           2.18 base                           
#           0.62 lib                            
#           1.07 overload                       
#           1.04 strict                         
#           1.07 utf8                           
#         0.9909 version                        
#           1.06 warnings                       

# *** WARNING WARNING WARNING WARNING WARNING WARNING WARNING WARNING ***
# 
# The following REQUIRED prerequisites were not satisfied:
# 
# IO::Prompt is not installed (version '0' required)
# 
t/00-report-prereqs.t ................. ok
t/01-common/01-types.t ................ ok
t/01-common/02-target-package.t ....... ok
t/01-common/03-target-distribution.t .. ok
t/01-common/04-util.t ................. ok
t/01-common/05-pauseconfig.t .......... ok
t/02-bowels/01-config.t ............... ok
t/02-bowels/02-chrome.t ............... ok
t/02-bowels/03-package.t .............. ok
t/02-bowels/04-distribution.t ......... ok
t/02-bowels/05-compare.t .............. ok
t/02-bowels/10-init.t ................. ok
t/02-bowels/11-tester.t ............... ok
t/02-bowels/12-locator.t .............. ok
t/02-bowels/19-basic.t ................ ok
t/02-bowels/20-add.t .................. ok
t/02-bowels/21-add-no-index.t ......... ok
t/02-bowels/21-pull-vreq.t ............ ok
t/02-bowels/21-pull.t ................. ok
t/02-bowels/22-add-deep.t ............. ok
t/02-bowels/23-pull-multi.t ........... ok
t/02-bowels/24-skip-prereqs.t ......... ok
t/02-bowels/31-pin.t .................. ok
t/02-bowels/32-pin-rjbs.t ............. ok
t/02-bowels/35-delete.t ............... ok
t/02-bowels/40-list.t ................. ok
t/02-bowels/41-log.t .................. ok
t/02-bowels/42-install.t .............. ok
t/02-bowels/43-install-and-pull.t ..... ok
t/02-bowels/50-diff.t ................. ok
t/02-bowels/51-diff-more.t ............ ok
t/02-bowels/52-intermingle.t .......... ok
t/02-bowels/53-roots.t ................ ok
t/02-bowels/54-revert.t ............... ok
t/02-bowels/60-dryrun.t ............... ok
t/02-bowels/61-nofail.t ............... ok
t/02-bowels/62-commit.t ............... ok
t/02-bowels/63-prereq-circular.t ...... ok
t/02-bowels/63-prereq-core.t .......... ok
t/02-bowels/64-metadata.t ............. ok
t/02-bowels/70-stack-copy.t ........... ok
t/02-bowels/71-stack-kill.t ........... ok
t/02-bowels/72-stack-rename.t ......... ok
t/02-bowels/73-stack-lock.t ........... ok
t/02-bowels/74-stack-default.t ........ ok
t/02-bowels/75-stack-props.t .......... ok
t/02-bowels/80-repo-lock.t ............ ok
t/03-remote/01-requests.t ............. ok
t/03-remote/02-responses.t ............ ok
Installation failed.  See the cpanm build log for details
t/03-remote/03-install.t .............. ok
Installation failed.  See the cpanm build log for details
t/03-remote/04-install-with-auth.t .... ok
t/03-remote/05-timezone.t ............. ok
t/04-server/01-functional.t ........... ok
t/04-server/02-authentication.t ....... ok
t/04-server/03-security.t ............. ok
All tests successful.
Files=56, Tests=1495, 541 wallclock secs ( 0.37 usr  0.12 sys + 208.50 cusr 15.15 csys = 224.14 CPU)
Result: PASS

------------------------------
PREREQUISITES
------------------------------

Prerequisite modules loaded:

requires:

    Module                          Need     Have        
    ------------------------------- -------- ------------
    App::Cmd                        0.323    0.323       
    App::Cmd::Command::help         0        0.323       
    App::Cmd::Setup                 0        0.323       
    Archive::Extract                0.68     0.72        
    Archive::Tar                    0        2.00        
    Authen::Simple::Passwd          0        0.6         
    base                            0        2.18        
    Carp                            0        1.3301      
    Class::Load                     0        0.22        
    CPAN::Checksums                 0        2.09        
    CPAN::DistnameInfo              0        0.12        
    CPAN::Meta                      0        2.142060    
    CPAN::Meta::Requirements        0        2.126       
    Cwd                             0        3.47        
    Cwd::Guard                      0        0.04        
    DateTime                        0        1.10        
    DateTime::TimeZone              0        1.73        
    DateTime::TimeZone::Local::Unix 0        1.73        
    DateTime::TimeZone::OffsetOnly  0        1.73        
    DBD::SQLite                     1.33     1.42        
    DBIx::Class                     0.08200  0.08270     
    DBIx::Class::Core               0        0           
    DBIx::Class::ResultSet          0        0           
    DBIx::Class::Schema             0        0           
    Devel::StackTrace               0        1.34        
    Digest::MD5                     0        2.53        
    Digest::SHA                     0        5.92        
    Dist::Metadata                  0.924    0.925       
    Encode                          0        2.62        
    Exporter                        0        5.70        
    File::Copy                      0        2.14        
    File::Find                      0        1.14        
    File::HomeDir                   0        1.00        
    File::NFSLock                   0        1.24        
    File::Spec                      0        3.47        
    File::Temp                      0        0.2304      
    File::Which                     0        1.09        
    Getopt::Long                    0        2.42        
    HTTP::Date                      0        6.02        
    HTTP::Request::Common           0        6.04        
    HTTP::Status                    0        6.03        
    IO::File                        0        1.14        
    IO::Handle                      0        1.28        
    IO::Interactive                 0        0.0.6       
    IO::Pipe                        0        1.13        
  ! IO::Prompt                      0        n/a         
    IO::Select                      0        1.17        
    IO::String                      0        1.08        
    IO::Zlib                        0        1.10        
    JSON                            0        2.90        
    JSON::PP                        2.27103  2.27203     
    List::MoreUtils                 0        0.33        
    List::Util                      0        1.39        
    LWP::UserAgent                  0        6.06        
    Module::CoreList                5.021002 5.021002    
    Moose                           0        2.1302      
    Moose::Role                     0        2.1302      
    MooseX::Aliases                 0        0.11        
    MooseX::ClassAttribute          0.27     0.27        
    MooseX::Configuration           0        0.02        
    MooseX::MarkAsMethods           0        0.15        
    MooseX::NonMoose                0        0.26        
    MooseX::SetOnce                 0        0.200002    
    MooseX::StrictConstructor       0        0.19        
    MooseX::Types                   0        0.44        
    MooseX::Types::Moose            0        0.44        
    overload                        0        1.07        
    Path::Class                     0        0.33        
    Path::Class::Dir                0        0.33        
    Path::Class::File               0        0.33        
    perl                            5.008    5.010001    
    Plack                           1.0028   1.0031      
    Plack::Middleware::Auth::Basic  0        0           
    Plack::MIME                     0        0           
    Plack::Request                  0        1.0031      
    Plack::Response                 0        1.0031      
    Plack::Runner                   0        0           
    Pod::Usage                      0        1.64        
    Proc::Fork                      0        0.802       
    Proc::Terminator                0        0.05        
    Readonly                        0        2.00        
    Router::Simple                  0        0.15        
    Scalar::Util                    0        1.39        
    Starman                         0.3014   0.4009      
    strict                          0        1.04        
    String::Format                  0        1.17        
    Term::ANSIColor                 2.02     4.03        
    Term::EditorEdit                0        0.0016      
    Throwable::Error                0.200005 0.200011    
    Try::Tiny                       0        0.22        
    URI                             0        1.64        
    URI::Escape                     0        3.31        
    URI::file                       0        4.21        
    utf8                            0        1.07        
    UUID::Tiny                      0        1.04        
    version                         0        0.9909      
    warnings                        0        1.06        

build_requires:

    Module                          Need     Have        
    ------------------------------- -------- ------------
    Apache::Htpasswd                0        1.9         
    Capture::Tiny                   0        0.25        
    ExtUtils::MakeMaker             0        6.99_08     
    File::Spec                      0        3.47        
    File::Spec::Functions           0        3.47        
    File::Temp                      0        0.2304      
    FindBin                         0        1.50        
    HTTP::Body                      0        1.19        
    HTTP::Response                  0        6.04        
    HTTP::Server::PSGI              0        0           
    IO::Handle                      0        1.28        
    IPC::Open3                      0        1.04        
    lib                             0        0.62        
    Module::Build                   0.4005   0.4208      
    Module::Build::CleanInstall     0.05     0.05        
    Module::Faker::Dist             0.014    0.016       
    perl                            5.008    5.010001    
    Plack::Test                     0        0           
    Test::Builder::Module           0        1.301001_038
    Test::Exception                 0        0.32        
    Test::File                      0        1.36        
    Test::LWP::UserAgent            0.018    0.025       
    Test::More                      0.96     1.301001_038
    Test::TCP                       0        2.06        
    Test::Warn                      0        0.30        

configure_requires:

    Module                          Need     Have        
    ------------------------------- -------- ------------
    Module::Build                   0.4005   0.4208      
    Module::Build::CleanInstall     0.05     0.05        


------------------------------
ENVIRONMENT AND OTHER CONTEXT
------------------------------

Environment variables:

    AUTOMATED_TESTING = 1
    LANG = en_US.UTF-8
    LANGUAGE = en_US:en
    PATH = /usr/lib/ccache:/home/sand/bin:/usr/local/bin:/usr/bin:/bin:/usr/games:/usr/local/perl/bin:/usr/X11/bin:/sbin:/usr/sbin
    PERL5LIB = 
    PERL5OPT = 
    PERL5_CPANPLUS_IS_RUNNING = 10261
    PERL5_CPAN_IS_RUNNING = 10261
    PERL_MM_USE_DEFAULT = 1
    SHELL = /usr/bin/zsh
    TERM = screen

Perl special variables (and OS-specific diagnostics, for MSWin32):

    $^X = /home/sand/src/perl/repoperls/installed-perls/perl/perl-5.10.1/5da8/bin/perl
    $UID/$EUID = 1005 / 1005
    $GID = 1005 1005
    $EGID = 1005 1005

Perl module toolchain versions installed:

    Module              Have        
    ------------------- ------------
    CPAN                2.05        
    CPAN::Meta          2.142060    
    Cwd                 3.47        
    ExtUtils::CBuilder  0.280216    
    ExtUtils::Command   1.16        
    ExtUtils::Install   1.54        
    ExtUtils::MakeMaker 6.99_08     
    ExtUtils::Manifest  1.65        
    ExtUtils::ParseXS   3.24        
    File::Spec          3.47        
    JSON                2.90        
    JSON::PP            2.27203     
    Module::Build       0.4208      
    Module::Signature   n/a         
    Parse::CPAN::Meta   1.4414      
    Test::Harness       3.33        
    Test::More          1.301001_038
    YAML                1.09        
    YAML::Syck          1.27        
    version             0.9909      


--

Summary of my perl5 (revision 5 version 10 subversion 1) configuration:
  Commit id: 5348debf9fd57fc15c26529386769684fab96e57
  Platform:
    osname=linux, osvers=3.14-2-amd64, archname=x86_64-linux
    uname='linux k83 3.14-2-amd64 #1 smp debian 3.14.13-2 (2014-07-24) x86_64 gnulinux '
    config_args='-Dprefix=/home/sand/src/perl/repoperls/installed-perls/perl/perl-5.10.1/5da8 -Dmyhostname=k83 -Dinstallusrbinperl=n -Uversiononly -Dusedevel -des -Ui_db -Uuseithreads -Uuselongdouble -DDEBUGGING=-g -Dusedl -Ddlsrc=dl_dlopen.xs -Dlibs=-lnsl -ldb -ldl -lm -lcrypt -lutil -lc -Dlibpth=/usr/lib/x86_64-linux-gnu /usr/local/lib /lib /usr/lib'
    hint=recommended, useposix=true, d_sigaction=define
    useithreads=undef, usemultiplicity=undef
    useperlio=define, d_sfio=undef, uselargefiles=define, usesocks=undef
    use64bitint=define, use64bitall=define, uselongdouble=undef
    usemymalloc=n, bincompat5005=undef
  Compiler:
    cc='cc', ccflags ='-fno-strict-aliasing -pipe -fstack-protector -I/usr/local/include -D_LARGEFILE_SOURCE -D_FILE_OFFSET_BITS=64',
    optimize='-O2 -g',
    cppflags='-fno-strict-aliasing -pipe -fstack-protector -I/usr/local/include'
    ccversion='', gccversion='4.9.1', gccosandvers=''
    intsize=4, longsize=8, ptrsize=8, doublesize=8, byteorder=12345678
    d_longlong=define, longlongsize=8, d_longdbl=define, longdblsize=16
    ivtype='long', ivsize=8, nvtype='double', nvsize=8, Off_t='off_t', lseeksize=8
    alignbytes=8, prototype=define
  Linker and Libraries:
    ld='cc', ldflags =' -fstack-protector -L/usr/local/lib'
    libpth=/usr/lib/x86_64-linux-gnu /usr/local/lib /lib /usr/lib
    libs=-lnsl -ldb -ldl -lm -lcrypt -lutil -lc
    perllibs=-lnsl -ldl -lm -lcrypt -lutil -lc
    libc=, so=so, useshrplib=false, libperl=libperl.a
    gnulibc_version='2.19'
  Dynamic Linking:
    dlsrc=dl_dlopen.xs, dlext=so, d_dlsymun=undef, ccdlflags='-Wl,-E'
    cccdlflags='-fPIC', lddlflags='-shared -O2 -g -L/usr/local/lib -fstack-protector'


Characteristics of this binary (from libperl): 
  Compile-time options: PERL_DONT_CREATE_GVSV PERL_MALLOC_WRAP PERL_USE_DEVEL
                        USE_64_BIT_ALL USE_64_BIT_INT USE_LARGE_FILES
                        USE_PERLIO
  Built under linux
  Compiled at Aug 11 2014 08:49:59
  %ENV:
    PERL5LIB=""
    PERL5OPT=""
    PERL5_CPANPLUS_IS_RUNNING="10261"
    PERL5_CPAN_IS_RUNNING="10261"
    PERL_MM_USE_DEFAULT="1"
  @INC:
    /home/sand/src/perl/repoperls/installed-perls/perl/perl-5.10.1/5da8/lib/5.10.1/x86_64-linux
    /home/sand/src/perl/repoperls/installed-perls/perl/perl-5.10.1/5da8/lib/5.10.1
    /home/sand/src/perl/repoperls/installed-perls/perl/perl-5.10.1/5da8/lib/site_perl/5.10.1/x86_64-linux
    /home/sand/src/perl/repoperls/installed-perls/perl/perl-5.10.1/5da8/lib/site_perl/5.10.1
    .