DBD-Pg v3.15.1 Perl 5 v5.34.1 x86_64-linux

Status
Pass
From
Dan Book
Dist
DBD-Pg v3.15.1
Platform
Perl 5 v5.34.1 x86_64-linux
Date
2022-03-16 07:38:40
ID
199167e0-a4fc-11ec-9b53-50e396fc588e
This distribution has been tested as part of the CPAN Testers
project, supporting the Perl programming language.  See
http://wiki.cpantesters.org/ for more information or email
questions to cpan-testers-discuss@perl.org


--
Dear TURNSTEP,

This is a computer-generated report for DBD-Pg-3.15.1
on perl 5.34.1, created by App::cpanminus::reporter 0.17 (1.7045).

Thank you for uploading your work to CPAN.  Congratulations!
All tests were successful.

Sections of this report:

    * Tester comments
    * Program output
    * Prerequisites
    * Environment and other context

------------------------------
TESTER COMMENTS
------------------------------

Additional comments from tester:

none provided

------------------------------
PROGRAM OUTPUT
------------------------------

Output from '':

Building and testing DBD-Pg-3.15.1
cp lib/Bundle/DBD/Pg.pm blib/lib/Bundle/DBD/Pg.pm
cp Pg.pm blib/lib/DBD/Pg.pm
Running Mkbootstrap for Pg ()
chmod 644 "Pg.bs"
"/home/grinnz/.plenv/versions/5.34.1/bin/perl5.34.1" -MExtUtils::Command::MM -e 'cp_nonempty' -- Pg.bs blib/arch/auto/DBD/Pg/Pg.bs 644
"/home/grinnz/.plenv/versions/5.34.1/bin/perl5.34.1" -p -e "s/~DRIVER~/Pg/g; s/^do\(/dontdo\(/" /home/grinnz/.plenv/versions/5.34.1/lib/perl5/site_perl/5.34.1/x86_64-linux/auto/DBI/Driver.xst > Pg.xsi
"/home/grinnz/.plenv/versions/5.34.1/bin/perl5.34.1" "/home/grinnz/.plenv/versions/5.34.1/lib/perl5/5.34.1/ExtUtils/xsubpp"  -typemap '/home/grinnz/.plenv/versions/5.34.1/lib/perl5/5.34.1/ExtUtils/typemap'  Pg.xs > Pg.xsc
mv Pg.xsc Pg.c
cc -c  -I/usr/include -I/home/grinnz/.plenv/versions/5.34.1/lib/perl5/site_perl/5.34.1/x86_64-linux/auto/DBI -fwrapv -fno-strict-aliasing -pipe -fstack-protector-strong -I/usr/local/include -D_LARGEFILE_SOURCE -D_FILE_OFFSET_BITS=64 -D_FORTIFY_SOURCE=2 -DPGLIBVERSION=130004 -DPGDEFPORT=5432 -O2  -DPERL_EXTMALLOC_DEF -Dmalloc=Perl_malloc -Dfree=Perl_mfree -Drealloc=Perl_realloc -Dcalloc=Perl_calloc -DVERSION=\"3.15.1\" -DXS_VERSION=\"3.15.1\" -fPIC "-I/home/grinnz/.plenv/versions/5.34.1/lib/perl5/5.34.1/x86_64-linux/CORE"   Pg.c
cc -c  -I/usr/include -I/home/grinnz/.plenv/versions/5.34.1/lib/perl5/site_perl/5.34.1/x86_64-linux/auto/DBI -fwrapv -fno-strict-aliasing -pipe -fstack-protector-strong -I/usr/local/include -D_LARGEFILE_SOURCE -D_FILE_OFFSET_BITS=64 -D_FORTIFY_SOURCE=2 -DPGLIBVERSION=130004 -DPGDEFPORT=5432 -O2  -DPERL_EXTMALLOC_DEF -Dmalloc=Perl_malloc -Dfree=Perl_mfree -Drealloc=Perl_realloc -Dcalloc=Perl_calloc -DVERSION=\"3.15.1\" -DXS_VERSION=\"3.15.1\" -fPIC "-I/home/grinnz/.plenv/versions/5.34.1/lib/perl5/5.34.1/x86_64-linux/CORE"   dbdimp.c
cc -c  -I/usr/include -I/home/grinnz/.plenv/versions/5.34.1/lib/perl5/site_perl/5.34.1/x86_64-linux/auto/DBI -fwrapv -fno-strict-aliasing -pipe -fstack-protector-strong -I/usr/local/include -D_LARGEFILE_SOURCE -D_FILE_OFFSET_BITS=64 -D_FORTIFY_SOURCE=2 -DPGLIBVERSION=130004 -DPGDEFPORT=5432 -O2  -DPERL_EXTMALLOC_DEF -Dmalloc=Perl_malloc -Dfree=Perl_mfree -Drealloc=Perl_realloc -Dcalloc=Perl_calloc -DVERSION=\"3.15.1\" -DXS_VERSION=\"3.15.1\" -fPIC "-I/home/grinnz/.plenv/versions/5.34.1/lib/perl5/5.34.1/x86_64-linux/CORE"   quote.c
cc -c  -I/usr/include -I/home/grinnz/.plenv/versions/5.34.1/lib/perl5/site_perl/5.34.1/x86_64-linux/auto/DBI -fwrapv -fno-strict-aliasing -pipe -fstack-protector-strong -I/usr/local/include -D_LARGEFILE_SOURCE -D_FILE_OFFSET_BITS=64 -D_FORTIFY_SOURCE=2 -DPGLIBVERSION=130004 -DPGDEFPORT=5432 -O2  -DPERL_EXTMALLOC_DEF -Dmalloc=Perl_malloc -Dfree=Perl_mfree -Drealloc=Perl_realloc -Dcalloc=Perl_calloc -DVERSION=\"3.15.1\" -DXS_VERSION=\"3.15.1\" -fPIC "-I/home/grinnz/.plenv/versions/5.34.1/lib/perl5/5.34.1/x86_64-linux/CORE"   types.c
rm -f blib/arch/auto/DBD/Pg/Pg.so
LD_RUN_PATH="/usr/lib64" cc  -shared -O2 -L/usr/local/lib -fstack-protector-strong  Pg.o dbdimp.o quote.o types.o  -o blib/arch/auto/DBD/Pg/Pg.so  \
   -L/usr/lib64 -lpq -lm   \
  
chmod 755 blib/arch/auto/DBD/Pg/Pg.so
Manifying 2 pod documents
"/home/grinnz/.plenv/versions/5.34.1/bin/perl5.34.1" -MExtUtils::Command::MM -e 'cp_nonempty' -- Pg.bs blib/arch/auto/DBD/Pg/Pg.bs 644
PGINITDB="/usr/bin/initdb" PERL_DL_NONLAZY=1 "/home/grinnz/.plenv/versions/5.34.1/bin/perl5.34.1" "-MExtUtils::Command::MM" "-MTest::Harness" "-e" "undef *Test::Harness::Switches; test_harness(0, 'blib/lib', 'blib/arch')" t/*.t
t/00_signature.t ....... skipped: Set the environment variable TEST_SIGNATURE to enable this test
t/00basic.t ............ ok
Please wait, creating new database (version 13.4) for testing
# 
# DBI                         Version 1.643
# DBD::Pg                     Version 3.15.1
# Perl                        Version 5.34.1
# OS                          linux
# PostgreSQL (compiled)       130004
# PostgreSQL (target)         130004
# PostgreSQL (reported)       PostgreSQL 13.4 on x86_64-redhat-linux-gnu, compiled by gcc (GCC) 11.2.1 20211203 (Red Hat 11.2.1-7), 64-bit
# Default port                5432
# DBI_DSN                     dbi:Pg:db="postgres";port=5440;host=<pwd>/dbdpg_test_database/data/socket
# DBI_USER                    grinnz
# Test schema                 dbd_pg_testschema
# LANG                        C
# Adjusted:                   initdb
t/01connect.t .......... ok
t/01constants.t ........ ok
t/02attribs.t .......... ok
t/03dbmethod.t ......... ok
t/03smethod.t .......... ok
t/04misc.t ............. ok
t/06bytea.t ............ ok
t/07copy.t ............. ok
t/08async.t ............ ok
t/09arrays.t ........... ok
t/10_pg_error_field.t .. ok
t/12placeholders.t ..... ok
t/20savepoints.t ....... ok
t/30unicode.t .......... ok
t/99cleanup.t .......... ok
All tests successful.
Files=17, Tests=3007, 45 wallclock secs ( 0.65 usr  0.09 sys +  7.29 cusr  1.71 csys =  9.74 CPU)
Result: PASS

------------------------------
PREREQUISITES
------------------------------

Prerequisite modules loaded:

    No requirements found

------------------------------
ENVIRONMENT AND OTHER CONTEXT
------------------------------

Environment variables:

    LANG = en_US.UTF-8
    PATH = /home/grinnz/.plenv/versions/5.34.1/bin:/home/grinnz/.plenv/libexec:/home/grinnz/.plenv/plugins/perl-build/bin:/home/grinnz/.plenv/plugins/plenv-contrib/bin:/home/grinnz/.plenv/shims:/home/grinnz/.plenv/bin:/usr/local/cuda/bin:/home/grinnz/.plenv/bin:/usr/local/cuda/bin:/usr/local/bin:/usr/bin:/usr/local/sbin:/usr/sbin
    SHELL = /usr/bin/fish
    TERM = screen

Perl special variables (and OS-specific diagnostics, for MSWin32):

    EGID = 1000 10 26 135 974 1000
    EUID = 1000
    EXECUTABLE_NAME = /home/grinnz/.plenv/versions/5.34.1/bin/perl5.34.1
    GID = 1000 10 26 135 974 1000
    UID = 1000

Perl module toolchain versions installed:

    Module              Have    
    ------------------- --------
    CPAN                2.28    
    CPAN::Meta          2.150010
    Cwd                 3.80    
    ExtUtils::CBuilder  0.280236
    ExtUtils::Command   7.62    
    ExtUtils::Install   2.20    
    ExtUtils::MakeMaker 7.62    
    ExtUtils::Manifest  1.73    
    ExtUtils::ParseXS   3.43    
    File::Spec          3.80    
    JSON                4.05    
    JSON::PP            4.06    
    Module::Build       0.4231  
    Module::Signature   0.88    
    Parse::CPAN::Meta   2.150010
    Test::Harness       3.43    
    Test::More          1.302190
    YAML                1.30    
    YAML::Syck          1.34    
    version             0.9929  


--

Summary of my perl5 (revision 5 version 34 subversion 1) configuration:
   
  Platform:
    osname=linux
    osvers=5.16.13-200.fc35.x86_64
    archname=x86_64-linux
    uname='linux home.grinnz.com 5.16.13-200.fc35.x86_64 #1 smp preempt tue mar 8 22:50:58 utc 2022 x86_64 x86_64 x86_64 gnulinux '
    config_args='-Dprefix=/home/grinnz/.plenv/versions/5.34.1 -de -Dversiononly -A'eval:scriptdir=/home/grinnz/.plenv/versions/5.34.1/bin''
    hint=recommended
    useposix=true
    d_sigaction=define
    useithreads=undef
    usemultiplicity=undef
    use64bitint=define
    use64bitall=define
    uselongdouble=undef
    usemymalloc=n
    default_inc_excludes_dot=define
  Compiler:
    cc='cc'
    ccflags ='-fwrapv -fno-strict-aliasing -pipe -fstack-protector-strong -I/usr/local/include -D_LARGEFILE_SOURCE -D_FILE_OFFSET_BITS=64 -D_FORTIFY_SOURCE=2'
    optimize='-O2'
    cppflags='-fwrapv -fno-strict-aliasing -pipe -fstack-protector-strong -I/usr/local/include'
    ccversion=''
    gccversion='11.2.1 20220127 (Red Hat 11.2.1-9)'
    gccosandvers=''
    intsize=4
    longsize=8
    ptrsize=8
    doublesize=8
    byteorder=12345678
    doublekind=3
    d_longlong=define
    longlongsize=8
    d_longdbl=define
    longdblsize=16
    longdblkind=3
    ivtype='long'
    ivsize=8
    nvtype='double'
    nvsize=8
    Off_t='off_t'
    lseeksize=8
    alignbytes=8
    prototype=define
  Linker and Libraries:
    ld='cc'
    ldflags =' -fstack-protector-strong -L/usr/local/lib'
    libpth=/usr/local/lib /usr/lib /usr/lib64 /usr/local/lib64
    libs=-lpthread -lgdbm -ldb -ldl -lm -lcrypt -lutil -lc -lgdbm_compat
    perllibs=-lpthread -ldl -lm -lcrypt -lutil -lc
    libc=/lib/../lib64/libc.so.6
    so=so
    useshrplib=false
    libperl=libperl.a
    gnulibc_version='2.34'
  Dynamic Linking:
    dlsrc=dl_dlopen.xs
    dlext=so
    d_dlsymun=undef
    ccdlflags='-Wl,-E'
    cccdlflags='-fPIC'
    lddlflags='-shared -O2 -L/usr/local/lib -fstack-protector-strong'


Characteristics of this binary (from libperl): 
  Compile-time options:
    HAS_TIMES
    PERLIO_LAYERS
    PERL_COPY_ON_WRITE
    PERL_DONT_CREATE_GVSV
    PERL_MALLOC_WRAP
    PERL_OP_PARENT
    PERL_PRESERVE_IVUV
    USE_64_BIT_ALL
    USE_64_BIT_INT
    USE_LARGE_FILES
    USE_LOCALE
    USE_LOCALE_COLLATE
    USE_LOCALE_CTYPE
    USE_LOCALE_NUMERIC
    USE_LOCALE_TIME
    USE_PERLIO
    USE_PERL_ATOF
  Built under linux
  Compiled at Mar 15 2022 23:25:10
  @INC:
    /home/grinnz/.plenv/versions/5.34.1/lib/perl5/site_perl/5.34.1/x86_64-linux
    /home/grinnz/.plenv/versions/5.34.1/lib/perl5/site_perl/5.34.1
    /home/grinnz/.plenv/versions/5.34.1/lib/perl5/5.34.1/x86_64-linux
    /home/grinnz/.plenv/versions/5.34.1/lib/perl5/5.34.1