Filter-Crypto v2.07 Perl 5 v5.27.8 amd64-freebsd

Status
Pass
From
Slaven Rezić (SREZIC)
Dist
Filter-Crypto v2.07
Platform
Perl 5 v5.27.8 amd64-freebsd
Date
2018-01-22 08:27:36
ID
19af0212-ff4e-11e7-80be-bfdf2f8f2e1f
This distribution has been tested as part of the CPAN Testers
project, supporting the Perl programming language.  See
http://wiki.cpantesters.org/ for more information or email
questions to cpan-testers-discuss@perl.org


--
Dear Steve Hay,

This is a computer-generated report for Filter-Crypto-2.07
on perl 5.27.8, created by CPAN-Reporter-1.2018.

Thank you for uploading your work to CPAN.  Congratulations!
All tests were successful.

Sections of this report:

    * Tester comments
    * Program output
    * Prerequisites
    * Environment and other context

------------------------------
TESTER COMMENTS
------------------------------

Additional comments from tester:

none provided

------------------------------
PROGRAM OUTPUT
------------------------------

Output from '/usr/bin/make test':

"/usr/perl5.27.8p/bin/perl5.27.8" -MExtUtils::Command::MM -e 'cp_nonempty' -- CryptFile.bs ../blib/arch/auto/Filter/Crypto/CryptFile/CryptFile.bs 644
Manifying 1 pod document
"/usr/perl5.27.8p/bin/perl5.27.8" -MExtUtils::Command::MM -e 'cp_nonempty' -- Decrypt.bs ../blib/arch/auto/Filter/Crypto/Decrypt/Decrypt.bs 644
Manifying 1 pod document
PERL_DL_NONLAZY=1 "/usr/perl5.27.8p/bin/perl5.27.8" "-MExtUtils::Command::MM" "-MTest::Harness" "-e" "undef *Test::Harness::Switches; test_harness(0, 'blib/lib', 'blib/arch')" t/*.t
t/01_imports_01.t .... ok
t/01_imports_02.t .... ok
t/01_imports_03.t .... ok
t/01_imports_04.t .... ok
t/02_function.t ...... ok
t/03_script.t ........ ok
t/04_par.t ........... skipped: PAR::Filter required to test PAR::Filter::Crypto
t/05_errstr.t ........ ok
t/06_changes.t ....... skipped: Author testing only
t/07_critic.t ........ skipped: Author testing only
t/08_pod.t ........... skipped: Author testing only
t/09_pod_coverage.t .. skipped: Author testing only
All tests successful.
Files=12, Tests=432, 13 wallclock secs ( 0.13 usr  0.03 sys + 10.15 cusr  2.48 csys = 12.79 CPU)
Result: PASS

------------------------------
PREREQUISITES
------------------------------

Prerequisite modules loaded:

requires:

    Module                Need     Have     
    --------------------- -------- ---------
    Carp                  0        1.45     
    Config                0        5.027008 
    constant              0        1.33     
    Cwd                   0        3.72     
    Exporter              0        5.72     
    ExtUtils::MakeMaker   6.66     7.30     
    Fcntl                 0        1.13     
    File::Basename        0        2.85     
    File::Copy            0        2.33     
    File::Find            0        1.34     
    File::Spec::Functions 0        3.72     
    File::Temp            0        0.2304   
    Getopt::Long          0        2.5      
    perl                  5.008001 5.027008 
    Pod::Usage            1.15     1.69     
    Scalar::Util          0        1.49     
    strict                0        1.11     
    Text::ParseWords      0        3.30     
    Text::Wrap            0        2013.0523
    warnings              0        1.40     
    XSLoader              0        0.30     

build_requires:

    Module                Need     Have     
    --------------------- -------- ---------
    blib                  0        1.07     
    ExtUtils::MakeMaker   0        7.30     
    FindBin               0        1.51     
    Test::More            0        1.302120 

configure_requires:

    Module                Need     Have     
    --------------------- -------- ---------
    Carp                  0        1.45     
    Config                0        5.027008 
    constant              0        1.33     
    Cwd                   0        3.72     
    ExtUtils::MakeMaker   6.66     7.30     
    Fcntl                 0        1.13     
    File::Basename        0        2.85     
    File::Copy            0        2.33     
    File::Spec::Functions 0        3.72     
    Getopt::Long          0        2.5      
    perl                  5.008001 5.027008 
    Pod::Usage            1.15     1.69     
    strict                0        1.11     
    Text::Wrap            0        2013.0523
    warnings              0        1.40     


------------------------------
ENVIRONMENT AND OTHER CONTEXT
------------------------------

Environment variables:

    PATH = /usr/local/bin:/usr/bin:/bin:/usr/local/sbin:/usr/sbin:/sbin:/home/cpansand/bin/sh:/home/cpansand/bin:/usr/games:/home/cpansand/devel:/home/eserte/src/srezic-misc/scripts
    PERL5LIB = 
    PERL5OPT = 
    PERL5_CPANPLUS_IS_RUNNING = 90811
    PERL5_CPAN_IS_RUNNING = 90811
    PERL5_CPAN_IS_RUNNING_IN_RECURSION = 55747,90811
    PERL_BATCH = yes
    PERL_CANARY_STABILITY_NOPROMPT = 1
    PERL_CPAN_REPORTER_CONFIG = /var/tmp/cpansmoker-1023/2018012212/cpanreporter_000_config.ini
    PERL_EXTUTILS_AUTOINSTALL = --defaultdeps
    PERL_USE_UNSAFE_INC = 1
    SHELL = /bin/sh
    TMPDIR = /var/tmp/cpansmoker-1023/2018012212

Perl special variables (and OS-specific diagnostics, for MSWin32):

    $^X = /usr/perl5.27.8p/bin/perl5.27.8
    $UID/$EUID = 1023 / 1023
    $GID = 1023 1023
    $EGID = 1023 1023

Perl module toolchain versions installed:

    Module              Have    
    ------------------- --------
    CPAN                2.20    
    CPAN::Meta          2.150010
    Cwd                 3.72    
    ExtUtils::CBuilder  0.280230
    ExtUtils::Command   7.30    
    ExtUtils::Install   2.14    
    ExtUtils::MakeMaker 7.30    
    ExtUtils::Manifest  1.70    
    ExtUtils::ParseXS   3.36    
    File::Spec          3.72    
    JSON                2.97001 
    JSON::PP            2.97001 
    Module::Build       0.4224  
    Module::Signature   0.81    
    Parse::CPAN::Meta   2.150010
    Test::Harness       3.39    
    Test::More          1.302120
    YAML                1.24    
    YAML::Syck          1.30    
    version             0.9918  


--

Summary of my perl5 (revision 5 version 27 subversion 8) configuration:
   
  Platform:
    osname=freebsd
    osvers=11.1-stable
    archname=amd64-freebsd
    uname='freebsd ali3.bbbike.org 11.1-stable freebsd 11.1-stable #4 18a2f90a6ea(stable11)-dirty: mon jan 15 04:25:39 pst 2018 root@ali3.bbbike.org:usrobjhomeprojectsfreebsdsysgeneric amd64 '
    config_args='-ds -e -Dprefix=/usr/perl5.27.8p -Dusedevel -Dusemallocwrap=no -Dcf_email=srezic@cpan.org -Doptimize=-O2 -pipe'
    hint=recommended
    useposix=true
    d_sigaction=define
    useithreads=undef
    usemultiplicity=undef
    use64bitint=define
    use64bitall=define
    uselongdouble=undef
    usemymalloc=n
    default_inc_excludes_dot=define
    bincompat5005=undef
  Compiler:
    cc='cc'
    ccflags ='-DHAS_FPSETMASK -DHAS_FLOATINGPOINT_H -fno-strict-aliasing -pipe -fstack-protector-strong -I/usr/local/include -D_FORTIFY_SOURCE=2'
    optimize='-O2 -pipe'
    cppflags='-DHAS_FPSETMASK -DHAS_FLOATINGPOINT_H -fno-strict-aliasing -pipe -fstack-protector-strong -I/usr/local/include'
    ccversion=''
    gccversion='4.2.1 Compatible FreeBSD Clang 5.0.1 (tags/RELEASE_501/final 320880)'
    gccosandvers=''
    intsize=4
    longsize=8
    ptrsize=8
    doublesize=8
    byteorder=12345678
    doublekind=3
    d_longlong=define
    longlongsize=8
    d_longdbl=define
    longdblsize=16
    longdblkind=3
    ivtype='long'
    ivsize=8
    nvtype='double'
    nvsize=8
    Off_t='off_t'
    lseeksize=8
    alignbytes=8
    prototype=define
  Linker and Libraries:
    ld='cc'
    ldflags ='-pthread -Wl,-E  -fstack-protector-strong -L/usr/local/lib'
    libpth=/usr/lib /usr/local/lib /usr/lib/clang/5.0.1/lib /usr/lib
    libs=-lpthread -lgdbm -lm -lcrypt -lutil -lc
    perllibs=-lpthread -lm -lcrypt -lutil -lc
    libc=
    so=so
    useshrplib=false
    libperl=libperl.a
    gnulibc_version=''
  Dynamic Linking:
    dlsrc=dl_dlopen.xs
    dlext=so
    d_dlsymun=undef
    ccdlflags=' '
    cccdlflags='-DPIC -fPIC'
    lddlflags='-shared  -L/usr/local/lib -fstack-protector-strong'


Characteristics of this binary (from libperl): 
  Compile-time options:
    HAS_TIMES
    PERLIO_LAYERS
    PERL_COPY_ON_WRITE
    PERL_DONT_CREATE_GVSV
    PERL_OP_PARENT
    PERL_PRESERVE_IVUV
    PERL_USE_DEVEL
    USE_64_BIT_ALL
    USE_64_BIT_INT
    USE_LARGE_FILES
    USE_LOCALE
    USE_LOCALE_COLLATE
    USE_LOCALE_CTYPE
    USE_LOCALE_NUMERIC
    USE_LOCALE_TIME
    USE_PERLIO
    USE_PERL_ATOF
  Built under freebsd
  Compiled at Jan 20 2018 16:55:53
  %ENV:
    PERL5LIB=""
    PERL5OPT=""
    PERL5_CPANPLUS_IS_RUNNING="90811"
    PERL5_CPAN_IS_RUNNING="90811"
    PERL5_CPAN_IS_RUNNING_IN_RECURSION="55747,90811"
    PERL_BATCH="yes"
    PERL_CANARY_STABILITY_NOPROMPT="1"
    PERL_CPAN_REPORTER_CONFIG="/var/tmp/cpansmoker-1023/2018012212/cpanreporter_000_config.ini"
    PERL_EXTUTILS_AUTOINSTALL="--defaultdeps"
    PERL_USE_UNSAFE_INC="1"
  @INC:
    /usr/perl5.27.8p/lib/site_perl/5.27.8/amd64-freebsd
    /usr/perl5.27.8p/lib/site_perl/5.27.8
    /usr/perl5.27.8p/lib/5.27.8/amd64-freebsd
    /usr/perl5.27.8p/lib/5.27.8
    .