Back
From: metabase:user:6970b1ae-1421-11e4-ab07-c64c76713efd
Subject: PASS Catalyst-Controller-AutoAssets-0.33 v5.18.2 Mac OS X
Date: 2016-01-12T07:07:11Z
This distribution has been tested as part of the CPAN Testers
project, supporting the Perl programming language. See
http://wiki.cpantesters.org/ for more information or email
questions to cpan-testers-discuss@perl.org
--
Dear Henry Van Styn,
This is a computer-generated report for Catalyst-Controller-AutoAssets-0.33
on perl 5.18.2, created by CPAN-Reporter-1.2011.
Thank you for uploading your work to CPAN. Congratulations!
All tests were successful.
Sections of this report:
* Tester comments
* Program output
* Prerequisites
* Environment and other context
------------------------------
TESTER COMMENTS
------------------------------
Additional comments from tester:
this report is from an automated smoke testing program
and was not reviewed by a human for accuracy
------------------------------
PROGRAM OUTPUT
------------------------------
Output from '/usr/bin/make test':
PERL_DL_NONLAZY=1 "/usr/bin/perl" "-MExtUtils::Command::MM" "-MTest::Harness" "-e" "undef *Test::Harness::Switches; test_harness(0, 'blib/lib', 'blib/arch')" t/*.t
t/01_basic.t ........... ok
t/02_minify.t .......... skipped: JavaScript::Minifier required for testing minify
t/03_directory.t ....... ok
t/04_pod.t ............. ok
t/05_scopify.t ......... ok
t/10_parallel_build.t .. ok
All tests successful.
Files=6, Tests=19, 6 wallclock secs ( 0.04 usr 0.02 sys + 3.68 cusr 0.28 csys = 4.02 CPU)
Result: PASS
------------------------------
PREREQUISITES
------------------------------
Prerequisite modules loaded:
requires:
Module Need Have
-------------------------- ---- --------
Carp 0 1.3301
Catalyst::Controller 0 0
Catalyst::Utils 0 0
CatalystX::InjectComponent 0 0.025
CSS::Scopifier 0.04 0.04
CSS::Scopifier::Group 0 0
Cwd 0 3.47
Data::Dumper::Concise 0 2.022
Digest::SHA1 0 2.13
Fcntl 0 1.11
File::stat 0 1.07
MIME::Types 0 2.09
Module::Runtime 0 0.014
Moose 0 2.1403
Moose::Role 0 2.1403
namespace::autoclean 0 0.24
Path::Class 0.32 0.35
Storable 0 2.51
strict 0 1.07
Time::HiRes 0 1.9726
Try::Tiny 0 0.22
warnings 0 1.18
build_requires:
Module Need Have
-------------------------- ---- --------
Catalyst 0 5.90082
Catalyst::Test 0 0
ExtUtils::MakeMaker 0 7.04
FindBin 0 1.51
lib 0 0.63
parent 0 0.228
Test::More 0 1.001014
configure_requires:
Module Need Have
-------------------------- ---- --------
ExtUtils::MakeMaker 0 7.04
------------------------------
ENVIRONMENT AND OTHER CONTEXT
------------------------------
Environment variables:
AUTOMATED_TESTING = 1
PATH = /usr/bin:/bin
PERL5LIB = /Users/dhorner/.cpan/build/CSS-Scopifier-0.04-VdpBHt/blib/arch:/Users/dhorner/.cpan/build/CSS-Scopifier-0.04-VdpBHt/blib/lib
PERL5OPT =
PERL5_CPANPLUS_IS_RUNNING = 1804
PERL5_CPAN_IS_RUNNING = 1804
PERL5_CPAN_IS_RUNNING_IN_RECURSION = 12201,1804
PERL_CR_SMOKER_CURRENT = Catalyst-Controller-AutoAssets-0.33
PERL_EXTUTILS_AUTOINSTALL = --defaultdeps
PERL_MM_USE_DEFAULT = 1
SHELL = /bin/bash
TERM = unknown
VERSIONER_PERL_PREFER_32_BIT = no
VERSIONER_PERL_VERSION = 5.18
Perl special variables (and OS-specific diagnostics, for MSWin32):
$^X = /usr/bin/perl
$UID/$EUID = 0 / 0
$GID = 0 0 1 2 3 4 5 8 9 12 20 29 61 80 401 33 98 100 204 395 398 101
$EGID = 0 0 1 2 3 4 5 8 9 12 20 29 61 80 401 33 98 100 204 395 398 101
Perl module toolchain versions installed:
Module Have
------------------- --------
CPAN 2.05
CPAN::Meta 2.143240
Cwd 3.47
ExtUtils::CBuilder 0.280220
ExtUtils::Command 1.20
ExtUtils::Install 2.04
ExtUtils::MakeMaker 7.04
ExtUtils::Manifest 1.70
ExtUtils::ParseXS 3.24
File::Spec 3.47
JSON 2.90
JSON::PP 2.27300
Module::Build 0.4210
Module::Signature n/a
Parse::CPAN::Meta 1.4414
Test::Harness 3.35
Test::More 1.001014
YAML 1.13
YAML::Syck 1.29
version 0.9909
--
Summary of my perl5 (revision 5 version 18 subversion 2) configuration:
Platform:
osname=darwin, osvers=14.0, archname=darwin-thread-multi-2level
uname='darwin osx228.apple.com 14.0 darwin kernel version 14.0.0: tue jun 2 11:49:04 pdt 2015; root:xnu-2782.1.97.1.3~1development_x86_64 x86_64 '
config_args='-ds -e -Dprefix=/usr -Dccflags=-g -pipe -Dldflags= -Dman3ext=3pm -Duseithreads -Duseshrplib -Dinc_version_list=none -Dcc=cc'
hint=recommended, useposix=true, d_sigaction=define
useithreads=define, usemultiplicity=define
useperlio=define, d_sfio=undef, uselargefiles=define, usesocks=undef
use64bitint=define, use64bitall=define, uselongdouble=undef
usemymalloc=n, bincompat5005=undef
Compiler:
cc='cc', ccflags ='-arch i386 -arch x86_64 -g -pipe -fno-common -DPERL_DARWIN -fno-strict-aliasing -fstack-protector',
optimize='-Os',
cppflags='-g -pipe -fno-common -DPERL_DARWIN -fno-strict-aliasing -fstack-protector'
ccversion='', gccversion='4.2.1 Compatible Apple LLVM 6.0 (clang-600.0.39)', gccosandvers=''
intsize=4, longsize=8, ptrsize=8, doublesize=8, byteorder=12345678
d_longlong=define, longlongsize=8, d_longdbl=define, longdblsize=16
ivtype='long', ivsize=8, nvtype='double', nvsize=8, Off_t='off_t', lseeksize=8
alignbytes=8, prototype=define
Linker and Libraries:
ld='cc -mmacosx-version-min=10.10.5', ldflags ='-arch i386 -arch x86_64 -fstack-protector'
libpth=/usr/lib /usr/local/lib
libs=
perllibs=
libc=, so=dylib, useshrplib=true, libperl=libperl.dylib
gnulibc_version=''
Dynamic Linking:
dlsrc=dl_dlopen.xs, dlext=bundle, d_dlsymun=undef, ccdlflags=' '
cccdlflags=' ', lddlflags='-arch i386 -arch x86_64 -bundle -undefined dynamic_lookup -fstack-protector'
Characteristics of this binary (from libperl):
Compile-time options: HAS_TIMES MULTIPLICITY PERLIO_LAYERS
PERL_DONT_CREATE_GVSV
PERL_HASH_FUNC_ONE_AT_A_TIME_HARD
PERL_IMPLICIT_CONTEXT PERL_MALLOC_WRAP
PERL_PRESERVE_IVUV PERL_SAWAMPERSAND USE_64_BIT_ALL
USE_64_BIT_INT USE_ITHREADS USE_LARGE_FILES
USE_LOCALE USE_LOCALE_COLLATE USE_LOCALE_CTYPE
USE_LOCALE_NUMERIC USE_PERLIO USE_PERL_ATOF
USE_REENTRANT_API
Locally applied patches:
/Library/Perl/Updates/<version> comes before system perl directories
installprivlib and installarchlib points to the Updates directory
Built under darwin
Compiled at Jul 9 2015 01:30:43
%ENV:
PERL5LIB="/Users/dhorner/.cpan/build/CSS-Scopifier-0.04-VdpBHt/blib/arch:/Users/dhorner/.cpan/build/CSS-Scopifier-0.04-VdpBHt/blib/lib"
PERL5OPT=""
PERL5_CPANPLUS_IS_RUNNING="1804"
PERL5_CPAN_IS_RUNNING="1804"
PERL5_CPAN_IS_RUNNING_IN_RECURSION="12201,1804"
PERL_CR_SMOKER_CURRENT="Catalyst-Controller-AutoAssets-0.33"
PERL_EXTUTILS_AUTOINSTALL="--defaultdeps"
PERL_MM_USE_DEFAULT="1"
@INC:
/Users/dhorner/.cpan/build/CSS-Scopifier-0.04-VdpBHt/blib/arch
/Users/dhorner/.cpan/build/CSS-Scopifier-0.04-VdpBHt/blib/lib
/Library/Perl/5.18/darwin-thread-multi-2level
/Library/Perl/5.18
/Network/Library/Perl/5.18/darwin-thread-multi-2level
/Network/Library/Perl/5.18
/Library/Perl/Updates/5.18.2/darwin-thread-multi-2level
/Library/Perl/Updates/5.18.2
/System/Library/Perl/5.18/darwin-thread-multi-2level
/System/Library/Perl/5.18
/System/Library/Perl/Extras/5.18/darwin-thread-multi-2level
/System/Library/Perl/Extras/5.18
.