Term-ReadLine v1.14 Perl 5 v5.28.0 x86_64-linux-thread-multi-ld
- Status
- Pass
- From
- Aaron W. Swenson
- Dist
-
Term-ReadLine v1.14
- Platform
- Perl 5 v5.28.0 x86_64-linux-thread-multi-ld
- Date
- 2018-09-26 11:34:16
- ID
- 19c31fb4-c180-11e8-a38d-137d6e9b1fb0
This distribution has been tested as part of the CPAN Testers
project, supporting the Perl programming language. See
http://wiki.cpantesters.org/ for more information or email
questions to cpan-testers-discuss@perl.org
--
Dear FLORA,
This is a computer-generated report for Term-ReadLine-1.14
on perl 5.28.0, created by App::cpanminus::reporter 0.17 (1.7044).
Thank you for uploading your work to CPAN. Congratulations!
All tests were successful.
Sections of this report:
* Tester comments
* Program output
* Prerequisites
* Environment and other context
------------------------------
TESTER COMMENTS
------------------------------
Additional comments from tester:
none provided
------------------------------
PROGRAM OUTPUT
------------------------------
Output from '':
Building and testing Term-ReadLine-1.14
cp lib/Term/ReadLine.pm blib/lib/Term/ReadLine.pm
Manifying 1 pod document
PERL_DL_NONLAZY=1 "/home/titan/perl5/perlbrew/perls/perl-5.28.0/bin/perl" "-MExtUtils::Command::MM" "-MTest::Harness" "-e" "undef *Test::Harness::Switches; test_harness(0, 'blib/lib', 'blib/arch')" t/*.t
t/AE.t .................. skipped: AnyEvent is not installed.
t/AETk.t ................ skipped: AnyEvent and/or Tk is not installed.
t/ReadLine.t ............ ok
t/release-pod-syntax.t .. skipped: these tests are for release candidate testing
t/Tk.t .................. skipped: Tk is not installed.
All tests successful.
Files=5, Tests=15, 1 wallclock secs ( 0.02 usr 0.00 sys + 0.18 cusr 0.00 csys = 0.20 CPU)
Result: PASS
------------------------------
PREREQUISITES
------------------------------
Prerequisite modules loaded:
No requirements found
------------------------------
ENVIRONMENT AND OTHER CONTEXT
------------------------------
Environment variables:
LANG = en_US.utf8
PATH = /home/titan/.cargo/bin:/usr/local/bin/heroku/bin:/home/titan/perl5/perlbrew/bin:/home/titan/perl5/perlbrew/perls/perl-5.28.0/bin:/usr/x86_64-pc-linux-gnu/gcc-bin/7.3.0:/usr/lib/llvm/5/bin:/usr/local/bin:/usr/bin:/bin:/opt/bin:/usr/games/bin
PERLBREW_HOME = /home/titan/.perlbrew
PERLBREW_MANPATH = /home/titan/perl5/perlbrew/perls/perl-5.28.0/man
PERLBREW_PATH = /home/titan/perl5/perlbrew/bin:/home/titan/perl5/perlbrew/perls/perl-5.28.0/bin
PERLBREW_PERL = perl-5.28.0
PERLBREW_ROOT = /home/titan/perl5/perlbrew
PERLBREW_SHELLRC_VERSION = 0.84
PERLBREW_VERSION = 0.84
SHELL = /bin/bash
TERM = screen
Perl special variables (and OS-specific diagnostics, for MSWin32):
EGID = 1000 10 18 27 35 85 100 105 250 992 998 999 1000
EUID = 1000
EXECUTABLE_NAME = /home/titan/perl5/perlbrew/perls/perl-5.28.0/bin/perl
GID = 1000 10 18 27 35 85 100 105 250 992 998 999 1000
UID = 1000
Perl module toolchain versions installed:
Module Have
------------------- --------
CPAN 2.20
CPAN::Meta 2.150010
Cwd 3.74
ExtUtils::CBuilder 0.280230
ExtUtils::Command 7.34
ExtUtils::Install 2.14
ExtUtils::MakeMaker 7.34
ExtUtils::Manifest 1.70
ExtUtils::ParseXS 3.39
File::Spec 3.74
JSON n/a
JSON::PP 2.97001
Module::Build 0.4224
Module::Signature n/a
Parse::CPAN::Meta 2.150010
Test::Harness 3.42
Test::More 1.302138
YAML n/a
YAML::Syck n/a
version 0.9923
--
Summary of my perl5 (revision 5 version 28 subversion 0) configuration:
Platform:
osname=linux
osvers=4.14.52-gentoo
archname=x86_64-linux-thread-multi-ld
uname='linux martineau 4.14.52-gentoo #2 smp tue jul 3 18:37:50 edt 2018 x86_64 intel(r) core(tm) i3-4160 cpu @ 3.60ghz genuineintel gnulinux '
config_args='-de -Dprefix=/home/titan/perl5/perlbrew/perls/perl-5.28.0 -Duselongdouble -Duse64bitall -Dusethreads -Accflags=-O2 -march=native -pipe -Aeval:scriptdir=/home/titan/perl5/perlbrew/perls/perl-5.28.0/bin'
hint=recommended
useposix=true
d_sigaction=define
useithreads=define
usemultiplicity=define
use64bitint=define
use64bitall=define
uselongdouble=define
usemymalloc=n
default_inc_excludes_dot=define
bincompat5005=undef
Compiler:
cc='cc'
ccflags ='-D_REENTRANT -D_GNU_SOURCE -O2 -march=native -pipe -fwrapv -fno-strict-aliasing -fstack-protector-strong -D_LARGEFILE_SOURCE -D_FILE_OFFSET_BITS=64'
optimize='-O2'
cppflags='-D_REENTRANT -D_GNU_SOURCE -O2 -march=native -pipe -fwrapv -fno-strict-aliasing -fstack-protector-strong'
ccversion=''
gccversion='7.3.0'
gccosandvers=''
intsize=4
longsize=8
ptrsize=8
doublesize=8
byteorder=12345678
doublekind=3
d_longlong=define
longlongsize=8
d_longdbl=define
longdblsize=16
longdblkind=3
ivtype='long'
ivsize=8
nvtype='long double'
nvsize=16
Off_t='off_t'
lseeksize=8
alignbytes=16
prototype=define
Linker and Libraries:
ld='cc'
ldflags =' -fstack-protector-strong -L/usr/local/lib'
libpth=/usr/lib/gcc/x86_64-pc-linux-gnu/7.3.0/include-fixed /usr/lib /usr/local/lib /lib/../lib64 /usr/lib/../lib64 /lib /lib64 /usr/lib64 /usr/local/lib64
libs=-lpthread -lnsl -lgdbm -ldb -ldl -lm -lcrypt -lutil -lc -lgdbm_compat
perllibs=-lpthread -lnsl -ldl -lm -lcrypt -lutil -lc
libc=libc-2.26.so
so=so
useshrplib=false
libperl=libperl.a
gnulibc_version='2.26'
Dynamic Linking:
dlsrc=dl_dlopen.xs
dlext=so
d_dlsymun=undef
ccdlflags='-Wl,-E'
cccdlflags='-fPIC'
lddlflags='-shared -O2 -L/usr/local/lib -fstack-protector-strong'
Characteristics of this binary (from libperl):
Compile-time options:
HAS_TIMES
MULTIPLICITY
PERLIO_LAYERS
PERL_COPY_ON_WRITE
PERL_DONT_CREATE_GVSV
PERL_IMPLICIT_CONTEXT
PERL_MALLOC_WRAP
PERL_OP_PARENT
PERL_PRESERVE_IVUV
USE_64_BIT_ALL
USE_64_BIT_INT
USE_ITHREADS
USE_LARGE_FILES
USE_LOCALE
USE_LOCALE_COLLATE
USE_LOCALE_CTYPE
USE_LOCALE_NUMERIC
USE_LOCALE_TIME
USE_LONG_DOUBLE
USE_PERLIO
USE_PERL_ATOF
USE_REENTRANT_API
Locally applied patches:
Devel::PatchPerl 1.38
Built under linux
Compiled at Jul 31 2018 22:28:34
%ENV:
PERLBREW_HOME="/home/titan/.perlbrew"
PERLBREW_MANPATH="/home/titan/perl5/perlbrew/perls/perl-5.28.0/man"
PERLBREW_PATH="/home/titan/perl5/perlbrew/bin:/home/titan/perl5/perlbrew/perls/perl-5.28.0/bin"
PERLBREW_PERL="perl-5.28.0"
PERLBREW_ROOT="/home/titan/perl5/perlbrew"
PERLBREW_SHELLRC_VERSION="0.84"
PERLBREW_VERSION="0.84"
@INC:
/home/titan/perl5/perlbrew/perls/perl-5.28.0/lib/site_perl/5.28.0/x86_64-linux-thread-multi-ld
/home/titan/perl5/perlbrew/perls/perl-5.28.0/lib/site_perl/5.28.0
/home/titan/perl5/perlbrew/perls/perl-5.28.0/lib/5.28.0/x86_64-linux-thread-multi-ld
/home/titan/perl5/perlbrew/perls/perl-5.28.0/lib/5.28.0