Drupal-Admin v0.04 Perl 5 v5.41.5 x86_64-linux

Status
Pass
From
Andreas J. König (ANDK)
Dist
Drupal-Admin v0.04
Platform
Perl 5 v5.41.5 x86_64-linux
Date
2024-10-25 08:14:05
ID
1a05ff5e-92a9-11ef-8da1-b290d5db0f0c
This distribution has been tested as part of the CPAN Testers
project, supporting the Perl programming language.  See
http://wiki.cpantesters.org/ for more information or email
questions to cpan-testers-discuss@perl.org


--
Dear Dan Urist,

This is a computer-generated report for Drupal-Admin-0.04
on perl 5.41.5, created by CPAN-Reporter-1.2020.

Thank you for uploading your work to CPAN.  Congratulations!
All tests were successful.

Sections of this report:

    * Tester comments
    * Program output
    * Prerequisites
    * Environment and other context

------------------------------
TESTER COMMENTS
------------------------------

Additional comments from tester:

this report is from an automated smoke testing program
and was not reviewed by a human for accuracy

------------------------------
PROGRAM OUTPUT
------------------------------

Output from '/usr/bin/make test':

PERL_DL_NONLAZY=1 "/tmp/basesmoker-reloperl-Xx8w/bin/perl" "-MExtUtils::Command::MM" "-MTest::Harness" "-e" "undef *Test::Harness::Switches; test_harness(0, 'blib/lib', 'blib/arch')" t/*.t
You are overwriting a locally defined function (type) with an accessor at /home/sand/src/perl/repoperls/installed-perls/host/k93focal/v5.41.5/b254/lib/site_perl/5.41.5/x86_64-linux/Moose/Meta/Attribute.pm line 1114.
	Moose::Meta::Attribute::_process_accessors(Moose::Meta::Attribute=HASH(0x55cfae1d7a98), "reader", "type", undef) called at /home/sand/src/perl/repoperls/installed-perls/host/k93focal/v5.41.5/b254/lib/site_perl/5.41.5/x86_64-linux/Class/MOP/Attribute.pm line 450
	Class::MOP::Attribute::install_accessors(Moose::Meta::Attribute=HASH(0x55cfae1d7a98)) called at /home/sand/src/perl/repoperls/installed-perls/host/k93focal/v5.41.5/b254/lib/site_perl/5.41.5/x86_64-linux/Moose/Meta/Attribute.pm line 1014
	Moose::Meta::Attribute::install_accessors(Moose::Meta::Attribute=HASH(0x55cfae1d7a98)) called at /home/sand/src/perl/repoperls/installed-perls/host/k93focal/v5.41.5/b254/lib/site_perl/5.41.5/x86_64-linux/Class/MOP/Class.pm line 899
	Class::MOP::Class::try {...} () called at /home/sand/src/perl/repoperls/installed-perls/host/k93focal/v5.41.5/b254/lib/site_perl/5.41.5/Try/Tiny.pm line 102
	eval {...} called at /home/sand/src/perl/repoperls/installed-perls/host/k93focal/v5.41.5/b254/lib/site_perl/5.41.5/Try/Tiny.pm line 93
	Try::Tiny::try(CODE(0x55cfae1bc110), Try::Tiny::Catch=REF(0x55cfae1bbc48)) called at /home/sand/src/perl/repoperls/installed-perls/host/k93focal/v5.41.5/b254/lib/site_perl/5.41.5/x86_64-linux/Class/MOP/Class.pm line 904
	Class::MOP::Class::_post_add_attribute(Moose::Meta::Class=HASH(0x55cfae1bb2a0), Moose::Meta::Attribute=HASH(0x55cfae1d7a98)) called at /home/sand/src/perl/repoperls/installed-perls/host/k93focal/v5.41.5/b254/lib/site_perl/5.41.5/x86_64-linux/Class/MOP/Mixin/HasAttributes.pm line 39
	Class::MOP::Mixin::HasAttributes::add_attribute(Moose::Meta::Class=HASH(0x55cfae1bb2a0), Moose::Meta::Attribute=HASH(0x55cfae1d7a98)) called at /home/sand/src/perl/repoperls/installed-perls/host/k93focal/v5.41.5/b254/lib/site_perl/5.41.5/x86_64-linux/Moose/Meta/Class.pm line 585
	Moose::Meta::Class::add_attribute(Moose::Meta::Class=HASH(0x55cfae1bb2a0), "type", "definition_context", HASH(0x55cfae18f778), "is", "ro", "isa", "StatusType", ...) called at /home/sand/src/perl/repoperls/installed-perls/host/k93focal/v5.41.5/b254/lib/site_perl/5.41.5/x86_64-linux/Moose.pm line 74
	Moose::has(Moose::Meta::Class=HASH(0x55cfae1bb2a0), "type", "is", "ro", "isa", "StatusType", "required", 1) called at /home/sand/src/perl/repoperls/installed-perls/host/k93focal/v5.41.5/b254/lib/site_perl/5.41.5/x86_64-linux/Moose/Exporter.pm line 418
	Moose::has("type", "is", "ro", "isa", "StatusType", "required", 1) called at /tmp/loop_over_bdir-2269154-124csC/Drupal-Admin-0.04-0/blib/lib/Drupal/Admin/Status.pm line 16
	require Drupal/Admin/Status.pm called at /tmp/loop_over_bdir-2269154-124csC/Drupal-Admin-0.04-0/blib/lib/Drupal/Admin.pm line 19
	Drupal::Admin::BEGIN() called at /tmp/loop_over_bdir-2269154-124csC/Drupal-Admin-0.04-0/blib/lib/Drupal/Admin.pm line 19
	eval {...} called at /tmp/loop_over_bdir-2269154-124csC/Drupal-Admin-0.04-0/blib/lib/Drupal/Admin.pm line 19
	require Drupal/Admin.pm called at t/00-load.t line 6
	main::BEGIN() called at t/00-load.t line 6
	eval {...} called at t/00-load.t line 6
	eval 'package main;
BEGIN { ${^WARNING_BITS} = $args[-1] if defined $args[-1] }
#line 6 t/00-load.t
use Drupal::Admin @{$args[0]};
1;
' called at /home/sand/src/perl/repoperls/installed-perls/host/k93focal/v5.41.5/b254/lib/5.41.5/Test/More.pm line 1056
	Test::More::_eval("package main;\x{a}BEGIN { \${^WARNING_BITS} = \$args[-1] if defined"..., ARRAY(0x55cfac4f0460), undef) called at /home/sand/src/perl/repoperls/installed-perls/host/k93focal/v5.41.5/b254/lib/5.41.5/Test/More.pm line 1031
	Test::More::use_ok("Drupal::Admin") called at t/00-load.t line 6
	main::BEGIN() called at t/00-load.t line 7
	eval {...} called at t/00-load.t line 7
# Testing Drupal::Admin 0.04, Perl 5.041005, /tmp/basesmoker-reloperl-Xx8w/bin/perl
t/00-load.t ....... ok
You are overwriting a locally defined function (type) with an accessor at /home/sand/src/perl/repoperls/installed-perls/host/k93focal/v5.41.5/b254/lib/site_perl/5.41.5/x86_64-linux/Moose/Meta/Attribute.pm line 1111.
	Moose::Meta::Attribute::_process_accessors(Moose::Meta::Attribute=HASH(0x561c427476d8), "reader", "type", undef) called at /home/sand/src/perl/repoperls/installed-perls/host/k93focal/v5.41.5/b254/lib/site_perl/5.41.5/x86_64-linux/Class/MOP/Attribute.pm line 450
	Class::MOP::Attribute::install_accessors(Moose::Meta::Attribute=HASH(0x561c427476d8)) called at /home/sand/src/perl/repoperls/installed-perls/host/k93focal/v5.41.5/b254/lib/site_perl/5.41.5/x86_64-linux/Moose/Meta/Attribute.pm line 1014
	Moose::Meta::Attribute::install_accessors(Moose::Meta::Attribute=HASH(0x561c427476d8)) called at /home/sand/src/perl/repoperls/installed-perls/host/k93focal/v5.41.5/b254/lib/site_perl/5.41.5/x86_64-linux/Class/MOP/Class.pm line 899
	Class::MOP::Class::try {...} () called at /home/sand/src/perl/repoperls/installed-perls/host/k93focal/v5.41.5/b254/lib/site_perl/5.41.5/Try/Tiny.pm line 102
	eval {...} called at /home/sand/src/perl/repoperls/installed-perls/host/k93focal/v5.41.5/b254/lib/site_perl/5.41.5/Try/Tiny.pm line 93
	Try::Tiny::try(CODE(0x561c42733620), Try::Tiny::Catch=REF(0x561c42733200)) called at /home/sand/src/perl/repoperls/installed-perls/host/k93focal/v5.41.5/b254/lib/site_perl/5.41.5/x86_64-linux/Class/MOP/Class.pm line 904
	Class::MOP::Class::_post_add_attribute(Moose::Meta::Class=HASH(0x561c4272be08), Moose::Meta::Attribute=HASH(0x561c427476d8)) called at /home/sand/src/perl/repoperls/installed-perls/host/k93focal/v5.41.5/b254/lib/site_perl/5.41.5/x86_64-linux/Class/MOP/Mixin/HasAttributes.pm line 39
	Class::MOP::Mixin::HasAttributes::add_attribute(Moose::Meta::Class=HASH(0x561c4272be08), Moose::Meta::Attribute=HASH(0x561c427476d8)) called at /home/sand/src/perl/repoperls/installed-perls/host/k93focal/v5.41.5/b254/lib/site_perl/5.41.5/x86_64-linux/Moose/Meta/Class.pm line 585
	Moose::Meta::Class::add_attribute(Moose::Meta::Class=HASH(0x561c4272be08), "type", "definition_context", HASH(0x561c42723820), "is", "ro", "isa", "StatusType", ...) called at /home/sand/src/perl/repoperls/installed-perls/host/k93focal/v5.41.5/b254/lib/site_perl/5.41.5/x86_64-linux/Moose.pm line 74
	Moose::has(Moose::Meta::Class=HASH(0x561c4272be08), "type", "is", "ro", "isa", "StatusType", "required", 1) called at /home/sand/src/perl/repoperls/installed-perls/host/k93focal/v5.41.5/b254/lib/site_perl/5.41.5/x86_64-linux/Moose/Exporter.pm line 418
	Moose::has("type", "is", "ro", "isa", "StatusType", "required", 1) called at /tmp/loop_over_bdir-2269154-124csC/Drupal-Admin-0.04-0/blib/lib/Drupal/Admin/Status.pm line 16
	require Drupal/Admin/Status.pm called at /tmp/loop_over_bdir-2269154-124csC/Drupal-Admin-0.04-0/blib/lib/Drupal/Admin.pm line 19
	Drupal::Admin::BEGIN() called at /tmp/loop_over_bdir-2269154-124csC/Drupal-Admin-0.04-0/blib/lib/Drupal/Admin.pm line 19
	eval {...} called at /tmp/loop_over_bdir-2269154-124csC/Drupal-Admin-0.04-0/blib/lib/Drupal/Admin.pm line 19
	require Drupal/Admin.pm called at (eval 13) line 1
	eval ' require Drupal::Admin ' called at /home/sand/src/perl/repoperls/installed-perls/host/k93focal/v5.41.5/b254/lib/site_perl/5.41.5/Pod/Coverage.pm line 308
	Pod::Coverage::_get_syms(Pod::Coverage=HASH(0x561c40785980), "Drupal::Admin") called at /home/sand/src/perl/repoperls/installed-perls/host/k93focal/v5.41.5/b254/lib/site_perl/5.41.5/Pod/Coverage.pm line 152
	Pod::Coverage::coverage(Pod::Coverage=HASH(0x561c40785980)) called at /home/sand/src/perl/repoperls/installed-perls/host/k93focal/v5.41.5/b254/lib/site_perl/5.41.5/Test/Pod/Coverage.pm line 169
	Test::Pod::Coverage::pod_coverage_ok("Drupal::Admin", HASH(0x561c4023df20), "Pod coverage on Drupal::Admin") called at /home/sand/src/perl/repoperls/installed-perls/host/k93focal/v5.41.5/b254/lib/site_perl/5.41.5/Test/Pod/Coverage.pm line 133
	Test::Pod::Coverage::all_pod_coverage_ok() called at t/pod-coverage.t line 18
t/pod-coverage.t .. ok
t/pod.t ........... ok
All tests successful.
Files=3, Tests=9,  1 wallclock secs ( 0.02 usr  0.01 sys +  1.00 cusr  0.18 csys =  1.21 CPU)
Result: PASS

------------------------------
PREREQUISITES
------------------------------

Prerequisite modules loaded:

requires:

    Module                      Need Have    
    --------------------------- ---- --------
    File::Type                  0    0.22    
    Getopt::Long                0    2.58    
    Log::Log4perl               0    1.57    
    Moose                       0    2.2207  
    MooseX::Log::Log4perl::Easy 0    0.47    
    Pod::Usage                  0    2.03    
    Test::More                  0    1.302204
    WWW::Mechanize              0    2.19    
    WWW::Mechanize::TreeBuilder 0    1.20000 

build_requires:

    Module                      Need Have    
    --------------------------- ---- --------
    ExtUtils::MakeMaker         0    7.70    


------------------------------
ENVIRONMENT AND OTHER CONTEXT
------------------------------

Environment variables:

    AUTOMATED_TESTING = 1
    LANG = en_US.UTF-8
    PATH = /home/sand/bin:/usr/local/bin:/usr/local/sbin:/usr/sbin:/usr/bin:/sbin:/bin:/usr/games:/usr/local/games:/snap/bin:/usr/local/perl/bin:/usr/X11/bin
    PERL = /tmp/basesmoker-reloperl-Xx8w/bin/perl
    PERL5LIB = /tmp/loop_over_bdir-2269154-124csC/MP3-PodcastFetch-1.05-0/blib/arch:/tmp/loop_over_bdir-2269154-124csC/MP3-PodcastFetch-1.05-0/blib/lib:/tmp/loop_over_bdir-2269154-124csC/DBIx-Migration-Directories-0.12-0/blib/arch:/tmp/loop_over_bdir-2269154-124csC/DBIx-Migration-Directories-0.12-0/blib/lib:/tmp/loop_over_bdir-2269154-124csC/AllKnowingDNS-1.7-0/blib/arch:/tmp/loop_over_bdir-2269154-124csC/AllKnowingDNS-1.7-0/blib/lib:/tmp/loop_over_bdir-2269154-124csC/ProjectBuilder-0.14.1-0/blib/arch:/tmp/loop_over_bdir-2269154-124csC/ProjectBuilder-0.14.1-0/blib/lib:/tmp/loop_over_bdir-2269154-124csC/downsexta-0/blib/arch:/tmp/loop_over_bdir-2269154-124csC/downsexta-0/blib/lib:/tmp/loop_over_bdir-2269154-124csC/triceps-2.1.0-0/blib/arch:/tmp/loop_over_bdir-2269154-124csC/triceps-2.1.0-0/blib/lib:/tmp/loop_over_bdir-2269154-124csC/js-app-0.13-0/blib/arch:/tmp/loop_over_bdir-2269154-124csC/js-app-0.13-0/blib/lib:/tmp/loop_over_bdir-2269154-124csC/makepp-1.19-0/blib/arch:/tmp/loop_over_bdir-2269154-124csC/makepp-1.19-0/blib/lib:/tmp/loop_over_bdir-2269154-124csC/Debian-Packages-0.03-0/blib/arch:/tmp/loop_over_bdir-2269154-124csC/Debian-Packages-0.03-0/blib/lib:/tmp/loop_over_bdir-2269154-124csC/Net-OpenVPN-DDNS-0.1-0/blib/arch:/tmp/loop_over_bdir-2269154-124csC/Net-OpenVPN-DDNS-0.1-0/blib/lib:/tmp/loop_over_bdir-2269154-124csC/Devel-Required-0.16-0/blib/arch:/tmp/loop_over_bdir-2269154-124csC/Devel-Required-0.16-0/blib/lib:/tmp/loop_over_bdir-2269154-124csC/App-nrun-v1.1.2-0/blib/arch:/tmp/loop_over_bdir-2269154-124csC/App-nrun-v1.1.2-0/blib/lib:/tmp/loop_over_bdir-2269154-124csC/App-rmcd-0.280-0/blib/arch:/tmp/loop_over_bdir-2269154-124csC/App-rmcd-0.280-0/blib/lib:/tmp/loop_over_bdir-2269154-124csC/NoZone-1.3-0/blib/arch:/tmp/loop_over_bdir-2269154-124csC/NoZone-1.3-0/blib/lib
    PERL5OPT = 
    PERL5_CPANPLUS_IS_RUNNING = 2269162
    PERL5_CPAN_IS_RUNNING = 2269162
    PERL_CANARY_STABILITY_NOPROMPT = 1
    PERL_MM_USE_DEFAULT = 1
    PERL_USE_UNSAFE_INC = 1
    SHELL = /usr/bin/zsh
    TERM = screen

Perl special variables (and OS-specific diagnostics, for MSWin32):

    $^X = /tmp/basesmoker-reloperl-Xx8w/bin/perl
    $UID/$EUID = 1005 / 1005
    $GID = 1005 1005
    $EGID = 1005 1005

Perl module toolchain versions installed:

    Module              Have    
    ------------------- --------
    CPAN                2.38    
    CPAN::Meta          2.150010
    Cwd                 3.92    
    ExtUtils::CBuilder  0.280240
    ExtUtils::Command   7.70    
    ExtUtils::Install   2.22    
    ExtUtils::MakeMaker 7.70    
    ExtUtils::Manifest  1.75    
    ExtUtils::ParseXS   3.55    
    File::Spec          3.93    
    JSON                4.10    
    JSON::PP            4.16    
    Module::Build       0.4234  
    Module::Signature   0.89    
    Parse::CPAN::Meta   2.150010
    Test2               1.302204
    Test::Harness       3.50    
    Test::More          1.302204
    YAML                1.31    
    YAML::Syck          1.34    
    version             0.9933  


--

Summary of my perl5 (revision 5 version 41 subversion 5) configuration:
  Commit id: 49feb78d039f9c146d7060a6b02af643e5b21489
  Platform:
    osname=linux
    osvers=5.4.0-193-generic
    archname=x86_64-linux
    uname='linux k93focal 5.4.0-193-generic #213-ubuntu smp fri aug 2 19:14:16 utc 2024 x86_64 x86_64 x86_64 gnulinux '
    config_args='-Dprefix=/home/sand/src/perl/repoperls/installed-perls/host/k93focal/v5.41.5/b254 -Dmyhostname=k93focal -Dinstallusrbinperl=n -Uversiononly -Dusedevel -des -Ui_db -Dlibswanted=cl pthread socket inet nsl gdbm dbm malloc dl ld sun m crypt sec util c cposix posix ucb BSD gdbm_compat -Uuseithreads -Uuselongdouble -DEBUGGING=both'
    hint=recommended
    useposix=true
    d_sigaction=define
    useithreads=undef
    usemultiplicity=undef
    use64bitint=define
    use64bitall=define
    uselongdouble=undef
    usemymalloc=n
    default_inc_excludes_dot=define
  Compiler:
    cc='cc'
    ccflags ='-fwrapv -DDEBUGGING -fno-strict-aliasing -pipe -fstack-protector-strong -I/usr/local/include -D_LARGEFILE_SOURCE -D_FILE_OFFSET_BITS=64'
    optimize='-O2 -g'
    cppflags='-fwrapv -DDEBUGGING -fno-strict-aliasing -pipe -fstack-protector-strong -I/usr/local/include'
    ccversion=''
    gccversion='9.4.0'
    gccosandvers=''
    intsize=4
    longsize=8
    ptrsize=8
    doublesize=8
    byteorder=12345678
    doublekind=3
    d_longlong=define
    longlongsize=8
    d_longdbl=define
    longdblsize=16
    longdblkind=3
    ivtype='long'
    ivsize=8
    nvtype='double'
    nvsize=8
    Off_t='off_t'
    lseeksize=8
    alignbytes=8
    prototype=define
  Linker and Libraries:
    ld='cc'
    ldflags =' -fstack-protector-strong -L/usr/local/lib'
    libpth=/usr/local/lib /usr/lib/x86_64-linux-gnu /usr/lib /usr/lib64
    libs=-lpthread -lnsl -ldl -lm -lcrypt -lutil -lc
    perllibs=-lpthread -lnsl -ldl -lm -lcrypt -lutil -lc
    libc=libc-2.31.so
    so=so
    useshrplib=false
    libperl=libperl.a
    gnulibc_version='2.31'
  Dynamic Linking:
    dlsrc=dl_dlopen.xs
    dlext=so
    d_dlsymun=undef
    ccdlflags='-Wl,-E'
    cccdlflags='-fPIC'
    lddlflags='-shared -O2 -g -L/usr/local/lib -fstack-protector-strong'


Characteristics of this binary (from libperl): 
  Compile-time options:
    DEBUGGING
    HAS_LONG_DOUBLE
    HAS_STRTOLD
    HAS_TIMES
    PERLIO_LAYERS
    PERL_COPY_ON_WRITE
    PERL_DONT_CREATE_GVSV
    PERL_HASH_FUNC_SIPHASH13
    PERL_HASH_USE_SBOX32
    PERL_MALLOC_WRAP
    PERL_OP_PARENT
    PERL_PRESERVE_IVUV
    PERL_USE_DEVEL
    PERL_USE_SAFE_PUTENV
    USE_64_BIT_ALL
    USE_64_BIT_INT
    USE_LARGE_FILES
    USE_LOCALE
    USE_LOCALE_COLLATE
    USE_LOCALE_CTYPE
    USE_LOCALE_NUMERIC
    USE_LOCALE_TIME
    USE_PERLIO
    USE_PERL_ATOF
  Built under linux
  Compiled at Oct 21 2024 05:42:07
  %ENV:
    PERL="/tmp/basesmoker-reloperl-Xx8w/bin/perl"
    PERL5LIB="/tmp/loop_over_bdir-2269154-124csC/MP3-PodcastFetch-1.05-0/blib/arch:/tmp/loop_over_bdir-2269154-124csC/MP3-PodcastFetch-1.05-0/blib/lib:/tmp/loop_over_bdir-2269154-124csC/DBIx-Migration-Directories-0.12-0/blib/arch:/tmp/loop_over_bdir-2269154-124csC/DBIx-Migration-Directories-0.12-0/blib/lib:/tmp/loop_over_bdir-2269154-124csC/AllKnowingDNS-1.7-0/blib/arch:/tmp/loop_over_bdir-2269154-124csC/AllKnowingDNS-1.7-0/blib/lib:/tmp/loop_over_bdir-2269154-124csC/ProjectBuilder-0.14.1-0/blib/arch:/tmp/loop_over_bdir-2269154-124csC/ProjectBuilder-0.14.1-0/blib/lib:/tmp/loop_over_bdir-2269154-124csC/downsexta-0/blib/arch:/tmp/loop_over_bdir-2269154-124csC/downsexta-0/blib/lib:/tmp/loop_over_bdir-2269154-124csC/triceps-2.1.0-0/blib/arch:/tmp/loop_over_bdir-2269154-124csC/triceps-2.1.0-0/blib/lib:/tmp/loop_over_bdir-2269154-124csC/js-app-0.13-0/blib/arch:/tmp/loop_over_bdir-2269154-124csC/js-app-0.13-0/blib/lib:/tmp/loop_over_bdir-2269154-124csC/makepp-1.19-0/blib/arch:/tmp/loop_over_bdir-2269154-124csC/makepp-1.19-0/blib/lib:/tmp/loop_over_bdir-2269154-124csC/Debian-Packages-0.03-0/blib/arch:/tmp/loop_over_bdir-2269154-124csC/Debian-Packages-0.03-0/blib/lib:/tmp/loop_over_bdir-2269154-124csC/Net-OpenVPN-DDNS-0.1-0/blib/arch:/tmp/loop_over_bdir-2269154-124csC/Net-OpenVPN-DDNS-0.1-0/blib/lib:/tmp/loop_over_bdir-2269154-124csC/Devel-Required-0.16-0/blib/arch:/tmp/loop_over_bdir-2269154-124csC/Devel-Required-0.16-0/blib/lib:/tmp/loop_over_bdir-2269154-124csC/App-nrun-v1.1.2-0/blib/arch:/tmp/loop_over_bdir-2269154-124csC/App-nrun-v1.1.2-0/blib/lib:/tmp/loop_over_bdir-2269154-124csC/App-rmcd-0.280-0/blib/arch:/tmp/loop_over_bdir-2269154-124csC/App-rmcd-0.280-0/blib/lib:/tmp/loop_over_bdir-2269154-124csC/NoZone-1.3-0/blib/arch:/tmp/loop_over_bdir-2269154-124csC/NoZone-1.3-0/blib/lib"
    PERL5OPT=""
    PERL5_CPANPLUS_IS_RUNNING="2269162"
    PERL5_CPAN_IS_RUNNING="2269162"
    PERL_CANARY_STABILITY_NOPROMPT="1"
    PERL_MM_USE_DEFAULT="1"
    PERL_USE_UNSAFE_INC="1"
  @INC:
    /tmp/loop_over_bdir-2269154-124csC/MP3-PodcastFetch-1.05-0/blib/arch
    /tmp/loop_over_bdir-2269154-124csC/MP3-PodcastFetch-1.05-0/blib/lib
    /tmp/loop_over_bdir-2269154-124csC/DBIx-Migration-Directories-0.12-0/blib/arch
    /tmp/loop_over_bdir-2269154-124csC/DBIx-Migration-Directories-0.12-0/blib/lib
    /tmp/loop_over_bdir-2269154-124csC/AllKnowingDNS-1.7-0/blib/arch
    /tmp/loop_over_bdir-2269154-124csC/AllKnowingDNS-1.7-0/blib/lib
    /tmp/loop_over_bdir-2269154-124csC/ProjectBuilder-0.14.1-0/blib/arch
    /tmp/loop_over_bdir-2269154-124csC/ProjectBuilder-0.14.1-0/blib/lib
    /tmp/loop_over_bdir-2269154-124csC/downsexta-0/blib/arch
    /tmp/loop_over_bdir-2269154-124csC/downsexta-0/blib/lib
    /tmp/loop_over_bdir-2269154-124csC/triceps-2.1.0-0/blib/arch
    /tmp/loop_over_bdir-2269154-124csC/triceps-2.1.0-0/blib/lib
    /tmp/loop_over_bdir-2269154-124csC/js-app-0.13-0/blib/arch
    /tmp/loop_over_bdir-2269154-124csC/js-app-0.13-0/blib/lib
    /tmp/loop_over_bdir-2269154-124csC/makepp-1.19-0/blib/arch
    /tmp/loop_over_bdir-2269154-124csC/makepp-1.19-0/blib/lib
    /tmp/loop_over_bdir-2269154-124csC/Debian-Packages-0.03-0/blib/arch
    /tmp/loop_over_bdir-2269154-124csC/Debian-Packages-0.03-0/blib/lib
    /tmp/loop_over_bdir-2269154-124csC/Net-OpenVPN-DDNS-0.1-0/blib/arch
    /tmp/loop_over_bdir-2269154-124csC/Net-OpenVPN-DDNS-0.1-0/blib/lib
    /tmp/loop_over_bdir-2269154-124csC/Devel-Required-0.16-0/blib/arch
    /tmp/loop_over_bdir-2269154-124csC/Devel-Required-0.16-0/blib/lib
    /tmp/loop_over_bdir-2269154-124csC/App-nrun-v1.1.2-0/blib/arch
    /tmp/loop_over_bdir-2269154-124csC/App-nrun-v1.1.2-0/blib/lib
    /tmp/loop_over_bdir-2269154-124csC/App-rmcd-0.280-0/blib/arch
    /tmp/loop_over_bdir-2269154-124csC/App-rmcd-0.280-0/blib/lib
    /tmp/loop_over_bdir-2269154-124csC/NoZone-1.3-0/blib/arch
    /tmp/loop_over_bdir-2269154-124csC/NoZone-1.3-0/blib/lib
    /home/sand/src/perl/repoperls/installed-perls/host/k93focal/v5.41.5/b254/lib/site_perl/5.41.5/x86_64-linux
    /home/sand/src/perl/repoperls/installed-perls/host/k93focal/v5.41.5/b254/lib/site_perl/5.41.5
    /home/sand/src/perl/repoperls/installed-perls/host/k93focal/v5.41.5/b254/lib/5.41.5/x86_64-linux
    /home/sand/src/perl/repoperls/installed-perls/host/k93focal/v5.41.5/b254/lib/5.41.5
    .