Back
From: metabase:user:320bfe00-2aae-11df-837a-5e0a49663a4f
Subject: PASS Class-MethodMaker-2.18 v5.14.0 RC3 GNU/Linux
Date: 2011-05-12T21:45:06Z
This distribution has been tested as part of the CPAN Testers
project, supporting the Perl programming language. See
http://wiki.cpantesters.org/ for more information or email
questions to cpan-testers-discuss@perl.org
--
Dear Steffen Schwigon,
This is a computer-generated report for Class-MethodMaker-2.18
on perl 5.14.0, created by CPAN-Reporter-1.1902.
Thank you for uploading your work to CPAN. Congratulations!
All tests were successful.
Sections of this report:
* Tester comments
* Program output
* Prerequisites
* Environment and other context
------------------------------
TESTER COMMENTS
------------------------------
Additional comments from tester:
this report is from an automated smoke testing program
and was not reviewed by a human for accuracy
------------------------------
PROGRAM OUTPUT
------------------------------
Output from '/usr/bin/make test':
PERL_DL_NONLAZY=1 /home/sand/src/perl/repoperls/installed-perls/perl/v5.14.0-RC3/ba65/bin/perl "-MExtUtils::Command::MM" "-e" "test_harness(0, 'blib/lib', 'blib/arch')" t/*.t
t/array.t .................. ok
t/basic.t .................. ok
t/diffclass.t .............. ok
t/hash.t ................... ok
t/new.t .................... ok
t/redefine-warnings.t ...... ok
t/scalar.t ................. ok
t/v1_abstract.t ............ ok
t/v1_boolean.t ............. ok
t/v1_code.t ................ ok
t/v1_copy.t ................ ok
t/v1_counter.t ............. ok
t/v1_get_concat.t .......... ok
t/v1_get_set.t ............. ok
t/v1_get_set_hi.t .......... ok
t/v1_hash.t ................ ok
t/v1_key_attrib.t .......... ok
t/v1_key_with_create.t ..... ok
t/v1_list.t ................ ok
t/v1_method.t .............. ok
t/v1_new.t ................. ok
t/v1_new_hash_with_init.t .. ok
t/v1_object.t .............. ok
t/v1_object_list.t ......... ok
t/v1_object_tie_hash.t ..... ok
t/v1_object_tie_list.t ..... ok
t/v1_set_once.t ............ ok
t/v1_set_once_static.t ..... ok
t/v1_singleton.t ........... ok
t/v1_static_get_set.t ...... ok
t/v1_static_hash.t ......... ok
t/v1_static_list.t ......... ok
t/v1_tie_hash.t ............ ok
t/v1_tie_list.t ............ ok
t/v1_tie_scalar.t .......... ok
t/warnings.t ............... ok
All tests successful.
Files=36, Tests=1757, 2 wallclock secs ( 0.22 usr 0.05 sys + 1.77 cusr 0.32 csys = 2.36 CPU)
Result: PASS
------------------------------
PREREQUISITES
------------------------------
Prerequisite modules loaded:
requires:
Module Need Have
------------------- ----- --------
perl 5.006 5.014000
build_requires:
Module Need Have
------------------- ----- --------
ExtUtils::MakeMaker 0 6.57_05
configure_requires:
Module Need Have
------------------- ----- --------
ExtUtils::MakeMaker 0 6.57_05
------------------------------
ENVIRONMENT AND OTHER CONTEXT
------------------------------
Environment variables:
AUTOMATED_TESTING = 1
LANG = en_US.UTF-8
LANGUAGE = en_US:en
PATH = /usr/lib/ccache:/home/sand/bin:/usr/local/bin:/usr/bin:/bin:/usr/local/games:/usr/games:/usr/local/perl/bin:/usr/X11/bin:/sbin:/usr/sbin
PERL5LIB =
PERL5OPT =
PERL5_CPANPLUS_IS_RUNNING = 14377
PERL5_CPAN_IS_RUNNING = 14377
PERL_MM_USE_DEFAULT = 1
SHELL = /bin/bash
TERM = screen
Perl special variables (and OS-specific diagnostics, for MSWin32):
$^X = /home/sand/src/perl/repoperls/installed-perls/perl/v5.14.0-RC3/ba65/bin/perl
$UID/$EUID = 1001 / 1001
$GID = 1001 1001
$EGID = 1001 1001
Perl module toolchain versions installed:
Module Have
------------------- --------
CPAN 1.9600
Cwd 3.36
ExtUtils::CBuilder 0.280203
ExtUtils::Command 1.17
ExtUtils::Install 1.56
ExtUtils::MakeMaker 6.57_05
ExtUtils::Manifest 1.58
ExtUtils::ParseXS 2.2210
File::Spec 3.33
Module::Build 0.3800
Module::Signature n/a
Test::Harness 3.23
Test::More 0.98
YAML 0.73
YAML::Syck 1.17
version 0.88
--
Summary of my perl5 (revision 5 version 14 subversion 0) configuration:
Commit id: eb70bb4a400e88a66c7e10414a2d52b5da4cfd1f
Platform:
osname=linux, osvers=2.6.32-5-amd64, archname=x86_64-linux-thread-multi
uname='linux k81 2.6.32-5-amd64 #1 smp mon mar 7 21:35:22 utc 2011 x86_64 gnulinux '
config_args='-Dprefix=/home/src/perl/repoperls/installed-perls/perl/v5.14.0-RC3/ba65 -Dinstallusrbinperl=n -Uversiononly -Dusedevel -des -Ui_db -Duseithreads -Uuselongdouble -DDEBUGGING=-g'
hint=recommended, useposix=true, d_sigaction=define
useithreads=define, usemultiplicity=define
useperlio=define, d_sfio=undef, uselargefiles=define, usesocks=undef
use64bitint=define, use64bitall=define, uselongdouble=undef
usemymalloc=n, bincompat5005=undef
Compiler:
cc='cc', ccflags ='-D_REENTRANT -D_GNU_SOURCE -fno-strict-aliasing -pipe -fstack-protector -I/usr/local/include -D_LARGEFILE_SOURCE -D_FILE_OFFSET_BITS=64',
optimize='-O2 -g',
cppflags='-D_REENTRANT -D_GNU_SOURCE -fno-strict-aliasing -pipe -fstack-protector -I/usr/local/include'
ccversion='', gccversion='4.4.5', gccosandvers=''
intsize=4, longsize=8, ptrsize=8, doublesize=8, byteorder=12345678
d_longlong=define, longlongsize=8, d_longdbl=define, longdblsize=16
ivtype='long', ivsize=8, nvtype='double', nvsize=8, Off_t='off_t', lseeksize=8
alignbytes=8, prototype=define
Linker and Libraries:
ld='cc', ldflags =' -fstack-protector -L/usr/local/lib'
libpth=/usr/local/lib /lib/../lib /usr/lib/../lib /lib /usr/lib /usr/lib/x86_64-linux-gnu /lib64 /usr/lib64
libs=-lnsl -ldl -lm -lcrypt -lutil -lpthread -lc
perllibs=-lnsl -ldl -lm -lcrypt -lutil -lpthread -lc
libc=/lib/libc-2.11.2.so, so=so, useshrplib=false, libperl=libperl.a
gnulibc_version='2.11.2'
Dynamic Linking:
dlsrc=dl_dlopen.xs, dlext=so, d_dlsymun=undef, ccdlflags='-Wl,-E'
cccdlflags='-fPIC', lddlflags='-shared -O2 -g -L/usr/local/lib -fstack-protector'
Characteristics of this binary (from libperl):
Compile-time options: MULTIPLICITY PERL_DONT_CREATE_GVSV
PERL_IMPLICIT_CONTEXT PERL_MALLOC_WRAP
PERL_PRESERVE_IVUV PERL_USE_DEVEL USE_64_BIT_ALL
USE_64_BIT_INT USE_ITHREADS USE_LARGE_FILES
USE_PERLIO USE_PERL_ATOF USE_REENTRANT_API
Locally applied patches:
RC3
Built under linux
Compiled at May 12 2011 22:46:02
%ENV:
PERL5LIB=""
PERL5OPT=""
PERL5_CPANPLUS_IS_RUNNING="14377"
PERL5_CPAN_IS_RUNNING="14377"
PERL_MM_USE_DEFAULT="1"
@INC:
/home/src/perl/repoperls/installed-perls/perl/v5.14.0-RC3/ba65/lib/site_perl/5.14.0/x86_64-linux-thread-multi
/home/src/perl/repoperls/installed-perls/perl/v5.14.0-RC3/ba65/lib/site_perl/5.14.0
/home/src/perl/repoperls/installed-perls/perl/v5.14.0-RC3/ba65/lib/5.14.0/x86_64-linux-thread-multi
/home/src/perl/repoperls/installed-perls/perl/v5.14.0-RC3/ba65/lib/5.14.0
.