Report for WebService-Async-UserAgent-0.004

Back
From: metabase:user:0d96120c-29e2-11e5-b049-ede3035d37de
Subject: PASS WebService-Async-UserAgent-0.004 v5.22.0 GNU/Linux
Date: 2015-07-20T18:21:12Z

This distribution has been tested as part of the CPAN Testers
project, supporting the Perl programming language.  See
http://wiki.cpantesters.org/ for more information or email
questions to cpan-testers-discuss@perl.org


--
Dear Tom Molesworth,

This is a computer-generated report for WebService-Async-UserAgent-0.004
on perl 5.22.0, created by CPAN-Reporter-1.2014.

Thank you for uploading your work to CPAN.  Congratulations!
All tests were successful.

Sections of this report:

    * Tester comments
    * Program output
    * Prerequisites
    * Environment and other context

------------------------------
TESTER COMMENTS
------------------------------

Additional comments from tester:

this report is from an automated smoke testing program
and was not reviewed by a human for accuracy

------------------------------
PROGRAM OUTPUT
------------------------------

Output from '/usr/bin/make test':

PERL_DL_NONLAZY=1 "/data/perl5/perlbrew/perls/perl-5.22.0/bin/perl" "-MExtUtils::Command::MM" "-MTest::Harness" "-e" "undef *Test::Harness::Switches; test_harness(0, 'blib/lib', 'blib/arch')" t/*.t
t/00-check-deps.t ............. ok
# 
# 
# Generated by Dist::Zilla::Plugin::ReportVersions::Tiny v1.10
# perl: 5.022000 (wanted 5.012000) on linux from /data/perl5/perlbrew/perls/perl-5.22.0/bin/perl
# 
# ExtUtils::MakeMaker                           => 7.0401     (want 6.48)   
# Future                                        => 0.32       (want 0.30)   
# HTTP::Request                                 => 6.08       (want any version)
# HTTP::Response                                => 6.08       (want any version)
# IO::Async                                     => module not found. (want 0.64)   
# Net::Async::HTTP                              => module not found. (want 0.36)   
# Test::CheckDeps                               => 0.010      (want 0.010)  
# Test::Fatal                                   => 0.014      (want 0.010)  
# Test::More                                    => 1.001014   (want 0.98)   
# Test::Refcount                                => 0.08       (want 0.07)   
# URI                                           => 1.68       (want any version)
# parent                                        => 0.232      (want any version)
# 
# Thanks for using my code.  I hope it works for you.
# If not, please try and include this output in the bug report.
# That will help me reproduce the issue and solve your problem.
# 
t/000-report-versions-tiny.t .. ok
t/lwp.t ....................... skipped: needs IO::Async and LWP::UserAgent to test
t/mojo.t ...................... skipped: needs IO::Async and Mojo::UserAgent to test
t/nahttp.t .................... skipped: needs IO::Async and Net::Async::HTTP
All tests successful.
Files=5, Tests=13,  0 wallclock secs ( 0.02 usr  0.01 sys +  0.27 cusr  0.04 csys =  0.34 CPU)
Result: PASS

------------------------------
PREREQUISITES
------------------------------

Prerequisite modules loaded:

requires:

    Module              Need     Have    
    ------------------- -------- --------
    Future              0.30     0.32    
    HTTP::Request       0        6.08    
    HTTP::Response      0        6.08    
    parent              0        0.232   
    perl                5.012000 5.022000
    URI                 0        1.68    

build_requires:

    Module              Need     Have    
    ------------------- -------- --------
    ExtUtils::MakeMaker 0        7.04_01 
    Test::CheckDeps     0.010    0.010   
    Test::Fatal         0.010    0.014   
    Test::More          0.98     1.001014
    Test::Refcount      0.07     0.08    

configure_requires:

    Module              Need     Have    
    ------------------- -------- --------
    ExtUtils::MakeMaker 6.48     7.04_01 

opt_requires:

    Module              Need     Have    
    ------------------- -------- --------
  ! IO::Async           0.64     n/a     
  ! Net::Async::HTTP    0.36     n/a     


------------------------------
ENVIRONMENT AND OTHER CONTEXT
------------------------------

Environment variables:

    AUTOMATED_TESTING = 1
    LANG = en_US.UTF-8
    NONINTERACTIVE_TESTING = 1
    PATH = /home/perltest/perl5/perlbrew/bin:/home/perltest/perl5/perlbrew/perls/perl-5.22.0/bin:/home/perltest/perltest/bin:/home/perltest/perltest/bin:/home/perltest/perltest/bin:/home/perltest/perl5/perlbrew/bin:/home/perltest/perl5/perlbrew/perls/perl-5.23.0/bin:/usr/local/sbin:/usr/local/bin:/usr/sbin:/usr/bin:/sbin:/bin:/usr/games:/usr/local/games:/home/perltest/perltest/bin
    PERL5LIB = /home/perltest/.cpan/build/Variable-Disposition-0.004-lpIj9I/blib/arch:/home/perltest/.cpan/build/Variable-Disposition-0.004-lpIj9I/blib/lib:/home/perltest/.cpan/build/Test-CheckDeps-0.010-WGL5Dz/blib/arch:/home/perltest/.cpan/build/Test-CheckDeps-0.010-WGL5Dz/blib/lib:/home/perltest/.cpan/build/Log-Any-1.032-VsYrEu/blib/arch:/home/perltest/.cpan/build/Log-Any-1.032-VsYrEu/blib/lib:/home/perltest/.cpan/build/Future-0.32-Nwp7go/blib/arch:/home/perltest/.cpan/build/Future-0.32-Nwp7go/blib/lib:/home/perltest/.cpan/build/Struct-Dumb-0.03-4b2_dy/blib/arch:/home/perltest/.cpan/build/Struct-Dumb-0.03-4b2_dy/blib/lib:/home/perltest/.cpan/build/Test-Identity-0.01-cTChgl/blib/arch:/home/perltest/.cpan/build/Test-Identity-0.01-cTChgl/blib/lib:/home/perltest/.cpan/build/List-UtilsBy-0.10-4brigl/blib/arch:/home/perltest/.cpan/build/List-UtilsBy-0.10-4brigl/blib/lib:/home/perltest/.cpan/build/Test-Refcount-0.08-8VW3yS/blib/arch:/home/perltest/.cpan/build/Test-Refcount-0.08-8VW3yS/blib/lib
    PERL5OPT = 
    PERL5_CPANPLUS_IS_RUNNING = 24289
    PERL5_CPAN_IS_RUNNING = 24289
    PERL5_CPAN_IS_RUNNING_IN_RECURSION = 19212,24289
    PERLBREW_BASHRC_VERSION = 0.73
    PERLBREW_HOME = /home/perltest/.perlbrew
    PERLBREW_LIB = 
    PERLBREW_MANPATH = /home/perltest/perl5/perlbrew/perls/perl-5.22.0/man
    PERLBREW_PATH = /home/perltest/perl5/perlbrew/bin:/home/perltest/perl5/perlbrew/perls/perl-5.22.0/bin
    PERLBREW_PERL = perl-5.22.0
    PERLBREW_ROOT = /home/perltest/perl5/perlbrew
    PERLBREW_VERSION = 0.73
    PERL_CR_SMOKER_CURRENT = WebService-Bitcoin-BTCe-0.001
    PERL_EXTUTILS_AUTOINSTALL = --defaultdeps
    PERL_LOCAL_LIB_ROOT = 
    PERL_MM_USE_DEFAULT = 1
    SHELL = /bin/bash
    TERM = screen

Perl special variables (and OS-specific diagnostics, for MSWin32):

    $^X = /data/perl5/perlbrew/perls/perl-5.22.0/bin/perl
    $UID/$EUID = 2000 / 2000
    $GID = 2000 2000
    $EGID = 2000 2000

Perl module toolchain versions installed:

    Module              Have    
    ------------------- --------
    CPAN                2.11    
    CPAN::Meta          2.150001
    Cwd                 3.56    
    ExtUtils::CBuilder  0.280221
    ExtUtils::Command   1.20    
    ExtUtils::Install   2.04    
    ExtUtils::MakeMaker 7.04_01 
    ExtUtils::Manifest  1.70    
    ExtUtils::ParseXS   3.28    
    File::Spec          3.56    
    JSON                2.90    
    JSON::PP            2.27300 
    Module::Build       0.4214  
    Module::Signature   n/a     
    Parse::CPAN::Meta   1.4414  
    Test::Harness       3.35    
    Test::More          1.001014
    YAML                1.15    
    YAML::Syck          n/a     
    version             0.9909  


--

Summary of my perl5 (revision 5 version 22 subversion 0) configuration:
   
  Platform:
    osname=linux, osvers=3.19.0-18-generic, archname=x86_64-linux
    uname='linux perltest.antelope.net 3.19.0-18-generic #18-ubuntu smp tue may 19 18:31:35 utc 2015 x86_64 x86_64 x86_64 gnulinux '
    config_args='-de -Dprefix=/home/perltest/perl5/perlbrew/perls/perl-5.22.0 -Aeval:scriptdir=/home/perltest/perl5/perlbrew/perls/perl-5.22.0/bin'
    hint=recommended, useposix=true, d_sigaction=define
    useithreads=undef, usemultiplicity=undef
    use64bitint=define, use64bitall=define, uselongdouble=undef
    usemymalloc=n, bincompat5005=undef
  Compiler:
    cc='cc', ccflags ='-fwrapv -fno-strict-aliasing -pipe -fstack-protector-strong -I/usr/local/include -D_LARGEFILE_SOURCE -D_FILE_OFFSET_BITS=64',
    optimize='-O2',
    cppflags='-fwrapv -fno-strict-aliasing -pipe -fstack-protector-strong -I/usr/local/include'
    ccversion='', gccversion='4.9.2', gccosandvers=''
    intsize=4, longsize=8, ptrsize=8, doublesize=8, byteorder=12345678, doublekind=3
    d_longlong=define, longlongsize=8, d_longdbl=define, longdblsize=16, longdblkind=3
    ivtype='long', ivsize=8, nvtype='double', nvsize=8, Off_t='off_t', lseeksize=8
    alignbytes=8, prototype=define
  Linker and Libraries:
    ld='cc', ldflags =' -fstack-protector-strong -L/usr/local/lib'
    libpth=/usr/local/lib /usr/lib/gcc/x86_64-linux-gnu/4.9/include-fixed /usr/include/x86_64-linux-gnu /usr/lib /lib/x86_64-linux-gnu /lib/../lib /usr/lib/x86_64-linux-gnu /usr/lib/../lib /lib
    libs=-lpthread -lnsl -ldb -ldl -lm -lcrypt -lutil -lc
    perllibs=-lpthread -lnsl -ldl -lm -lcrypt -lutil -lc
    libc=libc-2.21.so, so=so, useshrplib=false, libperl=libperl.a
    gnulibc_version='2.21'
  Dynamic Linking:
    dlsrc=dl_dlopen.xs, dlext=so, d_dlsymun=undef, ccdlflags='-Wl,-E'
    cccdlflags='-fPIC', lddlflags='-shared -O2 -L/usr/local/lib -fstack-protector-strong'


Characteristics of this binary (from libperl): 
  Compile-time options: HAS_TIMES PERLIO_LAYERS PERL_DONT_CREATE_GVSV
                        PERL_HASH_FUNC_ONE_AT_A_TIME_HARD PERL_MALLOC_WRAP
                        PERL_NEW_COPY_ON_WRITE PERL_PRESERVE_IVUV
                        USE_64_BIT_ALL USE_64_BIT_INT USE_LARGE_FILES
                        USE_LOCALE USE_LOCALE_COLLATE USE_LOCALE_CTYPE
                        USE_LOCALE_NUMERIC USE_LOCALE_TIME USE_PERLIO
                        USE_PERL_ATOF
  Locally applied patches:
	Devel::PatchPerl 1.38
  Built under linux
  Compiled at Jul 15 2015 23:22:15
  %ENV:
    PERL5LIB="/home/perltest/.cpan/build/Variable-Disposition-0.004-lpIj9I/blib/arch:/home/perltest/.cpan/build/Variable-Disposition-0.004-lpIj9I/blib/lib:/home/perltest/.cpan/build/Test-CheckDeps-0.010-WGL5Dz/blib/arch:/home/perltest/.cpan/build/Test-CheckDeps-0.010-WGL5Dz/blib/lib:/home/perltest/.cpan/build/Log-Any-1.032-VsYrEu/blib/arch:/home/perltest/.cpan/build/Log-Any-1.032-VsYrEu/blib/lib:/home/perltest/.cpan/build/Future-0.32-Nwp7go/blib/arch:/home/perltest/.cpan/build/Future-0.32-Nwp7go/blib/lib:/home/perltest/.cpan/build/Struct-Dumb-0.03-4b2_dy/blib/arch:/home/perltest/.cpan/build/Struct-Dumb-0.03-4b2_dy/blib/lib:/home/perltest/.cpan/build/Test-Identity-0.01-cTChgl/blib/arch:/home/perltest/.cpan/build/Test-Identity-0.01-cTChgl/blib/lib:/home/perltest/.cpan/build/List-UtilsBy-0.10-4brigl/blib/arch:/home/perltest/.cpan/build/List-UtilsBy-0.10-4brigl/blib/lib:/home/perltest/.cpan/build/Test-Refcount-0.08-8VW3yS/blib/arch:/home/perltest/.cpan/build/Test-Refcount-0.08-8VW3yS/blib/lib"
    PERL5OPT=""
    PERL5_CPANPLUS_IS_RUNNING="24289"
    PERL5_CPAN_IS_RUNNING="24289"
    PERL5_CPAN_IS_RUNNING_IN_RECURSION="19212,24289"
    PERLBREW_BASHRC_VERSION="0.73"
    PERLBREW_HOME="/home/perltest/.perlbrew"
    PERLBREW_LIB=""
    PERLBREW_MANPATH="/home/perltest/perl5/perlbrew/perls/perl-5.22.0/man"
    PERLBREW_PATH="/home/perltest/perl5/perlbrew/bin:/home/perltest/perl5/perlbrew/perls/perl-5.22.0/bin"
    PERLBREW_PERL="perl-5.22.0"
    PERLBREW_ROOT="/home/perltest/perl5/perlbrew"
    PERLBREW_VERSION="0.73"
    PERL_CR_SMOKER_CURRENT="WebService-Bitcoin-BTCe-0.001"
    PERL_EXTUTILS_AUTOINSTALL="--defaultdeps"
    PERL_LOCAL_LIB_ROOT=""
    PERL_MM_USE_DEFAULT="1"
  @INC:
    /home/perltest/.cpan/build/Variable-Disposition-0.004-lpIj9I/blib/arch
    /home/perltest/.cpan/build/Variable-Disposition-0.004-lpIj9I/blib/lib
    /home/perltest/.cpan/build/Test-CheckDeps-0.010-WGL5Dz/blib/arch
    /home/perltest/.cpan/build/Test-CheckDeps-0.010-WGL5Dz/blib/lib
    /home/perltest/.cpan/build/Log-Any-1.032-VsYrEu/blib/arch
    /home/perltest/.cpan/build/Log-Any-1.032-VsYrEu/blib/lib
    /home/perltest/.cpan/build/Future-0.32-Nwp7go/blib/arch
    /home/perltest/.cpan/build/Future-0.32-Nwp7go/blib/lib
    /home/perltest/.cpan/build/Struct-Dumb-0.03-4b2_dy/blib/arch
    /home/perltest/.cpan/build/Struct-Dumb-0.03-4b2_dy/blib/lib
    /home/perltest/.cpan/build/Test-Identity-0.01-cTChgl/blib/arch
    /home/perltest/.cpan/build/Test-Identity-0.01-cTChgl/blib/lib
    /home/perltest/.cpan/build/List-UtilsBy-0.10-4brigl/blib/arch
    /home/perltest/.cpan/build/List-UtilsBy-0.10-4brigl/blib/lib
    /home/perltest/.cpan/build/Test-Refcount-0.08-8VW3yS/blib/arch
    /home/perltest/.cpan/build/Test-Refcount-0.08-8VW3yS/blib/lib
    /home/perltest/perl5/perlbrew/perls/perl-5.22.0/lib/site_perl/5.22.0/x86_64-linux
    /home/perltest/perl5/perlbrew/perls/perl-5.22.0/lib/site_perl/5.22.0
    /home/perltest/perl5/perlbrew/perls/perl-5.22.0/lib/5.22.0/x86_64-linux
    /home/perltest/perl5/perlbrew/perls/perl-5.22.0/lib/5.22.0
    .