Test-Pod-LinkCheck v0.008 Perl 5 v5.32.0 x86_64-linux
- Status
- Pass
- From
- Nigel Horne
- Dist
-
Test-Pod-LinkCheck v0.008
- Platform
- Perl 5 v5.32.0 x86_64-linux
- Date
- 2020-10-03 12:15:18
- ID
- 1a25e684-0572-11eb-8ba7-87b9dcc487a6
This distribution has been tested as part of the CPAN Testers
project, supporting the Perl programming language. See
http://wiki.cpantesters.org/ for more information or email
questions to cpan-testers-discuss@perl.org
--
Dear Apocalypse,
This is a computer-generated report for Test-Pod-LinkCheck-0.008
on perl 5.32.0, created by CPAN-Reporter-1.2018.
Thank you for uploading your work to CPAN. Congratulations!
All tests were successful.
Sections of this report:
* Tester comments
* Program output
* Prerequisites
* Environment and other context
------------------------------
TESTER COMMENTS
------------------------------
Additional comments from tester:
none provided
------------------------------
PROGRAM OUTPUT
------------------------------
Output from './Build test':
#
You should load Test::Tester before Test::Builder (or anything that loads Test::Builder) at /home/njh/perl5/perlbrew/perls/perl-5.32.0/lib/site_perl/5.32.0/Test/Tester.pm line 9.
#
# Generated by Dist::Zilla::Plugin::ReportVersions::Tiny v1.10
# perl: 5.032000 (wanted 5.006) on linux from /home/njh/perl5/perlbrew/perls/perl-5.32.0/bin/perl
#
# App::PodLinkCheck::ParseLinks => 15 (want 4)
# App::PodLinkCheck::ParseSections => 15 (want any version)
# Capture::Tiny => 0.48 (want any version)
# Exporter => 5.74 (want any version)
# ExtUtils::MakeMaker => 7.46 (want any version)
# File::Spec => 3.78 (want any version)
# File::Temp => 0.2309 (want any version)
# IO::Handle => 1.42 (want any version)
# IPC::Open3 => 1.21 (want any version)
# Module::Build::Tiny => 0.039 (want 0.039)
# Moose => 2.2013 (want 1.01)
# Moose::Util::TypeConstraints => 2.2013 (want 1.01)
# Pod::Find => 1.63 (want any version)
# Test::Builder => 1.302181 (want 0.94)
# Test::More => 1.302181 (want 0.88)
# Test::Pod => 1.52 (want 1.44)
# Test::Tester => 1.302181 (want any version)
# parent => 0.238 (want any version)
# strict => 1.11 (want any version)
# warnings => 1.47 (want any version)
#
# Thanks for using my code. I hope it works for you.
# If not, please try and include this output in the bug report.
# That will help me reproduce the issue and solve your problem.
#
t/apocalypse.t ................ skipped: Test::Apocalypse required for validating the distribution
t/00-compile.t ................ ok
t/functions.t ................. ok
t/000-report-versions-tiny.t .. ok
t/cpan_backend.t .............. ok
t/simple.t .................... ok
All tests successful.
Test Summary Report
-------------------
t/cpan_backend.t (Wstat: 0 Tests: 24 Failed: 0)
TODO passed: 9-12, 21-24
Files=6, Tests=130, 3 wallclock secs ( 0.02 usr 0.01 sys + 3.52 cusr 0.43 csys = 3.98 CPU)
Result: PASS
------------------------------
PREREQUISITES
------------------------------
Prerequisite modules loaded:
requires:
Module Need Have
-------------------------------- ----- --------
App::PodLinkCheck::ParseLinks 4 15
App::PodLinkCheck::ParseSections 0 15
Capture::Tiny 0 0.48
Exporter 0 5.74
File::Spec 0 3.78
Moose 1.01 2.2013
Moose::Util::TypeConstraints 1.01 2.2013
parent 0 0.238
perl 5.006 5.032000
Pod::Find 0 1.63
strict 0 1.11
Test::Builder 0.94 1.302181
Test::Pod 1.44 1.52
warnings 0 1.47
build_requires:
Module Need Have
-------------------------------- ----- --------
File::Spec 0 3.78
File::Temp 0 0.2309
IO::Handle 0 1.42
IPC::Open3 0 1.21
perl 5.006 5.032000
Test::More 0.88 1.302181
Test::Tester 0 1.302181
configure_requires:
Module Need Have
-------------------------------- ----- --------
ExtUtils::MakeMaker 0 7.46
Module::Build::Tiny 0.039 0.039
perl 5.006 5.032000
------------------------------
ENVIRONMENT AND OTHER CONTEXT
------------------------------
Environment variables:
HARNESS_OPTIONS = j10:c
LANG = en_GB.utf8
LD_LIBRARY_PATH = /usr/local/lib::
NONINTERACTIVE_TESTING = 1
PATH = /home/njh/perl5/perlbrew/bin:/home/njh/perl5/perlbrew/perls/perl-5.32.0/bin:/usr/local/bin:/usr/bin:/bin:/usr/local/games:/usr/games:/home/njh/bin
PERL5LIB =
PERL5OPT =
PERL5_CPANPLUS_IS_RUNNING = 7777
PERL5_CPAN_IS_RUNNING = 7777
PERLBREW_HOME = /home/njh/.perlbrew
PERLBREW_MANPATH = /home/njh/perl5/perlbrew/perls/perl-5.32.0/man
PERLBREW_PATH = /home/njh/perl5/perlbrew/bin:/home/njh/perl5/perlbrew/perls/perl-5.32.0/bin
PERLBREW_PERL = perl-5.32.0
PERLBREW_ROOT = /home/njh/perl5/perlbrew
PERLBREW_SHELLRC_VERSION = 0.88
PERLBREW_VERSION = 0.88
PERL_MM_USE_DEFAULT = 1
PERL_USE_UNSAFE_INC = 1
SHELL = /bin/bash
TEMP = /tmp/user/1000
TERM = xterm-256color
TMPDIR = /tmp/user/1000
Perl special variables (and OS-specific diagnostics, for MSWin32):
$^X = /home/njh/perl5/perlbrew/perls/perl-5.32.0/bin/perl
$UID/$EUID = 1000 / 1000
$GID = 1000 4 24 25 29 30 44 46 107 996 1000
$EGID = 1000 4 24 25 29 30 44 46 107 996 1000
Perl module toolchain versions installed:
Module Have
------------------- --------
CPAN 2.28
CPAN::Meta 2.150010
Cwd 3.78
ExtUtils::CBuilder 0.280234
ExtUtils::Command 7.46
ExtUtils::Install 2.18
ExtUtils::MakeMaker 7.46
ExtUtils::Manifest 1.72
ExtUtils::ParseXS 3.40
File::Spec 3.78
JSON 4.02
JSON::PP 4.05
Module::Build 0.4231
Module::Signature 0.87
Parse::CPAN::Meta 2.150010
Test::Harness 3.42
Test::More 1.302181
YAML 1.30
YAML::Syck 1.32
version 0.9927
--
Summary of my perl5 (revision 5 version 32 subversion 0) configuration:
Platform:
osname=linux
osvers=5.6.0-2-amd64
archname=x86_64-linux
uname='linux microcenter 5.6.0-2-amd64 #1 smp debian 5.6.14-1 (2020-05-23) x86_64 gnulinux '
config_args='-de -Dprefix=/home/njh/perl5/perlbrew/perls/perl-5.32.0 -Aeval:scriptdir=/home/njh/perl5/perlbrew/perls/perl-5.32.0/bin'
hint=recommended
useposix=true
d_sigaction=define
useithreads=undef
usemultiplicity=undef
use64bitint=define
use64bitall=define
uselongdouble=undef
usemymalloc=n
default_inc_excludes_dot=define
bincompat5005=undef
Compiler:
cc='cc'
ccflags ='-fwrapv -fno-strict-aliasing -pipe -fstack-protector-strong -I/usr/local/include -D_LARGEFILE_SOURCE -D_FILE_OFFSET_BITS=64 -D_FORTIFY_SOURCE=2'
optimize='-O2'
cppflags='-fwrapv -fno-strict-aliasing -pipe -fstack-protector-strong -I/usr/local/include'
ccversion=''
gccversion='9.3.0'
gccosandvers=''
intsize=4
longsize=8
ptrsize=8
doublesize=8
byteorder=12345678
doublekind=3
d_longlong=define
longlongsize=8
d_longdbl=define
longdblsize=16
longdblkind=3
ivtype='long'
ivsize=8
nvtype='double'
nvsize=8
Off_t='off_t'
lseeksize=8
alignbytes=8
prototype=define
Linker and Libraries:
ld='cc'
ldflags =' -fstack-protector-strong -L/usr/local/lib'
libpth=/usr/local/lib /usr/include/x86_64-linux-gnu /usr/lib /lib/x86_64-linux-gnu /lib/../lib /usr/lib/x86_64-linux-gnu /usr/lib/../lib /lib
libs=-lpthread -lnsl -lgdbm -ldb -ldl -lm -lcrypt -lutil -lc
perllibs=-lpthread -lnsl -ldl -lm -lcrypt -lutil -lc
libc=libc-2.30.so
so=so
useshrplib=false
libperl=libperl.a
gnulibc_version='2.30'
Dynamic Linking:
dlsrc=dl_dlopen.xs
dlext=so
d_dlsymun=undef
ccdlflags='-Wl,-E'
cccdlflags='-fPIC'
lddlflags='-shared -O2 -L/usr/local/lib -fstack-protector-strong'
Characteristics of this binary (from libperl):
Compile-time options:
HAS_TIMES
PERLIO_LAYERS
PERL_COPY_ON_WRITE
PERL_DONT_CREATE_GVSV
PERL_MALLOC_WRAP
PERL_OP_PARENT
PERL_PRESERVE_IVUV
USE_64_BIT_ALL
USE_64_BIT_INT
USE_LARGE_FILES
USE_LOCALE
USE_LOCALE_COLLATE
USE_LOCALE_CTYPE
USE_LOCALE_NUMERIC
USE_LOCALE_TIME
USE_PERLIO
USE_PERL_ATOF
Built under linux
Compiled at Jun 27 2020 00:32:55
%ENV:
PERL5LIB=""
PERL5OPT=""
PERL5_CPANPLUS_IS_RUNNING="7777"
PERL5_CPAN_IS_RUNNING="7777"
PERLBREW_HOME="/home/njh/.perlbrew"
PERLBREW_MANPATH="/home/njh/perl5/perlbrew/perls/perl-5.32.0/man"
PERLBREW_PATH="/home/njh/perl5/perlbrew/bin:/home/njh/perl5/perlbrew/perls/perl-5.32.0/bin"
PERLBREW_PERL="perl-5.32.0"
PERLBREW_ROOT="/home/njh/perl5/perlbrew"
PERLBREW_SHELLRC_VERSION="0.88"
PERLBREW_VERSION="0.88"
PERL_MM_USE_DEFAULT="1"
PERL_USE_UNSAFE_INC="1"
@INC:
/home/njh/perl5/perlbrew/perls/perl-5.32.0/lib/site_perl/5.32.0/x86_64-linux
/home/njh/perl5/perlbrew/perls/perl-5.32.0/lib/site_perl/5.32.0
/home/njh/perl5/perlbrew/perls/perl-5.32.0/lib/5.32.0/x86_64-linux
/home/njh/perl5/perlbrew/perls/perl-5.32.0/lib/5.32.0
.