Catalyst-Plugin-StackTrace v0.11 Perl 5 v5.12.1 darwin-thread-multi-2level
- Status
- Pass
- From
- David Wheeler (DWHEELER)
- Dist
-
Catalyst-Plugin-StackTrace v0.11
- Platform
- Perl 5 v5.12.1 darwin-thread-multi-2level
- Date
- 2010-06-21 23:01:49
- ID
- 1a6943ce-8a8d-4ea8-8cc5-2b74e3634f9c
This distribution has been tested as part of the CPAN Testers
project, supporting the Perl programming language. See
http://wiki.cpantesters.org/ for more information or email
questions to cpan-testers-discuss@perl.org
--
Dear Matt S Trout,
This is a computer-generated report for Catalyst-Plugin-StackTrace-0.11
on perl 5.12.1, created by CPAN-Reporter-1.1711.
Thank you for uploading your work to CPAN. Congratulations!
All tests were successful.
Sections of this report:
* Tester comments
* Program output
* Prerequisites
* Environment and other context
------------------------------
TESTER COMMENTS
------------------------------
Additional comments from tester:
none provided
------------------------------
PROGRAM OUTPUT
------------------------------
Output from '/usr/bin/make test':
PERL_DL_NONLAZY=1 /usr/local/bin/perl "-MExtUtils::Command::MM" "-e" "test_harness(0, 'inc', 'blib/lib', 'blib/arch')" t/*.t
t/01use.t .......... ok
t/02pod.t .......... skipped: set TEST_POD to enable this test
t/03podcoverage.t .. skipped: set TEST_POD to enable this test
t/04critic.t ....... skipped: Critic test only for developers.
t/04trace.t ........ ok
t/05verbose1.t ..... ok
t/06verbose2.t ..... ok
t/07reverse.t ...... ok
t/08die_handler.t .. ok
All tests successful.
Files=9, Tests=27, 6 wallclock secs ( 0.05 usr 0.03 sys + 4.61 cusr 0.40 csys = 5.09 CPU)
Result: PASS
------------------------------
PREREQUISITES
------------------------------
Prerequisite modules loaded:
requires:
Module Need Have
------------------- ---- -------
Catalyst 5.70 5.80024
Devel::StackTrace 0 1.22
ExtUtils::MakeMaker 6.42 6.56
MRO::Compat 0.10 0.11
configure_requires:
Module Need Have
------------------- ---- -------
ExtUtils::MakeMaker 6.42 6.56
------------------------------
ENVIRONMENT AND OTHER CONTEXT
------------------------------
Environment variables:
LANG = en_US.UTF-8
PATH = /usr/local/bin:/usr/local/sbin:/usr/bin:/bin:/usr/sbin:/sbin:/usr/local/bin:/usr/X11/bin:/Developer/Tools:/Users/david/bin:/usr/local/pgsql/bin:/usr/local/mysql/bin
PERL5LIB =
PERL5OPT =
PERL5_CPANPLUS_IS_RUNNING = 42380
PERL5_CPAN_IS_RUNNING = 42380
SHELL = /bin/zsh
TERM = xterm-color
TMPDIR = /var/folders/V7/V7WFvTV+HCO3Q-XyeeqT4++++TI/-Tmp-/
Perl special variables (and OS-specific diagnostics, for MSWin32):
$^X = /usr/local/bin/perl
$UID/$EUID = 501 / 501
$GID = 20 20 402 204 100 98 81 80 79 61 12 401
$EGID = 20 20 402 204 100 98 81 80 79 61 12 401
Perl module toolchain versions installed:
Module Have
------------------- -------
CPAN 1.94_56
Cwd 3.31
ExtUtils::CBuilder 0.2703
ExtUtils::Command 1.16
ExtUtils::Install 1.55
ExtUtils::MakeMaker 6.56
ExtUtils::Manifest 1.57
ExtUtils::ParseXS 2.21
File::Spec 3.31
Module::Build 0.36_11
Module::Signature n/a
Test::Harness 3.21
Test::More 0.95_02
YAML 0.71
YAML::Syck 1.08
version 0.82
--
Summary of my perl5 (revision 5 version 12 subversion 1) configuration:
Platform:
osname=darwin, osvers=10.3.0, archname=darwin-thread-multi-2level
uname='darwin benedict.local 10.3.0 darwin kernel version 10.3.0: fri feb 26 11:58:09 pst 2010; root:xnu-1504.3.12~1release_i386 i386 '
config_args='-des -Duseshrplib -Dusemultiplicity -Duseithreads -Dperladmin=david@kineticode.com -Dcf_email=david@kineticode.com'
hint=recommended, useposix=true, d_sigaction=define
useithreads=define, usemultiplicity=define
useperlio=define, d_sfio=undef, uselargefiles=define, usesocks=undef
use64bitint=define, use64bitall=define, uselongdouble=undef
usemymalloc=n, bincompat5005=undef
Compiler:
cc='cc', ccflags ='-fno-common -DPERL_DARWIN -no-cpp-precomp -fno-strict-aliasing -pipe -fstack-protector -I/usr/local/include',
optimize='-O3',
cppflags='-no-cpp-precomp -fno-common -DPERL_DARWIN -no-cpp-precomp -fno-strict-aliasing -pipe -fstack-protector -I/usr/local/include'
ccversion='', gccversion='4.2.1 (Apple Inc. build 5659)', gccosandvers=''
intsize=4, longsize=8, ptrsize=8, doublesize=8, byteorder=12345678
d_longlong=define, longlongsize=8, d_longdbl=define, longdblsize=16
ivtype='long', ivsize=8, nvtype='double', nvsize=8, Off_t='off_t', lseeksize=8
alignbytes=8, prototype=define
Linker and Libraries:
ld='env MACOSX_DEPLOYMENT_TARGET=10.3 cc', ldflags =' -fstack-protector -L/usr/local/lib'
libpth=/usr/local/lib /usr/lib
libs=-ldbm -ldl -lm -lutil -lc
perllibs=-ldl -lm -lutil -lc
libc=/usr/lib/libc.dylib, so=dylib, useshrplib=true, libperl=libperl.dylib
gnulibc_version=''
Dynamic Linking:
dlsrc=dl_dlopen.xs, dlext=bundle, d_dlsymun=undef, ccdlflags=' '
cccdlflags=' ', lddlflags=' -bundle -undefined dynamic_lookup -L/usr/local/lib -fstack-protector'
Characteristics of this binary (from libperl):
Compile-time options: MULTIPLICITY PERL_DONT_CREATE_GVSV
PERL_IMPLICIT_CONTEXT PERL_MALLOC_WRAP USE_64_BIT_ALL
USE_64_BIT_INT USE_ITHREADS USE_LARGE_FILES
USE_PERLIO USE_PERL_ATOF USE_REENTRANT_API
Built under darwin
Compiled at May 17 2010 10:08:50
%ENV:
PERL5LIB=""
PERL5OPT=""
PERL5_CPANPLUS_IS_RUNNING="42380"
PERL5_CPAN_IS_RUNNING="42380"
@INC:
/usr/local/lib/perl5/site_perl/5.12.1/darwin-thread-multi-2level
/usr/local/lib/perl5/site_perl/5.12.1
/usr/local/lib/perl5/5.12.1/darwin-thread-multi-2level
/usr/local/lib/perl5/5.12.1
/usr/local/lib/perl5/site_perl/5.12.0/darwin-thread-multi-2level
/usr/local/lib/perl5/site_perl/5.12.0
/usr/local/lib/perl5/site_perl
.