Dist-Zilla-Plugin-CheckLib v0.007 Perl 5 v5.14.4 amd64-freebsd

Status
Pass
From
Slaven Rezić (SREZIC)
Dist
Dist-Zilla-Plugin-CheckLib v0.007
Platform
Perl 5 v5.14.4 amd64-freebsd
Date
2017-11-01 22:00:42
ID
1a886e8c-bf50-11e7-afdd-dc6f42b58e2b
This distribution has been tested as part of the CPAN Testers
project, supporting the Perl programming language.  See
http://wiki.cpantesters.org/ for more information or email
questions to cpan-testers-discuss@perl.org


--
Dear Karen Etheridge,

This is a computer-generated report for Dist-Zilla-Plugin-CheckLib-0.007
on perl 5.14.4, created by CPAN-Reporter-1.2018.

Thank you for uploading your work to CPAN.  Congratulations!
All tests were successful.

Sections of this report:

    * Tester comments
    * Program output
    * Prerequisites
    * Environment and other context

------------------------------
TESTER COMMENTS
------------------------------

Additional comments from tester:

none provided

------------------------------
PROGRAM OUTPUT
------------------------------

Output from '/usr/bin/make test':

PERL_DL_NONLAZY=1 "/usr/perl5.14.4p/bin/perl" "-MExtUtils::Command::MM" "-MTest::Harness" "-e" "undef *Test::Harness::Switches; test_harness(0, 'blib/lib', 'blib/arch')" t/*.t
# 
# Versions for all modules listed in MYMETA.json (including optional ones):
# 
# === Configure Requires ===
# 
#     Module                       Want     Have
#     ------------------------ -------- --------
#     CPAN::Meta::Requirements 2.120620    2.131
#     ExtUtils::MakeMaker           any     7.30
#     Module::Metadata              any 1.000033
# 
# === Build Requires ===
# 
#     Module              Want Have
#     ------------------- ---- ----
#     ExtUtils::MakeMaker  any 7.30
# 
# === Test Requires ===
# 
#     Module              Want     Have
#     ------------------- ---- --------
#     ExtUtils::MakeMaker  any     7.30
#     File::Spec           any     3.62
#     Path::Tiny           any    0.104
#     Test::DZil           any    6.010
#     Test::Deep           any    1.127
#     Test::Fatal          any    0.014
#     Test::More          0.88 1.302106
#     Test::Needs          any 0.002005
#     if                   any   0.0601
# 
# === Test Recommends ===
# 
#     Module         Want     Have
#     ---------- -------- --------
#     CPAN::Meta 2.120900 2.143240
# 
# === Runtime Requires ===
# 
#     Module                              Want   Have
#     ------------------------------- -------- ------
#     Devel::CheckLib                      any   1.11
#     Dist::Zilla                     4.300039  6.010
#     Dist::Zilla::Role::FileMunger        any  6.010
#     Dist::Zilla::Role::InstallTool       any  6.010
#     Dist::Zilla::Role::PrereqSource      any  6.010
#     Moose                                any 2.2006
#     Scalar::Util                         any   1.49
#     namespace::autoclean                 any   0.28
#     strict                               any   1.04
#     warnings                             any   1.12
# 
# === Other Modules ===
# 
#     Module                                             Have
#     ---------------------------------------------- --------
#     CPAN::Meta::Validator                          2.143240
#     Dist::Zilla::Plugin::MakeMaker                    6.010
#     Dist::Zilla::Plugin::MakeMaker::Awesome         missing
#     Dist::Zilla::Plugin::MakeMaker::Fallback        missing
#     Dist::Zilla::Plugin::ModuleBuildTiny            missing
#     Dist::Zilla::Plugin::ModuleBuildTiny::Fallback  missing
#     ExtUtils::MakeMaker                                7.30
#     JSON::PP                                           2.94
#     Module::Build                                    0.4224
#     Module::Build::Tiny                               0.039
#     Pod::Coverage                                      0.23
#     Sub::Name                                          0.21
#     YAML                                               1.23
#     autodie                                            2.29
# 
t/00-report-prereqs.t ............ ok
t/01-basic.t ..................... ok
t/02-module-build.t .............. ok
t/03-module-build-tiny.t ......... skipped: Need Dist::Zilla::Plugin::ModuleBuildTiny 0.007
t/04-makemaker-awesome.t ......... skipped: Need Dist::Zilla::Plugin::MakeMaker::Awesome 0.13
t/05-makemaker-fallback.t ........ skipped: Need Dist::Zilla::Plugin::MakeMaker::Fallback
t/06-modulebuildtiny-fallback.t .. skipped: Need Dist::Zilla::Plugin::ModuleBuildTiny::Fallback 0.006
t/zzz-check-breaks.t ............. ok
All tests successful.
Files=8, Tests=14, 11 wallclock secs ( 0.06 usr  0.03 sys +  6.91 cusr  0.38 csys =  7.38 CPU)
Result: PASS

------------------------------
PREREQUISITES
------------------------------

Prerequisite modules loaded:

requires:

    Module                          Need     Have    
    ------------------------------- -------- --------
    Devel::CheckLib                 0        1.11    
    Dist::Zilla                     4.300039 6.010   
    Dist::Zilla::Role::FileMunger   0        6.010   
    Dist::Zilla::Role::InstallTool  0        6.010   
    Dist::Zilla::Role::PrereqSource 0        6.010   
    Moose                           0        2.2006  
    namespace::autoclean            0        0.28    
    perl                            5.009005 5.014004
    Scalar::Util                    0        1.49    
    strict                          0        1.04    
    warnings                        0        1.12    

build_requires:

    Module                          Need     Have    
    ------------------------------- -------- --------
    ExtUtils::MakeMaker             0        7.30    
    File::Spec                      0        3.62    
    if                              0        0.0601  
    Path::Tiny                      0        0.104   
    Test::Deep                      0        1.127   
    Test::DZil                      0        6.010   
    Test::Fatal                     0        0.014   
    Test::More                      0.88     1.302106
    Test::Needs                     0        0.002005

configure_requires:

    Module                          Need     Have    
    ------------------------------- -------- --------
    CPAN::Meta::Requirements        2.120620 2.131   
    ExtUtils::MakeMaker             0        7.30    
    Module::Metadata                0        1.000033
    perl                            5.006    5.014004


------------------------------
ENVIRONMENT AND OTHER CONTEXT
------------------------------

Environment variables:

    PATH = /usr/local/bin:/usr/bin:/bin:/usr/local/sbin:/usr/sbin:/sbin:/home/cpansand/bin/freebsd12.0:/home/cpansand/bin/sh:/home/cpansand/bin:/usr/games:/home/cpansand/devel:/usr/home/eserte/src/srezic-misc/scripts
    PERL5LIB = 
    PERL5OPT = 
    PERL5_CPANPLUS_IS_RUNNING = 1362
    PERL5_CPAN_IS_RUNNING = 1362
    PERL5_CPAN_IS_RUNNING_IN_RECURSION = 85141,1362
    PERL_BATCH = yes
    PERL_CANARY_STABILITY_NOPROMPT = 1
    PERL_CPAN_REPORTER_CONFIG = /var/tmp/cpansmoker-1023/2017110118/cpanreporter_000_config.ini
    PERL_EXTUTILS_AUTOINSTALL = --defaultdeps
    SHELL = /bin/sh
    TMPDIR = /var/tmp/cpansmoker-1023/2017110118

Perl special variables (and OS-specific diagnostics, for MSWin32):

    $^X = /usr/perl5.14.4p/bin/perl
    $UID/$EUID = 1023 / 1023
    $GID = 1023 1023
    $EGID = 1023 1023

Perl module toolchain versions installed:

    Module              Have     
    ------------------- ---------
    CPAN                1.9600_01
    CPAN::Meta          2.143240 
    Cwd                 3.62     
    ExtUtils::CBuilder  0.280203 
    ExtUtils::Command   7.30     
    ExtUtils::Install   2.06     
    ExtUtils::MakeMaker 7.30     
    ExtUtils::Manifest  1.70     
    ExtUtils::ParseXS   3.35     
    File::Spec          3.62     
    JSON                2.94     
    JSON::PP            2.94     
    Module::Build       0.4224   
    Module::Signature   0.81     
    Parse::CPAN::Meta   1.4414   
    Test::Harness       3.39     
    Test::More          1.302106 
    YAML                1.23     
    YAML::Syck          1.30     
    version             0.9918   


--

Summary of my perl5 (revision 5 version 14 subversion 4) configuration:
   
  Platform:
    osname=freebsd, osvers=12.0-current, archname=amd64-freebsd
    uname='freebsd freebsd 12.0-current freebsd 12.0-current #1 ff104cc9da3(master)-dirty: thu oct 19 23:44:51 cest 2017 root@freebsd:usrobjusrsrcsysgeneric amd64 '
    config_args='-ds -e -Dprefix=/usr/perl5.14.4p -Dcf_email=srezic@cpan.org -Doptimize=-O2 -pipe'
    hint=recommended, useposix=true, d_sigaction=define
    useithreads=undef, usemultiplicity=undef
    useperlio=define, d_sfio=undef, uselargefiles=define, usesocks=undef
    use64bitint=define, use64bitall=define, uselongdouble=undef
    usemymalloc=n, bincompat5005=undef
  Compiler:
    cc='cc', ccflags ='-DHAS_FPSETMASK -DHAS_FLOATINGPOINT_H -fno-strict-aliasing -pipe -fstack-protector -I/usr/local/include',
    optimize='-O2 -pipe',
    cppflags='-DHAS_FPSETMASK -DHAS_FLOATINGPOINT_H -fno-strict-aliasing -pipe -fstack-protector -I/usr/local/include'
    ccversion='', gccversion='4.2.1 Compatible FreeBSD Clang 5.0.0 (tags/RELEASE_500/final 312559)', gccosandvers=''
    intsize=4, longsize=8, ptrsize=8, doublesize=8, byteorder=12345678
    d_longlong=define, longlongsize=8, d_longdbl=define, longdblsize=16
    ivtype='long', ivsize=8, nvtype='double', nvsize=8, Off_t='off_t', lseeksize=8
    alignbytes=8, prototype=define
  Linker and Libraries:
    ld='cc', ldflags ='-pthread -Wl,-E  -fstack-protector -L/usr/local/lib'
    libpth=/usr/lib /usr/local/lib
    libs=-lgdbm -lm -lcrypt -lutil -lc
    perllibs=-lm -lcrypt -lutil -lc
    libc=, so=so, useshrplib=false, libperl=libperl.a
    gnulibc_version=''
  Dynamic Linking:
    dlsrc=dl_dlopen.xs, dlext=so, d_dlsymun=undef, ccdlflags=' '
    cccdlflags='-DPIC -fPIC', lddlflags='-shared  -L/usr/local/lib -fstack-protector'


Characteristics of this binary (from libperl): 
  Compile-time options: PERL_DONT_CREATE_GVSV PERL_MALLOC_WRAP
                        PERL_PRESERVE_IVUV USE_64_BIT_ALL USE_64_BIT_INT
                        USE_LARGE_FILES USE_PERLIO USE_PERL_ATOF
  Built under freebsd
  Compiled at Oct 22 2017 18:54:20
  %ENV:
    PERL5LIB=""
    PERL5OPT=""
    PERL5_CPANPLUS_IS_RUNNING="1362"
    PERL5_CPAN_IS_RUNNING="1362"
    PERL5_CPAN_IS_RUNNING_IN_RECURSION="85141,1362"
    PERL_BATCH="yes"
    PERL_CANARY_STABILITY_NOPROMPT="1"
    PERL_CPAN_REPORTER_CONFIG="/var/tmp/cpansmoker-1023/2017110118/cpanreporter_000_config.ini"
    PERL_EXTUTILS_AUTOINSTALL="--defaultdeps"
  @INC:
    /usr/perl5.14.4p/lib/site_perl/5.14.4/amd64-freebsd
    /usr/perl5.14.4p/lib/site_perl/5.14.4
    /usr/perl5.14.4p/lib/5.14.4/amd64-freebsd
    /usr/perl5.14.4p/lib/5.14.4
    .