CPANPLUS-Dist-Slackware v1.032 Perl 5 v5.32.1 amd64-openbsd
- Status
- Pass
- From
- David Solimano
- Dist
-
CPANPLUS-Dist-Slackware v1.032
- Platform
- Perl 5 v5.32.1 amd64-openbsd
- Date
- 2023-03-26 09:46:38
- ID
- 1a9e5bca-cbbb-11ed-b40b-53c76165c5dd
This distribution has been tested as part of the CPAN Testers
project, supporting the Perl programming language. See
http://wiki.cpantesters.org/ for more information or email
questions to cpan-testers-discuss@perl.org
--
Dear Sergey Poznyakoff,
This is a computer-generated report for CPANPLUS-Dist-Slackware-1.032
on perl 5.32.1, created by CPAN-Reporter-1.2018.
Thank you for uploading your work to CPAN. Congratulations!
All tests were successful.
Sections of this report:
* Tester comments
* Program output
* Prerequisites
* Environment and other context
------------------------------
TESTER COMMENTS
------------------------------
Additional comments from tester:
this report is from an automated smoke testing program
and was not reviewed by a human for accuracy
------------------------------
PROGRAM OUTPUT
------------------------------
Output from '/usr/bin/make test':
PERL_DL_NONLAZY=1 "/usr/bin/perl" "-MExtUtils::Command::MM" "-MTest::Harness" "-e" "undef *Test::Harness::Switches; test_harness(0, 'blib/lib', 'blib/arch')" t/*.t
# Testing CPANPLUS::Dist::Slackware 1.030, Perl 5.032001, /usr/bin/perl
t/00-load.t .............. ok
t/author-pod-coverage.t .. skipped: these tests are for testing by the author
t/author-pod-syntax.t .... skipped: these tests are for testing by the author
t/util.t ................. ok
All tests successful.
Files=4, Tests=8, 2 wallclock secs ( 0.07 usr 0.04 sys + 1.39 cusr 0.42 csys = 1.92 CPU)
Result: PASS
------------------------------
PREREQUISITES
------------------------------
Prerequisite modules loaded:
requires:
Module Need Have
------------------------ -------- ----------
base 0 2.27
Config 0 5.032001
CPANPLUS 0.9166 0.9914
Cwd 0 3.78
ExtUtils::Install 0 2.22
File::Find 0 1.37
File::Spec 0 3.78
File::Temp 0 0.2309
IO::Compress::Gzip 0 2.201
IPC::Cmd 0 1.04
Locale::Maketext::Simple 0 0.21_01
Module::CoreList 2.32 5.20230120
Module::Pluggable 0 5.2
Params::Check 0 0.38
perl 5.006001 5.032001
POSIX 0 1.94
Text::Wrap 0 2021.0814
version 0.77 0.9929
build_requires:
Module Need Have
------------------------ -------- ----------
ExtUtils::MakeMaker 0 7.66
Test::More 0.96 1.302191
configure_requires:
Module Need Have
------------------------ -------- ----------
ExtUtils::MakeMaker 0 7.66
------------------------------
ENVIRONMENT AND OTHER CONTEXT
------------------------------
Environment variables:
AUTOMATED_TESTING = 1
PATH = /home/perluser/perl5/bin:/home/perluser/perl5/perlbrew/bin:/home/perluser/bin:/bin:/sbin:/usr/bin:/usr/sbin:/usr/X11R6/bin:/usr/local/bin:/usr/local/sbin:/usr/games:.
PERL5LIB = /home/perluser/.cpan/build/CPANPLUS-0.9914-0/blib/arch:/home/perluser/.cpan/build/CPANPLUS-0.9914-0/blib/lib:/home/perluser/.cpan/build/Term-UI-0.50-0/blib/arch:/home/perluser/.cpan/build/Term-UI-0.50-0/blib/lib:/home/perluser/.cpan/build/Log-Message-Simple-0.10-0/blib/arch:/home/perluser/.cpan/build/Log-Message-Simple-0.10-0/blib/lib:/home/perluser/.cpan/build/Package-Constants-0.06-0/blib/arch:/home/perluser/.cpan/build/Package-Constants-0.06-0/blib/lib:/home/perluser/.cpan/build/Object-Accessor-0.48-0/blib/arch:/home/perluser/.cpan/build/Object-Accessor-0.48-0/blib/lib:/home/perluser/.cpan/build/Log-Message-0.08-0/blib/arch:/home/perluser/.cpan/build/Log-Message-0.08-0/blib/lib:/home/perluser/.cpan/build/Archive-Extract-0.88-0/blib/arch:/home/perluser/.cpan/build/Archive-Extract-0.88-0/blib/lib:/home/perluser/perl5/lib/perl5
PERL5OPT =
PERL5_CPANPLUS_IS_RUNNING = 1933
PERL5_CPAN_IS_RUNNING = 1933
PERL5_CPAN_IS_RUNNING_IN_RECURSION = 67618,1933
PERLBREW_HOME = /home/perluser/.perlbrew
PERLBREW_ROOT = /home/perluser/perl5/perlbrew
PERLBREW_SHELLRC_VERSION = 0.96
PERL_CR_SMOKER_CURRENT = CPANPLUS-Dist-Slackware-1.032
PERL_EXTUTILS_AUTOINSTALL = --defaultdeps
PERL_LOCAL_LIB_ROOT = /home/perluser/perl5
PERL_MB_OPT = --install_base "/home/perluser/perl5"
PERL_MM_OPT = INSTALL_BASE=/home/perluser/perl5
PERL_MM_USE_DEFAULT = 1
PERL_USE_UNSAFE_INC = 1
SHELL = /bin/ksh
TERM = screen
Perl special variables (and OS-specific diagnostics, for MSWin32):
$^X = /usr/bin/perl
$UID/$EUID = 1000 / 1000
$GID = 1000 1000
$EGID = 1000 1000
Perl module toolchain versions installed:
Module Have
------------------- --------
CPAN 2.34
CPAN::Meta 2.150010
Cwd 3.78
ExtUtils::CBuilder 0.280236
ExtUtils::Command 7.66
ExtUtils::Install 2.22
ExtUtils::MakeMaker 7.66
ExtUtils::Manifest 1.73
ExtUtils::ParseXS 3.44
File::Spec 3.78
JSON 2.90
JSON::PP 4.16
Module::Build 0.4232
Module::Signature n/a
Parse::CPAN::Meta 2.150010
Test::Harness 3.44
Test::More 1.302191
YAML 1.30
YAML::Syck n/a
version 0.9929
--
Summary of my perl5 (revision 5 version 32 subversion 1) configuration:
Platform:
osname=openbsd
osvers=7.2
archname=amd64-openbsd
uname='openbsd'
config_args='-dse -Dopenbsd_distribution=defined -Dmksymlinks'
hint=recommended
useposix=true
d_sigaction=define
useithreads=undef
usemultiplicity=undef
use64bitint=define
use64bitall=define
uselongdouble=undef
usemymalloc=n
default_inc_excludes_dot=define
bincompat5005=undef
Compiler:
cc='cc'
ccflags ='-DNO_LOCALE_NUMERIC -DNO_LOCALE_COLLATE -fno-strict-aliasing -fno-delete-null-pointer-checks -pipe -fstack-protector-strong -I/usr/local/include'
optimize='-O2'
cppflags='-DBIG_TIME -DNO_LOCALE_NUMERIC -DNO_LOCALE_COLLATE -fno-strict-aliasing -fno-delete-null-pointer-checks -pipe -fstack-protector-strong -I/usr/local/include'
ccversion=''
gccversion='OpenBSD Clang 13.0.0'
gccosandvers=''
intsize=4
longsize=8
ptrsize=8
doublesize=8
byteorder=12345678
doublekind=3
d_longlong=define
longlongsize=8
d_longdbl=define
longdblsize=16
longdblkind=3
ivtype='long'
ivsize=8
nvtype='double'
nvsize=8
Off_t='off_t'
lseeksize=8
alignbytes=8
prototype=define
Linker and Libraries:
ld='cc'
ldflags ='-Wl,-E -fstack-protector-strong -L/usr/local/lib'
libpth=/usr/lib /usr/lib/clang/13.0.0/lib /usr/lib
libs=-lm -lc
perllibs=-lm -lc
libc=/usr/lib/libc.so.96.2
so=so
useshrplib=true
libperl=libperl.so.22.0
gnulibc_version=''
Dynamic Linking:
dlsrc=dl_dlopen.xs
dlext=so
d_dlsymun=undef
ccdlflags='-Wl,-R/usr/libdata/perl5/amd64-openbsd/CORE'
cccdlflags='-DPIC -fpic '
lddlflags='-shared -fpic -fstack-protector-strong -L/usr/local/lib'
Characteristics of this binary (from libperl):
Compile-time options:
HAS_TIMES
PERLIO_LAYERS
PERL_COPY_ON_WRITE
PERL_DONT_CREATE_GVSV
PERL_MALLOC_WRAP
PERL_OP_PARENT
PERL_PRESERVE_IVUV
USE_64_BIT_ALL
USE_64_BIT_INT
USE_LARGE_FILES
USE_LOCALE
USE_LOCALE_CTYPE
USE_LOCALE_TIME
USE_PERLIO
USE_PERL_ATOF
Built under openbsd
%ENV:
PERL5LIB="/home/perluser/.cpan/build/CPANPLUS-0.9914-0/blib/arch:/home/perluser/.cpan/build/CPANPLUS-0.9914-0/blib/lib:/home/perluser/.cpan/build/Term-UI-0.50-0/blib/arch:/home/perluser/.cpan/build/Term-UI-0.50-0/blib/lib:/home/perluser/.cpan/build/Log-Message-Simple-0.10-0/blib/arch:/home/perluser/.cpan/build/Log-Message-Simple-0.10-0/blib/lib:/home/perluser/.cpan/build/Package-Constants-0.06-0/blib/arch:/home/perluser/.cpan/build/Package-Constants-0.06-0/blib/lib:/home/perluser/.cpan/build/Object-Accessor-0.48-0/blib/arch:/home/perluser/.cpan/build/Object-Accessor-0.48-0/blib/lib:/home/perluser/.cpan/build/Log-Message-0.08-0/blib/arch:/home/perluser/.cpan/build/Log-Message-0.08-0/blib/lib:/home/perluser/.cpan/build/Archive-Extract-0.88-0/blib/arch:/home/perluser/.cpan/build/Archive-Extract-0.88-0/blib/lib:/home/perluser/perl5/lib/perl5"
PERL5OPT=""
PERL5_CPANPLUS_IS_RUNNING="1933"
PERL5_CPAN_IS_RUNNING="1933"
PERL5_CPAN_IS_RUNNING_IN_RECURSION="67618,1933"
PERLBREW_HOME="/home/perluser/.perlbrew"
PERLBREW_ROOT="/home/perluser/perl5/perlbrew"
PERLBREW_SHELLRC_VERSION="0.96"
PERL_CR_SMOKER_CURRENT="CPANPLUS-Dist-Slackware-1.032"
PERL_EXTUTILS_AUTOINSTALL="--defaultdeps"
PERL_LOCAL_LIB_ROOT="/home/perluser/perl5"
PERL_MB_OPT="--install_base "/home/perluser/perl5""
PERL_MM_OPT="INSTALL_BASE=/home/perluser/perl5"
PERL_MM_USE_DEFAULT="1"
PERL_USE_UNSAFE_INC="1"
@INC:
/home/perluser/.cpan/build/CPANPLUS-0.9914-0/blib/arch
/home/perluser/.cpan/build/CPANPLUS-0.9914-0/blib/lib
/home/perluser/.cpan/build/Term-UI-0.50-0/blib/arch
/home/perluser/.cpan/build/Term-UI-0.50-0/blib/lib
/home/perluser/.cpan/build/Log-Message-Simple-0.10-0/blib/arch
/home/perluser/.cpan/build/Log-Message-Simple-0.10-0/blib/lib
/home/perluser/.cpan/build/Package-Constants-0.06-0/blib/arch
/home/perluser/.cpan/build/Package-Constants-0.06-0/blib/lib
/home/perluser/.cpan/build/Object-Accessor-0.48-0/blib/arch
/home/perluser/.cpan/build/Object-Accessor-0.48-0/blib/lib
/home/perluser/.cpan/build/Log-Message-0.08-0/blib/arch
/home/perluser/.cpan/build/Log-Message-0.08-0/blib/lib
/home/perluser/.cpan/build/Archive-Extract-0.88-0/blib/arch
/home/perluser/.cpan/build/Archive-Extract-0.88-0/blib/lib
/home/perluser/perl5/lib/perl5/5.32.1/amd64-openbsd
/home/perluser/perl5/lib/perl5/5.32.1
/home/perluser/perl5/lib/perl5/amd64-openbsd
/home/perluser/perl5/lib/perl5
/usr/local/libdata/perl5/site_perl/amd64-openbsd
/usr/local/libdata/perl5/site_perl
/usr/libdata/perl5/amd64-openbsd
/usr/libdata/perl5
.