Report for Test-WWW-Mechanize-1.46

Back
From: metabase:user:30f4dfbe-2aae-11df-837a-5e0a49663a4f
Subject: PASS Test-WWW-Mechanize-1.46 v5.20.1 GNU/Linux
Date: 2016-08-01T02:46:10Z

This distribution has been tested as part of the CPAN Testers
project, supporting the Perl programming language.  See
http://wiki.cpantesters.org/ for more information or email
questions to cpan-testers-discuss@perl.org


--
Dear Andy Lester,

This is a computer-generated report for Test-WWW-Mechanize-1.46
on perl 5.20.1, created by CPAN-Reporter-1.2018.

Thank you for uploading your work to CPAN.  Congratulations!
All tests were successful.

Sections of this report:

    * Tester comments
    * Program output
    * Prerequisites
    * Environment and other context

------------------------------
TESTER COMMENTS
------------------------------

Additional comments from tester:

this report is from an automated smoke testing program
and was not reviewed by a human for accuracy

------------------------------
PROGRAM OUTPUT
------------------------------

Output from '/usr/bin/make test':

PERL_DL_NONLAZY=1 "/home/njh/perl5/perlbrew/perls/perl-5.20.1/bin/perl" "-MExtUtils::Command::MM" "-MTest::Harness" "-e" "undef *Test::Harness::Switches; test_harness(0, 'blib/lib', 'blib/arch')" t/*.t
# Testing Test::WWW::Mechanize 1.46, with WWW::Mechanize 1.75, LWP 6.08, Test::More 1.001006, Perl 5.020001, /home/njh/perl5/perlbrew/perls/perl-5.20.1/bin/perl
t/00-load.t ................ ok
t/content_contains.t ....... ok
t/followable_links.t ....... ok
t/content_lacks.t .......... ok
t/follow_link_ok.t ......... ok
t/autolint.t ............... ok
t/get_ok-parms.t ........... ok
t/head_ok.t ................ ok
t/get_ok.t ................. ok
t/head_ok-parms.t .......... ok
# Test server http://127.0.0.1:31787 as PID 5998
# Test server http://127.0.0.1:26233 as PID 5999
t/html_lint_ok.t ........... ok
t/has_tag.t ................ ok
t/delete_ok.t .............. ok
t/click_ok.t ............... ok
t/lacks_uncapped_inputs.t .. ok
t/link_status.t ............ ok
t/link_content.t ........... ok
# Test server http://127.0.0.1:27794 as PID 6025
t/pod.t .................... ok
t/links_ok.t ............... ok
t/new.t .................... ok
t/pod-coverage.t ........... ok
t/page_links_content.t ..... ok
t/headers.t ................ ok
t/page_links_ok.t .......... ok
t/title_is.t ............... ok
t/scrape_text_by_id.t ...... ok
t/stuff_inputs.t ........... ok
t/text_contains.t .......... ok
# Test server http://127.0.0.1:25336 as PID 6052
t/put_ok.t ................. ok
# Test server http://127.0.0.1:22141 as PID 6054
t/submit_form_ok.t ......... ok
All tests successful.
Files=30, Tests=287,  4 wallclock secs ( 0.33 usr  0.08 sys + 17.87 cusr  1.71 csys = 19.99 CPU)
Result: PASS

------------------------------
PREREQUISITES
------------------------------

Prerequisite modules loaded:

requires:

    Module                    Need  Have    
    ------------------------- ----- --------
    Carp::Assert::More        0     1.14    
    HTML::TokeParser          0     3.69    
    HTML::TreeBuilder         0     5.03    
    HTTP::Server::Simple      0.42  0.51    
    HTTP::Server::Simple::CGI 0     0       
    LWP                       6.02  6.08    
    parent                    0     0.228   
    perl                      5.008 5.020001
    Test::Builder::Tester     1.09  1.24    
    Test::LongString          0.15  0.17    
    Test::More                0.96  1.001006
    URI::file                 0     4.21    
    WWW::Mechanize            1.68  1.75    

build_requires:

    Module                    Need  Have    
    ------------------------- ----- --------
    ExtUtils::MakeMaker       0     7.18    

configure_requires:

    Module                    Need  Have    
    ------------------------- ----- --------
    ExtUtils::MakeMaker       0     7.18    


------------------------------
ENVIRONMENT AND OTHER CONTEXT
------------------------------

Environment variables:

    AUTOMATED_TESTING = 1
    HARNESS_OPTIONS = j8
    LANG = en_GB.UTF-8
    LANGUAGE = en_GB:en
    PATH = /home/njh/perl5/perlbrew/bin:/home/njh/perl5/perlbrew/perls/perl-5.20.1/bin:/home/njh/perl5/perlbrew/bin:/usr/bin:/bin
    PERL5LIB = /home/njh/.cpan/build/WWW-Mechanize-1.75-1ml0gU/blib/arch:/home/njh/.cpan/build/WWW-Mechanize-1.75-1ml0gU/blib/lib:/home/njh/.cpan/build/HTML-Form-6.03-FxdLqi/blib/arch:/home/njh/.cpan/build/HTML-Form-6.03-FxdLqi/blib/lib:/home/njh/.cpan/build/HTTP-Server-Simple-0.51-d3rdLs/blib/arch:/home/njh/.cpan/build/HTTP-Server-Simple-0.51-d3rdLs/blib/lib:/home/njh/.cpan/build/CGI-4.32-p8pPGI/blib/arch:/home/njh/.cpan/build/CGI-4.32-p8pPGI/blib/lib:/home/njh/.cpan/build/Test-LongString-0.17-hAVPLj/blib/arch:/home/njh/.cpan/build/Test-LongString-0.17-hAVPLj/blib/lib:/home/njh/.cpan/build/HTML-Tree-5.03-jbuJJ5/blib/arch:/home/njh/.cpan/build/HTML-Tree-5.03-jbuJJ5/blib/lib:/home/njh/.cpan/build/Test-Fatal-0.014-UAWK1R/blib/arch:/home/njh/.cpan/build/Test-Fatal-0.014-UAWK1R/blib/lib
    PERL5OPT = 
    PERL5_CPANPLUS_IS_RUNNING = 4918
    PERL5_CPAN_IS_RUNNING = 4918
    PERLBREW_BASHRC_VERSION = 0.73
    PERLBREW_HOME = /home/njh/.perlbrew
    PERLBREW_LIB = 
    PERLBREW_MANPATH = /home/njh/perl5/perlbrew/perls/perl-5.20.1/man
    PERLBREW_PATH = /home/njh/perl5/perlbrew/bin:/home/njh/perl5/perlbrew/perls/perl-5.20.1/bin
    PERLBREW_PERL = perl-5.20.1
    PERLBREW_ROOT = /home/njh/perl5/perlbrew
    PERLBREW_VERSION = 0.73
    PERL_LOCAL_LIB_ROOT = 
    SHELL = /bin/sh

Perl special variables (and OS-specific diagnostics, for MSWin32):

    $^X = /home/njh/perl5/perlbrew/perls/perl-5.20.1/bin/perl
    $UID/$EUID = 1000 / 1000
    $GID = 1000 4 24 25 29 30 44 46 108 112 1000
    $EGID = 1000 4 24 25 29 30 44 46 108 112 1000

Perl module toolchain versions installed:

    Module              Have    
    ------------------- --------
    CPAN                1.9800  
    CPAN::Meta          2.150005
    Cwd                 3.48    
    ExtUtils::CBuilder  0.280219
    ExtUtils::Command   7.18    
    ExtUtils::Install   1.67    
    ExtUtils::MakeMaker 7.18    
    ExtUtils::Manifest  1.70    
    ExtUtils::ParseXS   3.24    
    File::Spec          3.48    
    JSON                2.90    
    JSON::PP            2.27400 
    Module::Build       0.4210  
    Module::Signature   0.73    
    Parse::CPAN::Meta   1.4422  
    Test::Harness       3.33    
    Test::More          1.001006
    YAML                n/a     
    YAML::Syck          n/a     
    version             0.9909  


--

Summary of my perl5 (revision 5 version 20 subversion 1) configuration:
   
  Platform:
    osname=linux, osvers=3.14-2-amd64, archname=x86_64-linux-thread-multi
    uname='linux nigelhorne.force9.co.uk 3.14-2-amd64 #1 smp debian 3.14.15-2 (2014-08-09) x86_64 gnulinux '
    config_args='-de -Dprefix=/home/njh/perl5/perlbrew/perls/perl-5.20.1 -Duseithreads -Dusemultiplicity -Dusedevel -Accflags=-O2 -W -Wformat=2 -Wswitch -Wshadow -Wwrite-strings -Wuninitialized -Wall -pipe -mtune=native -march=native -fomit-frame-pointer -msse2 -msse -mmmx -mfpmath=sse -pedantic -D_FORTIFY_SOURCE=2 -Wpointer-arith -Wstrict-prototypes -fstack-protector -Wstack-protector -Wextra -Wbad-function-cast -Wcast-align -Wcast-qual -Wdisabled-optimization -Wendif-labels -Wfloat-equal -Wformat-nonliteral -Winline -Wmissing-declarations -Wmissing-prototypes -Wnested-externs -Wpointer-arith -Wundef -Wformat-security -ftree-vectorize -fdiagnostics-color=auto -Aeval:scriptdir=/home/njh/perl5/perlbrew/perls/perl-5.20.1/bin'
    hint=recommended, useposix=true, d_sigaction=define
    useithreads=define, usemultiplicity=define
    use64bitint=define, use64bitall=define, uselongdouble=undef
    usemymalloc=n, bincompat5005=undef
  Compiler:
    cc='cc', ccflags ='-D_REENTRANT -D_GNU_SOURCE -O2 -W -Wformat=2 -Wswitch -Wshadow -Wwrite-strings -Wuninitialized -Wall -pipe -mtune=native -march=native -fomit-frame-pointer -msse2 -msse -mmmx -mfpmath=sse -pedantic -D_FORTIFY_SOURCE=2 -Wpointer-arith -Wstrict-prototypes -fstack-protector -Wstack-protector -Wextra -Wbad-function-cast -Wcast-align -Wcast-qual -Wdisabled-optimization -Wendif-labels -Wfloat-equal -Wformat-nonliteral -Winline -Wmissing-declarations -Wmissing-prototypes -Wnested-externs -Wpointer-arith -Wundef -Wformat-security -ftree-vectorize -fdiagnostics-color=auto -fwrapv -fno-strict-aliasing -I/usr/local/include -D_LARGEFILE_SOURCE -D_FILE_OFFSET_BITS=64',
    optimize='-O2',
    cppflags='-D_REENTRANT -D_GNU_SOURCE -O2 -W -Wformat=2 -Wswitch -Wshadow -Wwrite-strings -Wuninitialized -Wall -pipe -mtune=native -march=native -fomit-frame-pointer -msse2 -msse -mmmx -mfpmath=sse -pedantic -D_FORTIFY_SOURCE=2 -Wpointer-arith -Wstrict-prototypes -fstack-protector -Wstack-protector -Wextra -Wbad-function-cast -Wcast-align -Wcast-qual -Wdisabled-optimization -Wendif-labels -Wfloat-equal -Wformat-nonliteral -Winline -Wmissing-declarations -Wmissing-prototypes -Wnested-externs -Wpointer-arith -Wundef -Wformat-security -ftree-vectorize -fdiagnostics-color=auto -fwrapv -fno-strict-aliasing -I/usr/local/include'
    ccversion='', gccversion='4.9.1', gccosandvers=''
    intsize=4, longsize=8, ptrsize=8, doublesize=8, byteorder=12345678
    d_longlong=define, longlongsize=8, d_longdbl=define, longdblsize=16
    ivtype='long', ivsize=8, nvtype='double', nvsize=8, Off_t='off_t', lseeksize=8
    alignbytes=8, prototype=define
  Linker and Libraries:
    ld='cc', ldflags =' -fstack-protector -L/usr/local/lib'
    libpth=/usr/local/lib /usr/lib/gcc/x86_64-linux-gnu/4.9/include-fixed /usr/include/x86_64-linux-gnu /usr/lib /lib/x86_64-linux-gnu /lib/../lib /usr/lib/x86_64-linux-gnu /usr/lib/../lib /lib
    libs=-lnsl -lgdbm -ldb -ldl -lm -lcrypt -lutil -lpthread -lc -lgdbm_compat
    perllibs=-lnsl -ldl -lm -lcrypt -lutil -lpthread -lc
    libc=libc-2.19.so, so=so, useshrplib=false, libperl=libperl.a
    gnulibc_version='2.19'
  Dynamic Linking:
    dlsrc=dl_dlopen.xs, dlext=so, d_dlsymun=undef, ccdlflags='-Wl,-E'
    cccdlflags='-fPIC', lddlflags='-shared -O2 -L/usr/local/lib -fstack-protector'


Characteristics of this binary (from libperl): 
  Compile-time options: HAS_TIMES MULTIPLICITY PERLIO_LAYERS
                        PERL_DONT_CREATE_GVSV
                        PERL_HASH_FUNC_ONE_AT_A_TIME_HARD
                        PERL_IMPLICIT_CONTEXT PERL_MALLOC_WRAP
                        PERL_NEW_COPY_ON_WRITE PERL_PRESERVE_IVUV
                        PERL_USE_DEVEL USE_64_BIT_ALL USE_64_BIT_INT
                        USE_ITHREADS USE_LARGE_FILES USE_LOCALE
                        USE_LOCALE_COLLATE USE_LOCALE_CTYPE
                        USE_LOCALE_NUMERIC USE_PERLIO USE_PERL_ATOF
                        USE_REENTRANT_API
  Built under linux
  Compiled at Sep 15 2014 14:45:03
  %ENV:
    PERL5LIB="/home/njh/.cpan/build/WWW-Mechanize-1.75-1ml0gU/blib/arch:/home/njh/.cpan/build/WWW-Mechanize-1.75-1ml0gU/blib/lib:/home/njh/.cpan/build/HTML-Form-6.03-FxdLqi/blib/arch:/home/njh/.cpan/build/HTML-Form-6.03-FxdLqi/blib/lib:/home/njh/.cpan/build/HTTP-Server-Simple-0.51-d3rdLs/blib/arch:/home/njh/.cpan/build/HTTP-Server-Simple-0.51-d3rdLs/blib/lib:/home/njh/.cpan/build/CGI-4.32-p8pPGI/blib/arch:/home/njh/.cpan/build/CGI-4.32-p8pPGI/blib/lib:/home/njh/.cpan/build/Test-LongString-0.17-hAVPLj/blib/arch:/home/njh/.cpan/build/Test-LongString-0.17-hAVPLj/blib/lib:/home/njh/.cpan/build/HTML-Tree-5.03-jbuJJ5/blib/arch:/home/njh/.cpan/build/HTML-Tree-5.03-jbuJJ5/blib/lib:/home/njh/.cpan/build/Test-Fatal-0.014-UAWK1R/blib/arch:/home/njh/.cpan/build/Test-Fatal-0.014-UAWK1R/blib/lib"
    PERL5OPT=""
    PERL5_CPANPLUS_IS_RUNNING="4918"
    PERL5_CPAN_IS_RUNNING="4918"
    PERLBREW_BASHRC_VERSION="0.73"
    PERLBREW_HOME="/home/njh/.perlbrew"
    PERLBREW_LIB=""
    PERLBREW_MANPATH="/home/njh/perl5/perlbrew/perls/perl-5.20.1/man"
    PERLBREW_PATH="/home/njh/perl5/perlbrew/bin:/home/njh/perl5/perlbrew/perls/perl-5.20.1/bin"
    PERLBREW_PERL="perl-5.20.1"
    PERLBREW_ROOT="/home/njh/perl5/perlbrew"
    PERLBREW_VERSION="0.73"
    PERL_LOCAL_LIB_ROOT=""
  @INC:
    /home/njh/.cpan/build/WWW-Mechanize-1.75-1ml0gU/blib/arch
    /home/njh/.cpan/build/WWW-Mechanize-1.75-1ml0gU/blib/lib
    /home/njh/.cpan/build/HTML-Form-6.03-FxdLqi/blib/arch
    /home/njh/.cpan/build/HTML-Form-6.03-FxdLqi/blib/lib
    /home/njh/.cpan/build/HTTP-Server-Simple-0.51-d3rdLs/blib/arch
    /home/njh/.cpan/build/HTTP-Server-Simple-0.51-d3rdLs/blib/lib
    /home/njh/.cpan/build/CGI-4.32-p8pPGI/blib/arch
    /home/njh/.cpan/build/CGI-4.32-p8pPGI/blib/lib
    /home/njh/.cpan/build/Test-LongString-0.17-hAVPLj/blib/arch
    /home/njh/.cpan/build/Test-LongString-0.17-hAVPLj/blib/lib
    /home/njh/.cpan/build/HTML-Tree-5.03-jbuJJ5/blib/arch
    /home/njh/.cpan/build/HTML-Tree-5.03-jbuJJ5/blib/lib
    /home/njh/.cpan/build/Test-Fatal-0.014-UAWK1R/blib/arch
    /home/njh/.cpan/build/Test-Fatal-0.014-UAWK1R/blib/lib
    /home/njh/perl5/perlbrew/perls/perl-5.20.1/lib/site_perl/5.20.1/x86_64-linux-thread-multi
    /home/njh/perl5/perlbrew/perls/perl-5.20.1/lib/site_perl/5.20.1
    /home/njh/perl5/perlbrew/perls/perl-5.20.1/lib/5.20.1/x86_64-linux-thread-multi
    /home/njh/perl5/perlbrew/perls/perl-5.20.1/lib/5.20.1
    .