Report for AnyEvent-Subprocess-1.102912

Back
From: metabase:user:9c36dc84-a30f-11e0-a9fc-0a18abbd4f2f
Subject: PASS AnyEvent-Subprocess-1.102912 v5.20.2 OpenBSD
Date: 2016-10-21T18:13:44Z

This distribution has been tested as part of the CPAN Testers
project, supporting the Perl programming language.  See
http://wiki.cpantesters.org/ for more information or email
questions to cpan-testers-discuss@perl.org


--
Dear Jonathan Rockway,

This is a computer-generated report for AnyEvent-Subprocess-1.102912
on perl 5.20.2, created by CPAN-Reporter-1.2018.

Thank you for uploading your work to CPAN.  Congratulations!
All tests were successful.

Sections of this report:

    * Tester comments
    * Program output
    * Prerequisites
    * Environment and other context

------------------------------
TESTER COMMENTS
------------------------------

Additional comments from tester:

this report is from an automated smoke testing program
and was not reviewed by a human for accuracy

------------------------------
PROGRAM OUTPUT
------------------------------

Output from '/usr/bin/make test':

PERL_DL_NONLAZY=1 "/usr/bin/perl" "-MExtUtils::Command::MM" "-MTest::Harness" "-e" "undef *Test::Harness::Switches; test_harness(0, 'blib/lib', 'blib/arch')" t/*.t
# Using AnyEvent::Impl::EV
Passing a list of values to enum is deprecated. Enum values should be wrapped in an arrayref. at /cpan_build/foo/AnyEvent-Subprocess-1.102912-0/blib/lib/AnyEvent/Subprocess/Types.pm line 42.
	require AnyEvent/Subprocess/Types.pm called at /cpan_build/foo/AnyEvent-Subprocess-1.102912-0/blib/lib/AnyEvent/Subprocess/Job/Delegate/Handle.pm line 12
	AnyEvent::Subprocess::Job::Delegate::Handle::BEGIN() called at /cpan_build/foo/AnyEvent-Subprocess-1.102912-0/blib/lib/AnyEvent/Subprocess/Types.pm line 0
	eval {...} called at /cpan_build/foo/AnyEvent-Subprocess-1.102912-0/blib/lib/AnyEvent/Subprocess/Types.pm line 0
	require AnyEvent/Subprocess/Job/Delegate/Handle.pm called at /cpan_build/foo/AnyEvent-Subprocess-1.102912-0/blib/lib/AnyEvent/Subprocess/DefaultDelegates.pm line 16
	AnyEvent::Subprocess::DefaultDelegates::BEGIN() called at /cpan_build/foo/AnyEvent-Subprocess-1.102912-0/blib/lib/AnyEvent/Subprocess/Types.pm line 0
	eval {...} called at /cpan_build/foo/AnyEvent-Subprocess-1.102912-0/blib/lib/AnyEvent/Subprocess/Types.pm line 0
	require AnyEvent/Subprocess/DefaultDelegates.pm called at /cpan_build/foo/AnyEvent-Subprocess-1.102912-0/blib/lib/AnyEvent/Subprocess.pm line 11
	AnyEvent::Subprocess::BEGIN() called at /cpan_build/foo/AnyEvent-Subprocess-1.102912-0/blib/lib/AnyEvent/Subprocess/Types.pm line 0
	eval {...} called at /cpan_build/foo/AnyEvent-Subprocess-1.102912-0/blib/lib/AnyEvent/Subprocess/Types.pm line 0
	require AnyEvent/Subprocess.pm called at t/00-info.t line 9
	main::BEGIN() called at /cpan_build/foo/AnyEvent-Subprocess-1.102912-0/blib/lib/AnyEvent/Subprocess/Types.pm line 0
	eval {...} called at /cpan_build/foo/AnyEvent-Subprocess-1.102912-0/blib/lib/AnyEvent/Subprocess/Types.pm line 0
	eval 'package main;

#line 9 t/00-info.t
use AnyEvent::Subprocess @{$args[0]};
1;
' called at /home/foo/perl5/lib/perl5/Test/More.pm line 1029
	Test::More::_eval("package main;\x{a}\x{a}#line 9 t/00-info.t\x{a}use AnyEvent::Subprocess \@"..., ARRAY(0xf1151c0dc70)) called at /home/foo/perl5/lib/perl5/Test/More.pm line 1004
	Test::More::use_ok("AnyEvent::Subprocess") called at t/00-info.t line 9
	main::BEGIN() called at /cpan_build/foo/AnyEvent-Subprocess-1.102912-0/blib/lib/AnyEvent/Subprocess/Types.pm line 0
	eval {...} called at /cpan_build/foo/AnyEvent-Subprocess-1.102912-0/blib/lib/AnyEvent/Subprocess/Types.pm line 0
t/00-info.t ................. ok
Passing a list of values to enum is deprecated. Enum values should be wrapped in an arrayref. at /cpan_build/foo/AnyEvent-Subprocess-1.102912-0/blib/lib/AnyEvent/Subprocess/Types.pm line 42.
	require AnyEvent/Subprocess/Types.pm called at /cpan_build/foo/AnyEvent-Subprocess-1.102912-0/blib/lib/AnyEvent/Subprocess/Job/Delegate/Handle.pm line 12
	AnyEvent::Subprocess::Job::Delegate::Handle::BEGIN() called at /cpan_build/foo/AnyEvent-Subprocess-1.102912-0/blib/lib/AnyEvent/Subprocess/Types.pm line 0
	eval {...} called at /cpan_build/foo/AnyEvent-Subprocess-1.102912-0/blib/lib/AnyEvent/Subprocess/Types.pm line 0
	require AnyEvent/Subprocess/Job/Delegate/Handle.pm called at /cpan_build/foo/AnyEvent-Subprocess-1.102912-0/blib/lib/AnyEvent/Subprocess/DefaultDelegates.pm line 16
	AnyEvent::Subprocess::DefaultDelegates::BEGIN() called at /cpan_build/foo/AnyEvent-Subprocess-1.102912-0/blib/lib/AnyEvent/Subprocess/Types.pm line 0
	eval {...} called at /cpan_build/foo/AnyEvent-Subprocess-1.102912-0/blib/lib/AnyEvent/Subprocess/Types.pm line 0
	require AnyEvent/Subprocess/DefaultDelegates.pm called at /cpan_build/foo/AnyEvent-Subprocess-1.102912-0/blib/lib/AnyEvent/Subprocess.pm line 11
	AnyEvent::Subprocess::BEGIN() called at /cpan_build/foo/AnyEvent-Subprocess-1.102912-0/blib/lib/AnyEvent/Subprocess/Types.pm line 0
	eval {...} called at /cpan_build/foo/AnyEvent-Subprocess-1.102912-0/blib/lib/AnyEvent/Subprocess/Types.pm line 0
	require AnyEvent/Subprocess.pm called at t/basic.t line 5
	main::BEGIN() called at /cpan_build/foo/AnyEvent-Subprocess-1.102912-0/blib/lib/AnyEvent/Subprocess/Types.pm line 0
	eval {...} called at /cpan_build/foo/AnyEvent-Subprocess-1.102912-0/blib/lib/AnyEvent/Subprocess/Types.pm line 0
	eval 'package main;

#line 5 t/basic.t
use AnyEvent::Subprocess @{$args[0]};
1;
' called at /home/foo/perl5/lib/perl5/Test/More.pm line 1029
	Test::More::_eval("package main;\x{a}\x{a}#line 5 t/basic.t\x{a}use AnyEvent::Subprocess \@{\$"..., ARRAY(0x17da0be97ca0)) called at /home/foo/perl5/lib/perl5/Test/More.pm line 1004
	Test::More::use_ok("ok", "AnyEvent::Subprocess") called at t/basic.t line 5
	main::BEGIN() called at /cpan_build/foo/AnyEvent-Subprocess-1.102912-0/blib/lib/AnyEvent/Subprocess/Types.pm line 0
	eval {...} called at /cpan_build/foo/AnyEvent-Subprocess-1.102912-0/blib/lib/AnyEvent/Subprocess/Types.pm line 0
t/basic.t ................... ok
Passing a list of values to enum is deprecated. Enum values should be wrapped in an arrayref. at /cpan_build/foo/AnyEvent-Subprocess-1.102912-0/blib/lib/AnyEvent/Subprocess/Types.pm line 42.
	require AnyEvent/Subprocess/Types.pm called at /cpan_build/foo/AnyEvent-Subprocess-1.102912-0/blib/lib/AnyEvent/Subprocess/Job/Delegate/Handle.pm line 12
	AnyEvent::Subprocess::Job::Delegate::Handle::BEGIN() called at /cpan_build/foo/AnyEvent-Subprocess-1.102912-0/blib/lib/AnyEvent/Subprocess/Types.pm line 0
	eval {...} called at /cpan_build/foo/AnyEvent-Subprocess-1.102912-0/blib/lib/AnyEvent/Subprocess/Types.pm line 0
	require AnyEvent/Subprocess/Job/Delegate/Handle.pm called at /cpan_build/foo/AnyEvent-Subprocess-1.102912-0/blib/lib/AnyEvent/Subprocess/DefaultDelegates.pm line 16
	AnyEvent::Subprocess::DefaultDelegates::BEGIN() called at /cpan_build/foo/AnyEvent-Subprocess-1.102912-0/blib/lib/AnyEvent/Subprocess/Types.pm line 0
	eval {...} called at /cpan_build/foo/AnyEvent-Subprocess-1.102912-0/blib/lib/AnyEvent/Subprocess/Types.pm line 0
	require AnyEvent/Subprocess/DefaultDelegates.pm called at /cpan_build/foo/AnyEvent-Subprocess-1.102912-0/blib/lib/AnyEvent/Subprocess.pm line 11
	AnyEvent::Subprocess::BEGIN() called at /cpan_build/foo/AnyEvent-Subprocess-1.102912-0/blib/lib/AnyEvent/Subprocess/Types.pm line 0
	eval {...} called at /cpan_build/foo/AnyEvent-Subprocess-1.102912-0/blib/lib/AnyEvent/Subprocess/Types.pm line 0
	require AnyEvent/Subprocess.pm called at t/capture-basic.t line 5
	main::BEGIN() called at /cpan_build/foo/AnyEvent-Subprocess-1.102912-0/blib/lib/AnyEvent/Subprocess/Types.pm line 0
	eval {...} called at /cpan_build/foo/AnyEvent-Subprocess-1.102912-0/blib/lib/AnyEvent/Subprocess/Types.pm line 0
t/capture-basic.t ........... ok
Passing a list of values to enum is deprecated. Enum values should be wrapped in an arrayref. at /cpan_build/foo/AnyEvent-Subprocess-1.102912-0/blib/lib/AnyEvent/Subprocess/Types.pm line 42.
	require AnyEvent/Subprocess/Types.pm called at /cpan_build/foo/AnyEvent-Subprocess-1.102912-0/blib/lib/AnyEvent/Subprocess/Job/Delegate/Handle.pm line 12
	AnyEvent::Subprocess::Job::Delegate::Handle::BEGIN() called at /cpan_build/foo/AnyEvent-Subprocess-1.102912-0/blib/lib/AnyEvent/Subprocess/Types.pm line 0
	eval {...} called at /cpan_build/foo/AnyEvent-Subprocess-1.102912-0/blib/lib/AnyEvent/Subprocess/Types.pm line 0
	require AnyEvent/Subprocess/Job/Delegate/Handle.pm called at /cpan_build/foo/AnyEvent-Subprocess-1.102912-0/blib/lib/AnyEvent/Subprocess/DefaultDelegates.pm line 16
	AnyEvent::Subprocess::DefaultDelegates::BEGIN() called at /cpan_build/foo/AnyEvent-Subprocess-1.102912-0/blib/lib/AnyEvent/Subprocess/Types.pm line 0
	eval {...} called at /cpan_build/foo/AnyEvent-Subprocess-1.102912-0/blib/lib/AnyEvent/Subprocess/Types.pm line 0
	require AnyEvent/Subprocess/DefaultDelegates.pm called at /cpan_build/foo/AnyEvent-Subprocess-1.102912-0/blib/lib/AnyEvent/Subprocess.pm line 11
	AnyEvent::Subprocess::BEGIN() called at /cpan_build/foo/AnyEvent-Subprocess-1.102912-0/blib/lib/AnyEvent/Subprocess/Types.pm line 0
	eval {...} called at /cpan_build/foo/AnyEvent-Subprocess-1.102912-0/blib/lib/AnyEvent/Subprocess/Types.pm line 0
	require AnyEvent/Subprocess.pm called at t/clone.t line 5
	main::BEGIN() called at /cpan_build/foo/AnyEvent-Subprocess-1.102912-0/blib/lib/AnyEvent/Subprocess/Types.pm line 0
	eval {...} called at /cpan_build/foo/AnyEvent-Subprocess-1.102912-0/blib/lib/AnyEvent/Subprocess/Types.pm line 0
t/clone.t ................... ok
Passing a list of values to enum is deprecated. Enum values should be wrapped in an arrayref. at /cpan_build/foo/AnyEvent-Subprocess-1.102912-0/blib/lib/AnyEvent/Subprocess/Types.pm line 42.
	require AnyEvent/Subprocess/Types.pm called at /cpan_build/foo/AnyEvent-Subprocess-1.102912-0/blib/lib/AnyEvent/Subprocess/Job/Delegate/Handle.pm line 12
	AnyEvent::Subprocess::Job::Delegate::Handle::BEGIN() called at /cpan_build/foo/AnyEvent-Subprocess-1.102912-0/blib/lib/AnyEvent/Subprocess/Types.pm line 0
	eval {...} called at /cpan_build/foo/AnyEvent-Subprocess-1.102912-0/blib/lib/AnyEvent/Subprocess/Types.pm line 0
	require AnyEvent/Subprocess/Job/Delegate/Handle.pm called at /cpan_build/foo/AnyEvent-Subprocess-1.102912-0/blib/lib/AnyEvent/Subprocess/DefaultDelegates.pm line 16
	AnyEvent::Subprocess::DefaultDelegates::BEGIN() called at /cpan_build/foo/AnyEvent-Subprocess-1.102912-0/blib/lib/AnyEvent/Subprocess/Types.pm line 0
	eval {...} called at /cpan_build/foo/AnyEvent-Subprocess-1.102912-0/blib/lib/AnyEvent/Subprocess/Types.pm line 0
	require AnyEvent/Subprocess/DefaultDelegates.pm called at /cpan_build/foo/AnyEvent-Subprocess-1.102912-0/blib/lib/AnyEvent/Subprocess.pm line 11
	AnyEvent::Subprocess::BEGIN() called at /cpan_build/foo/AnyEvent-Subprocess-1.102912-0/blib/lib/AnyEvent/Subprocess/Types.pm line 0
	eval {...} called at /cpan_build/foo/AnyEvent-Subprocess-1.102912-0/blib/lib/AnyEvent/Subprocess/Types.pm line 0
	require AnyEvent/Subprocess.pm called at t/death-by-stdin.t line 5
	main::BEGIN() called at /cpan_build/foo/AnyEvent-Subprocess-1.102912-0/blib/lib/AnyEvent/Subprocess/Types.pm line 0
	eval {...} called at /cpan_build/foo/AnyEvent-Subprocess-1.102912-0/blib/lib/AnyEvent/Subprocess/Types.pm line 0
t/death-by-stdin.t .......... ok
Passing a list of values to enum is deprecated. Enum values should be wrapped in an arrayref. at /cpan_build/foo/AnyEvent-Subprocess-1.102912-0/blib/lib/AnyEvent/Subprocess/Types.pm line 42.
	require AnyEvent/Subprocess/Types.pm called at /cpan_build/foo/AnyEvent-Subprocess-1.102912-0/blib/lib/AnyEvent/Subprocess/Job/Delegate/Handle.pm line 12
	AnyEvent::Subprocess::Job::Delegate::Handle::BEGIN() called at /cpan_build/foo/AnyEvent-Subprocess-1.102912-0/blib/lib/AnyEvent/Subprocess/Types.pm line 0
	eval {...} called at /cpan_build/foo/AnyEvent-Subprocess-1.102912-0/blib/lib/AnyEvent/Subprocess/Types.pm line 0
	require AnyEvent/Subprocess/Job/Delegate/Handle.pm called at /cpan_build/foo/AnyEvent-Subprocess-1.102912-0/blib/lib/AnyEvent/Subprocess/DefaultDelegates.pm line 16
	AnyEvent::Subprocess::DefaultDelegates::BEGIN() called at /cpan_build/foo/AnyEvent-Subprocess-1.102912-0/blib/lib/AnyEvent/Subprocess/Types.pm line 0
	eval {...} called at /cpan_build/foo/AnyEvent-Subprocess-1.102912-0/blib/lib/AnyEvent/Subprocess/Types.pm line 0
	require AnyEvent/Subprocess/DefaultDelegates.pm called at /cpan_build/foo/AnyEvent-Subprocess-1.102912-0/blib/lib/AnyEvent/Subprocess.pm line 11
	AnyEvent::Subprocess::BEGIN() called at /cpan_build/foo/AnyEvent-Subprocess-1.102912-0/blib/lib/AnyEvent/Subprocess/Types.pm line 0
	eval {...} called at /cpan_build/foo/AnyEvent-Subprocess-1.102912-0/blib/lib/AnyEvent/Subprocess/Types.pm line 0
	require AnyEvent/Subprocess.pm called at /cpan_build/foo/AnyEvent-Subprocess-1.102912-0/blib/lib/AnyEvent/Subprocess/Easy.pm line 10
	AnyEvent::Subprocess::Easy::BEGIN() called at /cpan_build/foo/AnyEvent-Subprocess-1.102912-0/blib/lib/AnyEvent/Subprocess/Types.pm line 0
	eval {...} called at /cpan_build/foo/AnyEvent-Subprocess-1.102912-0/blib/lib/AnyEvent/Subprocess/Types.pm line 0
	require AnyEvent/Subprocess/Easy.pm called at t/easy-qx.t line 6
	main::BEGIN() called at /cpan_build/foo/AnyEvent-Subprocess-1.102912-0/blib/lib/AnyEvent/Subprocess/Types.pm line 0
	eval {...} called at /cpan_build/foo/AnyEvent-Subprocess-1.102912-0/blib/lib/AnyEvent/Subprocess/Types.pm line 0
# Fri Oct 21 14:58:06 %Z 2016
# The 'failed' message you are about to see is good.
Failed to exec 'I CAN HAZ CHEZBURGER?': No such file or directory at /cpan_build/foo/AnyEvent-Subprocess-1.102912-0/blib/lib/AnyEvent/Subprocess/Types.pm line 36.
t/easy-qx.t ................. ok
Passing a list of values to enum is deprecated. Enum values should be wrapped in an arrayref. at /cpan_build/foo/AnyEvent-Subprocess-1.102912-0/blib/lib/AnyEvent/Subprocess/Types.pm line 42.
	require AnyEvent/Subprocess/Types.pm called at /cpan_build/foo/AnyEvent-Subprocess-1.102912-0/blib/lib/AnyEvent/Subprocess/Job/Delegate/Handle.pm line 12
	AnyEvent::Subprocess::Job::Delegate::Handle::BEGIN() called at /cpan_build/foo/AnyEvent-Subprocess-1.102912-0/blib/lib/AnyEvent/Subprocess/Types.pm line 0
	eval {...} called at /cpan_build/foo/AnyEvent-Subprocess-1.102912-0/blib/lib/AnyEvent/Subprocess/Types.pm line 0
	require AnyEvent/Subprocess/Job/Delegate/Handle.pm called at /cpan_build/foo/AnyEvent-Subprocess-1.102912-0/blib/lib/AnyEvent/Subprocess/DefaultDelegates.pm line 16
	AnyEvent::Subprocess::DefaultDelegates::BEGIN() called at /cpan_build/foo/AnyEvent-Subprocess-1.102912-0/blib/lib/AnyEvent/Subprocess/Types.pm line 0
	eval {...} called at /cpan_build/foo/AnyEvent-Subprocess-1.102912-0/blib/lib/AnyEvent/Subprocess/Types.pm line 0
	require AnyEvent/Subprocess/DefaultDelegates.pm called at /cpan_build/foo/AnyEvent-Subprocess-1.102912-0/blib/lib/AnyEvent/Subprocess.pm line 11
	AnyEvent::Subprocess::BEGIN() called at /cpan_build/foo/AnyEvent-Subprocess-1.102912-0/blib/lib/AnyEvent/Subprocess/Types.pm line 0
	eval {...} called at /cpan_build/foo/AnyEvent-Subprocess-1.102912-0/blib/lib/AnyEvent/Subprocess/Types.pm line 0
	require AnyEvent/Subprocess.pm called at t/exit-code.t line 5
	main::BEGIN() called at /cpan_build/foo/AnyEvent-Subprocess-1.102912-0/blib/lib/AnyEvent/Subprocess/Types.pm line 0
	eval {...} called at /cpan_build/foo/AnyEvent-Subprocess-1.102912-0/blib/lib/AnyEvent/Subprocess/Types.pm line 0
t/exit-code.t ............... ok
Passing a list of values to enum is deprecated. Enum values should be wrapped in an arrayref. at /cpan_build/foo/AnyEvent-Subprocess-1.102912-0/blib/lib/AnyEvent/Subprocess/Types.pm line 42.
	require AnyEvent/Subprocess/Types.pm called at /cpan_build/foo/AnyEvent-Subprocess-1.102912-0/blib/lib/AnyEvent/Subprocess/Job/Delegate/Handle.pm line 12
	AnyEvent::Subprocess::Job::Delegate::Handle::BEGIN() called at /cpan_build/foo/AnyEvent-Subprocess-1.102912-0/blib/lib/AnyEvent/Subprocess/Types.pm line 0
	eval {...} called at /cpan_build/foo/AnyEvent-Subprocess-1.102912-0/blib/lib/AnyEvent/Subprocess/Types.pm line 0
	require AnyEvent/Subprocess/Job/Delegate/Handle.pm called at /cpan_build/foo/AnyEvent-Subprocess-1.102912-0/blib/lib/AnyEvent/Subprocess/DefaultDelegates.pm line 16
	AnyEvent::Subprocess::DefaultDelegates::BEGIN() called at /cpan_build/foo/AnyEvent-Subprocess-1.102912-0/blib/lib/AnyEvent/Subprocess/Types.pm line 0
	eval {...} called at /cpan_build/foo/AnyEvent-Subprocess-1.102912-0/blib/lib/AnyEvent/Subprocess/Types.pm line 0
	require AnyEvent/Subprocess/DefaultDelegates.pm called at /cpan_build/foo/AnyEvent-Subprocess-1.102912-0/blib/lib/AnyEvent/Subprocess.pm line 11
	AnyEvent::Subprocess::BEGIN() called at /cpan_build/foo/AnyEvent-Subprocess-1.102912-0/blib/lib/AnyEvent/Subprocess/Types.pm line 0
	eval {...} called at /cpan_build/foo/AnyEvent-Subprocess-1.102912-0/blib/lib/AnyEvent/Subprocess/Types.pm line 0
	require AnyEvent/Subprocess.pm called at t/external-process.t line 5
	main::BEGIN() called at /cpan_build/foo/AnyEvent-Subprocess-1.102912-0/blib/lib/AnyEvent/Subprocess/Types.pm line 0
	eval {...} called at /cpan_build/foo/AnyEvent-Subprocess-1.102912-0/blib/lib/AnyEvent/Subprocess/Types.pm line 0
t/external-process.t ........ ok
Passing a list of values to enum is deprecated. Enum values should be wrapped in an arrayref. at /cpan_build/foo/AnyEvent-Subprocess-1.102912-0/blib/lib/AnyEvent/Subprocess/Types.pm line 42.
	require AnyEvent/Subprocess/Types.pm called at /cpan_build/foo/AnyEvent-Subprocess-1.102912-0/blib/lib/AnyEvent/Subprocess/Job/Delegate/Handle.pm line 12
	AnyEvent::Subprocess::Job::Delegate::Handle::BEGIN() called at /cpan_build/foo/AnyEvent-Subprocess-1.102912-0/blib/lib/AnyEvent/Subprocess/Types.pm line 0
	eval {...} called at /cpan_build/foo/AnyEvent-Subprocess-1.102912-0/blib/lib/AnyEvent/Subprocess/Types.pm line 0
	require AnyEvent/Subprocess/Job/Delegate/Handle.pm called at /cpan_build/foo/AnyEvent-Subprocess-1.102912-0/blib/lib/AnyEvent/Subprocess/DefaultDelegates.pm line 16
	AnyEvent::Subprocess::DefaultDelegates::BEGIN() called at /cpan_build/foo/AnyEvent-Subprocess-1.102912-0/blib/lib/AnyEvent/Subprocess/Types.pm line 0
	eval {...} called at /cpan_build/foo/AnyEvent-Subprocess-1.102912-0/blib/lib/AnyEvent/Subprocess/Types.pm line 0
	require AnyEvent/Subprocess/DefaultDelegates.pm called at /cpan_build/foo/AnyEvent-Subprocess-1.102912-0/blib/lib/AnyEvent/Subprocess.pm line 11
	AnyEvent::Subprocess::BEGIN() called at /cpan_build/foo/AnyEvent-Subprocess-1.102912-0/blib/lib/AnyEvent/Subprocess/Types.pm line 0
	eval {...} called at /cpan_build/foo/AnyEvent-Subprocess-1.102912-0/blib/lib/AnyEvent/Subprocess/Types.pm line 0
	require AnyEvent/Subprocess.pm called at t/handle-leftovers.t line 5
	main::BEGIN() called at /cpan_build/foo/AnyEvent-Subprocess-1.102912-0/blib/lib/AnyEvent/Subprocess/Types.pm line 0
	eval {...} called at /cpan_build/foo/AnyEvent-Subprocess-1.102912-0/blib/lib/AnyEvent/Subprocess/Types.pm line 0
t/handle-leftovers.t ........ ok
Passing a list of values to enum is deprecated. Enum values should be wrapped in an arrayref. at /cpan_build/foo/AnyEvent-Subprocess-1.102912-0/blib/lib/AnyEvent/Subprocess/Types.pm line 42.
	require AnyEvent/Subprocess/Types.pm called at /cpan_build/foo/AnyEvent-Subprocess-1.102912-0/blib/lib/AnyEvent/Subprocess/Job/Delegate/Handle.pm line 12
	AnyEvent::Subprocess::Job::Delegate::Handle::BEGIN() called at /cpan_build/foo/AnyEvent-Subprocess-1.102912-0/blib/lib/AnyEvent/Subprocess/Types.pm line 0
	eval {...} called at /cpan_build/foo/AnyEvent-Subprocess-1.102912-0/blib/lib/AnyEvent/Subprocess/Types.pm line 0
	require AnyEvent/Subprocess/Job/Delegate/Handle.pm called at /cpan_build/foo/AnyEvent-Subprocess-1.102912-0/blib/lib/AnyEvent/Subprocess/DefaultDelegates.pm line 16
	AnyEvent::Subprocess::DefaultDelegates::BEGIN() called at /cpan_build/foo/AnyEvent-Subprocess-1.102912-0/blib/lib/AnyEvent/Subprocess/Types.pm line 0
	eval {...} called at /cpan_build/foo/AnyEvent-Subprocess-1.102912-0/blib/lib/AnyEvent/Subprocess/Types.pm line 0
	require AnyEvent/Subprocess/DefaultDelegates.pm called at /cpan_build/foo/AnyEvent-Subprocess-1.102912-0/blib/lib/AnyEvent/Subprocess.pm line 11
	AnyEvent::Subprocess::BEGIN() called at /cpan_build/foo/AnyEvent-Subprocess-1.102912-0/blib/lib/AnyEvent/Subprocess/Types.pm line 0
	eval {...} called at /cpan_build/foo/AnyEvent-Subprocess-1.102912-0/blib/lib/AnyEvent/Subprocess/Types.pm line 0
	require AnyEvent/Subprocess.pm called at t/kill.t line 5
	main::BEGIN() called at /cpan_build/foo/AnyEvent-Subprocess-1.102912-0/blib/lib/AnyEvent/Subprocess/Types.pm line 0
	eval {...} called at /cpan_build/foo/AnyEvent-Subprocess-1.102912-0/blib/lib/AnyEvent/Subprocess/Types.pm line 0
t/kill.t .................... ok
Passing a list of values to enum is deprecated. Enum values should be wrapped in an arrayref. at /cpan_build/foo/AnyEvent-Subprocess-1.102912-0/blib/lib/AnyEvent/Subprocess/Types.pm line 42.
	require AnyEvent/Subprocess/Types.pm called at /cpan_build/foo/AnyEvent-Subprocess-1.102912-0/blib/lib/AnyEvent/Subprocess/Job/Delegate/Handle.pm line 12
	AnyEvent::Subprocess::Job::Delegate::Handle::BEGIN() called at /cpan_build/foo/AnyEvent-Subprocess-1.102912-0/blib/lib/AnyEvent/Subprocess/Types.pm line 0
	eval {...} called at /cpan_build/foo/AnyEvent-Subprocess-1.102912-0/blib/lib/AnyEvent/Subprocess/Types.pm line 0
	require AnyEvent/Subprocess/Job/Delegate/Handle.pm called at /cpan_build/foo/AnyEvent-Subprocess-1.102912-0/blib/lib/AnyEvent/Subprocess/DefaultDelegates.pm line 16
	AnyEvent::Subprocess::DefaultDelegates::BEGIN() called at /cpan_build/foo/AnyEvent-Subprocess-1.102912-0/blib/lib/AnyEvent/Subprocess/Types.pm line 0
	eval {...} called at /cpan_build/foo/AnyEvent-Subprocess-1.102912-0/blib/lib/AnyEvent/Subprocess/Types.pm line 0
	require AnyEvent/Subprocess/DefaultDelegates.pm called at /cpan_build/foo/AnyEvent-Subprocess-1.102912-0/blib/lib/AnyEvent/Subprocess.pm line 11
	AnyEvent::Subprocess::BEGIN() called at /cpan_build/foo/AnyEvent-Subprocess-1.102912-0/blib/lib/AnyEvent/Subprocess/Types.pm line 0
	eval {...} called at /cpan_build/foo/AnyEvent-Subprocess-1.102912-0/blib/lib/AnyEvent/Subprocess/Types.pm line 0
	require AnyEvent/Subprocess.pm called at t/monitorhandle.t line 5
	main::BEGIN() called at /cpan_build/foo/AnyEvent-Subprocess-1.102912-0/blib/lib/AnyEvent/Subprocess/Types.pm line 0
	eval {...} called at /cpan_build/foo/AnyEvent-Subprocess-1.102912-0/blib/lib/AnyEvent/Subprocess/Types.pm line 0
t/monitorhandle.t ........... ok
Passing a list of values to enum is deprecated. Enum values should be wrapped in an arrayref. at /cpan_build/foo/AnyEvent-Subprocess-1.102912-0/blib/lib/AnyEvent/Subprocess/Types.pm line 42.
	require AnyEvent/Subprocess/Types.pm called at /cpan_build/foo/AnyEvent-Subprocess-1.102912-0/blib/lib/AnyEvent/Subprocess/Done.pm line 9
	AnyEvent::Subprocess::Done::BEGIN() called at /cpan_build/foo/AnyEvent-Subprocess-1.102912-0/blib/lib/AnyEvent/Subprocess/Types.pm line 0
	eval {...} called at /cpan_build/foo/AnyEvent-Subprocess-1.102912-0/blib/lib/AnyEvent/Subprocess/Types.pm line 0
	require AnyEvent/Subprocess/Done.pm called at t/negative-one.t line 4
	main::BEGIN() called at /cpan_build/foo/AnyEvent-Subprocess-1.102912-0/blib/lib/AnyEvent/Subprocess/Types.pm line 0
	eval {...} called at /cpan_build/foo/AnyEvent-Subprocess-1.102912-0/blib/lib/AnyEvent/Subprocess/Types.pm line 0
t/negative-one.t ............ ok
Passing a list of values to enum is deprecated. Enum values should be wrapped in an arrayref. at /cpan_build/foo/AnyEvent-Subprocess-1.102912-0/blib/lib/AnyEvent/Subprocess/Types.pm line 42.
	require AnyEvent/Subprocess/Types.pm called at /cpan_build/foo/AnyEvent-Subprocess-1.102912-0/blib/lib/AnyEvent/Subprocess/Job/Delegate/Handle.pm line 12
	AnyEvent::Subprocess::Job::Delegate::Handle::BEGIN() called at /cpan_build/foo/AnyEvent-Subprocess-1.102912-0/blib/lib/AnyEvent/Subprocess/Types.pm line 0
	eval {...} called at /cpan_build/foo/AnyEvent-Subprocess-1.102912-0/blib/lib/AnyEvent/Subprocess/Types.pm line 0
	require AnyEvent/Subprocess/Job/Delegate/Handle.pm called at /cpan_build/foo/AnyEvent-Subprocess-1.102912-0/blib/lib/AnyEvent/Subprocess/DefaultDelegates.pm line 16
	AnyEvent::Subprocess::DefaultDelegates::BEGIN() called at /cpan_build/foo/AnyEvent-Subprocess-1.102912-0/blib/lib/AnyEvent/Subprocess/Types.pm line 0
	eval {...} called at /cpan_build/foo/AnyEvent-Subprocess-1.102912-0/blib/lib/AnyEvent/Subprocess/Types.pm line 0
	require AnyEvent/Subprocess/DefaultDelegates.pm called at /cpan_build/foo/AnyEvent-Subprocess-1.102912-0/blib/lib/AnyEvent/Subprocess.pm line 11
	AnyEvent::Subprocess::BEGIN() called at /cpan_build/foo/AnyEvent-Subprocess-1.102912-0/blib/lib/AnyEvent/Subprocess/Types.pm line 0
	eval {...} called at /cpan_build/foo/AnyEvent-Subprocess-1.102912-0/blib/lib/AnyEvent/Subprocess/Types.pm line 0
	require AnyEvent/Subprocess.pm called at t/open-to-fd.t line 5
	main::BEGIN() called at /cpan_build/foo/AnyEvent-Subprocess-1.102912-0/blib/lib/AnyEvent/Subprocess/Types.pm line 0
	eval {...} called at /cpan_build/foo/AnyEvent-Subprocess-1.102912-0/blib/lib/AnyEvent/Subprocess/Types.pm line 0
t/open-to-fd.t .............. ok
Passing a list of values to enum is deprecated. Enum values should be wrapped in an arrayref. at /cpan_build/foo/AnyEvent-Subprocess-1.102912-0/blib/lib/AnyEvent/Subprocess/Types.pm line 42.
	require AnyEvent/Subprocess/Types.pm called at /cpan_build/foo/AnyEvent-Subprocess-1.102912-0/blib/lib/AnyEvent/Subprocess/Job/Delegate/Handle.pm line 12
	AnyEvent::Subprocess::Job::Delegate::Handle::BEGIN() called at /cpan_build/foo/AnyEvent-Subprocess-1.102912-0/blib/lib/AnyEvent/Subprocess/Types.pm line 0
	eval {...} called at /cpan_build/foo/AnyEvent-Subprocess-1.102912-0/blib/lib/AnyEvent/Subprocess/Types.pm line 0
	require AnyEvent/Subprocess/Job/Delegate/Handle.pm called at /cpan_build/foo/AnyEvent-Subprocess-1.102912-0/blib/lib/AnyEvent/Subprocess/DefaultDelegates.pm line 16
	AnyEvent::Subprocess::DefaultDelegates::BEGIN() called at /cpan_build/foo/AnyEvent-Subprocess-1.102912-0/blib/lib/AnyEvent/Subprocess/Types.pm line 0
	eval {...} called at /cpan_build/foo/AnyEvent-Subprocess-1.102912-0/blib/lib/AnyEvent/Subprocess/Types.pm line 0
	require AnyEvent/Subprocess/DefaultDelegates.pm called at /cpan_build/foo/AnyEvent-Subprocess-1.102912-0/blib/lib/AnyEvent/Subprocess.pm line 11
	AnyEvent::Subprocess::BEGIN() called at /cpan_build/foo/AnyEvent-Subprocess-1.102912-0/blib/lib/AnyEvent/Subprocess/Types.pm line 0
	eval {...} called at /cpan_build/foo/AnyEvent-Subprocess-1.102912-0/blib/lib/AnyEvent/Subprocess/Types.pm line 0
	require AnyEvent/Subprocess.pm called at t/pty-basic.t line 5
	main::BEGIN() called at /cpan_build/foo/AnyEvent-Subprocess-1.102912-0/blib/lib/AnyEvent/Subprocess/Types.pm line 0
	eval {...} called at /cpan_build/foo/AnyEvent-Subprocess-1.102912-0/blib/lib/AnyEvent/Subprocess/Types.pm line 0
EV: error in callback (ignoring): sysread() on closed filehandle $fh1 at /home/foo/perl5/lib/perl5/amd64-openbsd/AnyEvent/Handle.pm line 2022.
t/pty-basic.t ............... ok
Passing a list of values to enum is deprecated. Enum values should be wrapped in an arrayref. at /cpan_build/foo/AnyEvent-Subprocess-1.102912-0/blib/lib/AnyEvent/Subprocess/Types.pm line 42.
	require AnyEvent/Subprocess/Types.pm called at /cpan_build/foo/AnyEvent-Subprocess-1.102912-0/blib/lib/AnyEvent/Subprocess/Job/Delegate/Handle.pm line 12
	AnyEvent::Subprocess::Job::Delegate::Handle::BEGIN() called at /cpan_build/foo/AnyEvent-Subprocess-1.102912-0/blib/lib/AnyEvent/Subprocess/Types.pm line 0
	eval {...} called at /cpan_build/foo/AnyEvent-Subprocess-1.102912-0/blib/lib/AnyEvent/Subprocess/Types.pm line 0
	require AnyEvent/Subprocess/Job/Delegate/Handle.pm called at /cpan_build/foo/AnyEvent-Subprocess-1.102912-0/blib/lib/AnyEvent/Subprocess/DefaultDelegates.pm line 16
	AnyEvent::Subprocess::DefaultDelegates::BEGIN() called at /cpan_build/foo/AnyEvent-Subprocess-1.102912-0/blib/lib/AnyEvent/Subprocess/Types.pm line 0
	eval {...} called at /cpan_build/foo/AnyEvent-Subprocess-1.102912-0/blib/lib/AnyEvent/Subprocess/Types.pm line 0
	require AnyEvent/Subprocess/DefaultDelegates.pm called at /cpan_build/foo/AnyEvent-Subprocess-1.102912-0/blib/lib/AnyEvent/Subprocess.pm line 11
	AnyEvent::Subprocess::BEGIN() called at /cpan_build/foo/AnyEvent-Subprocess-1.102912-0/blib/lib/AnyEvent/Subprocess/Types.pm line 0
	eval {...} called at /cpan_build/foo/AnyEvent-Subprocess-1.102912-0/blib/lib/AnyEvent/Subprocess/Types.pm line 0
	require AnyEvent/Subprocess.pm called at t/pty-control.t line 4
	main::BEGIN() called at /cpan_build/foo/AnyEvent-Subprocess-1.102912-0/blib/lib/AnyEvent/Subprocess/Types.pm line 0
	eval {...} called at /cpan_build/foo/AnyEvent-Subprocess-1.102912-0/blib/lib/AnyEvent/Subprocess/Types.pm line 0
t/pty-control.t ............. ok
t/release-pod-syntax.t ...... skipped: these tests are for release candidate testing
Passing a list of values to enum is deprecated. Enum values should be wrapped in an arrayref. at /cpan_build/foo/AnyEvent-Subprocess-1.102912-0/blib/lib/AnyEvent/Subprocess/Types.pm line 42.
	require AnyEvent/Subprocess/Types.pm called at /cpan_build/foo/AnyEvent-Subprocess-1.102912-0/blib/lib/AnyEvent/Subprocess/Job/Delegate/Handle.pm line 12
	AnyEvent::Subprocess::Job::Delegate::Handle::BEGIN() called at /cpan_build/foo/AnyEvent-Subprocess-1.102912-0/blib/lib/AnyEvent/Subprocess/Types.pm line 0
	eval {...} called at /cpan_build/foo/AnyEvent-Subprocess-1.102912-0/blib/lib/AnyEvent/Subprocess/Types.pm line 0
	require AnyEvent/Subprocess/Job/Delegate/Handle.pm called at /cpan_build/foo/AnyEvent-Subprocess-1.102912-0/blib/lib/AnyEvent/Subprocess/DefaultDelegates.pm line 16
	AnyEvent::Subprocess::DefaultDelegates::BEGIN() called at /cpan_build/foo/AnyEvent-Subprocess-1.102912-0/blib/lib/AnyEvent/Subprocess/Types.pm line 0
	eval {...} called at /cpan_build/foo/AnyEvent-Subprocess-1.102912-0/blib/lib/AnyEvent/Subprocess/Types.pm line 0
	require AnyEvent/Subprocess/DefaultDelegates.pm called at /cpan_build/foo/AnyEvent-Subprocess-1.102912-0/blib/lib/AnyEvent/Subprocess.pm line 11
	AnyEvent::Subprocess::BEGIN() called at /cpan_build/foo/AnyEvent-Subprocess-1.102912-0/blib/lib/AnyEvent/Subprocess/Types.pm line 0
	eval {...} called at /cpan_build/foo/AnyEvent-Subprocess-1.102912-0/blib/lib/AnyEvent/Subprocess/Types.pm line 0
	require AnyEvent/Subprocess.pm called at t/socket.t line 5
	main::BEGIN() called at /cpan_build/foo/AnyEvent-Subprocess-1.102912-0/blib/lib/AnyEvent/Subprocess/Types.pm line 0
	eval {...} called at /cpan_build/foo/AnyEvent-Subprocess-1.102912-0/blib/lib/AnyEvent/Subprocess/Types.pm line 0
t/socket.t .................. ok
Passing a list of values to enum is deprecated. Enum values should be wrapped in an arrayref. at /cpan_build/foo/AnyEvent-Subprocess-1.102912-0/blib/lib/AnyEvent/Subprocess/Types.pm line 42.
	require AnyEvent/Subprocess/Types.pm called at /cpan_build/foo/AnyEvent-Subprocess-1.102912-0/blib/lib/AnyEvent/Subprocess/Job/Delegate/Handle.pm line 12
	AnyEvent::Subprocess::Job::Delegate::Handle::BEGIN() called at /cpan_build/foo/AnyEvent-Subprocess-1.102912-0/blib/lib/AnyEvent/Subprocess/Types.pm line 0
	eval {...} called at /cpan_build/foo/AnyEvent-Subprocess-1.102912-0/blib/lib/AnyEvent/Subprocess/Types.pm line 0
	require AnyEvent/Subprocess/Job/Delegate/Handle.pm called at /cpan_build/foo/AnyEvent-Subprocess-1.102912-0/blib/lib/AnyEvent/Subprocess/DefaultDelegates.pm line 16
	AnyEvent::Subprocess::DefaultDelegates::BEGIN() called at /cpan_build/foo/AnyEvent-Subprocess-1.102912-0/blib/lib/AnyEvent/Subprocess/Types.pm line 0
	eval {...} called at /cpan_build/foo/AnyEvent-Subprocess-1.102912-0/blib/lib/AnyEvent/Subprocess/Types.pm line 0
	require AnyEvent/Subprocess/DefaultDelegates.pm called at /cpan_build/foo/AnyEvent-Subprocess-1.102912-0/blib/lib/AnyEvent/Subprocess.pm line 11
	AnyEvent::Subprocess::BEGIN() called at /cpan_build/foo/AnyEvent-Subprocess-1.102912-0/blib/lib/AnyEvent/Subprocess/Types.pm line 0
	eval {...} called at /cpan_build/foo/AnyEvent-Subprocess-1.102912-0/blib/lib/AnyEvent/Subprocess/Types.pm line 0
	require AnyEvent/Subprocess.pm called at /cpan_build/foo/AnyEvent-Subprocess-1.102912-0/blib/lib/AnyEvent/Subprocess/Easy.pm line 10
	AnyEvent::Subprocess::Easy::BEGIN() called at /cpan_build/foo/AnyEvent-Subprocess-1.102912-0/blib/lib/AnyEvent/Subprocess/Types.pm line 0
	eval {...} called at /cpan_build/foo/AnyEvent-Subprocess-1.102912-0/blib/lib/AnyEvent/Subprocess/Types.pm line 0
	require AnyEvent/Subprocess/Easy.pm called at t/system.t line 5
	main::BEGIN() called at /cpan_build/foo/AnyEvent-Subprocess-1.102912-0/blib/lib/AnyEvent/Subprocess/Types.pm line 0
	eval {...} called at /cpan_build/foo/AnyEvent-Subprocess-1.102912-0/blib/lib/AnyEvent/Subprocess/Types.pm line 0
t/system.t .................. ok
Passing a list of values to enum is deprecated. Enum values should be wrapped in an arrayref. at /cpan_build/foo/AnyEvent-Subprocess-1.102912-0/blib/lib/AnyEvent/Subprocess/Types.pm line 42.
	require AnyEvent/Subprocess/Types.pm called at /cpan_build/foo/AnyEvent-Subprocess-1.102912-0/blib/lib/AnyEvent/Subprocess/Job/Delegate/Handle.pm line 12
	AnyEvent::Subprocess::Job::Delegate::Handle::BEGIN() called at /cpan_build/foo/AnyEvent-Subprocess-1.102912-0/blib/lib/AnyEvent/Subprocess/Types.pm line 0
	eval {...} called at /cpan_build/foo/AnyEvent-Subprocess-1.102912-0/blib/lib/AnyEvent/Subprocess/Types.pm line 0
	require AnyEvent/Subprocess/Job/Delegate/Handle.pm called at /cpan_build/foo/AnyEvent-Subprocess-1.102912-0/blib/lib/AnyEvent/Subprocess/DefaultDelegates.pm line 16
	AnyEvent::Subprocess::DefaultDelegates::BEGIN() called at /cpan_build/foo/AnyEvent-Subprocess-1.102912-0/blib/lib/AnyEvent/Subprocess/Types.pm line 0
	eval {...} called at /cpan_build/foo/AnyEvent-Subprocess-1.102912-0/blib/lib/AnyEvent/Subprocess/Types.pm line 0
	require AnyEvent/Subprocess/DefaultDelegates.pm called at /cpan_build/foo/AnyEvent-Subprocess-1.102912-0/blib/lib/AnyEvent/Subprocess.pm line 11
	AnyEvent::Subprocess::BEGIN() called at /cpan_build/foo/AnyEvent-Subprocess-1.102912-0/blib/lib/AnyEvent/Subprocess/Types.pm line 0
	eval {...} called at /cpan_build/foo/AnyEvent-Subprocess-1.102912-0/blib/lib/AnyEvent/Subprocess/Types.pm line 0
	require AnyEvent/Subprocess.pm called at t/timeout.t line 5
	main::BEGIN() called at /cpan_build/foo/AnyEvent-Subprocess-1.102912-0/blib/lib/AnyEvent/Subprocess/Types.pm line 0
	eval {...} called at /cpan_build/foo/AnyEvent-Subprocess-1.102912-0/blib/lib/AnyEvent/Subprocess/Types.pm line 0
t/timeout.t ................. ok
Passing a list of values to enum is deprecated. Enum values should be wrapped in an arrayref. at /cpan_build/foo/AnyEvent-Subprocess-1.102912-0/blib/lib/AnyEvent/Subprocess/Types.pm line 42.
	require AnyEvent/Subprocess/Types.pm called at /cpan_build/foo/AnyEvent-Subprocess-1.102912-0/blib/lib/AnyEvent/Subprocess/Job/Delegate/Handle.pm line 12
	AnyEvent::Subprocess::Job::Delegate::Handle::BEGIN() called at /cpan_build/foo/AnyEvent-Subprocess-1.102912-0/blib/lib/AnyEvent/Subprocess/Types.pm line 0
	eval {...} called at /cpan_build/foo/AnyEvent-Subprocess-1.102912-0/blib/lib/AnyEvent/Subprocess/Types.pm line 0
	require AnyEvent/Subprocess/Job/Delegate/Handle.pm called at /cpan_build/foo/AnyEvent-Subprocess-1.102912-0/blib/lib/AnyEvent/Subprocess/DefaultDelegates.pm line 16
	AnyEvent::Subprocess::DefaultDelegates::BEGIN() called at /cpan_build/foo/AnyEvent-Subprocess-1.102912-0/blib/lib/AnyEvent/Subprocess/Types.pm line 0
	eval {...} called at /cpan_build/foo/AnyEvent-Subprocess-1.102912-0/blib/lib/AnyEvent/Subprocess/Types.pm line 0
	require AnyEvent/Subprocess/DefaultDelegates.pm called at /cpan_build/foo/AnyEvent-Subprocess-1.102912-0/blib/lib/AnyEvent/Subprocess.pm line 11
	AnyEvent::Subprocess::BEGIN() called at /cpan_build/foo/AnyEvent-Subprocess-1.102912-0/blib/lib/AnyEvent/Subprocess/Types.pm line 0
	eval {...} called at /cpan_build/foo/AnyEvent-Subprocess-1.102912-0/blib/lib/AnyEvent/Subprocess/Types.pm line 0
	require AnyEvent/Subprocess.pm called at t/trivial.t line 4
	main::BEGIN() called at /cpan_build/foo/AnyEvent-Subprocess-1.102912-0/blib/lib/AnyEvent/Subprocess/Types.pm line 0
	eval {...} called at /cpan_build/foo/AnyEvent-Subprocess-1.102912-0/blib/lib/AnyEvent/Subprocess/Types.pm line 0
t/trivial.t ................. ok
Passing a list of values to enum is deprecated. Enum values should be wrapped in an arrayref. at /cpan_build/foo/AnyEvent-Subprocess-1.102912-0/blib/lib/AnyEvent/Subprocess/Types.pm line 42.
	require AnyEvent/Subprocess/Types.pm called at /cpan_build/foo/AnyEvent-Subprocess-1.102912-0/blib/lib/AnyEvent/Subprocess/Job/Delegate/Handle.pm line 12
	AnyEvent::Subprocess::Job::Delegate::Handle::BEGIN() called at /cpan_build/foo/AnyEvent-Subprocess-1.102912-0/blib/lib/AnyEvent/Subprocess/Types.pm line 0
	eval {...} called at /cpan_build/foo/AnyEvent-Subprocess-1.102912-0/blib/lib/AnyEvent/Subprocess/Types.pm line 0
	require AnyEvent/Subprocess/Job/Delegate/Handle.pm called at /cpan_build/foo/AnyEvent-Subprocess-1.102912-0/blib/lib/AnyEvent/Subprocess/DefaultDelegates.pm line 16
	AnyEvent::Subprocess::DefaultDelegates::BEGIN() called at /cpan_build/foo/AnyEvent-Subprocess-1.102912-0/blib/lib/AnyEvent/Subprocess/Types.pm line 0
	eval {...} called at /cpan_build/foo/AnyEvent-Subprocess-1.102912-0/blib/lib/AnyEvent/Subprocess/Types.pm line 0
	require AnyEvent/Subprocess/DefaultDelegates.pm called at /cpan_build/foo/AnyEvent-Subprocess-1.102912-0/blib/lib/AnyEvent/Subprocess.pm line 11
	AnyEvent::Subprocess::BEGIN() called at /cpan_build/foo/AnyEvent-Subprocess-1.102912-0/blib/lib/AnyEvent/Subprocess/Types.pm line 0
	eval {...} called at /cpan_build/foo/AnyEvent-Subprocess-1.102912-0/blib/lib/AnyEvent/Subprocess/Types.pm line 0
	require AnyEvent/Subprocess.pm called at t/userhooks.t line 5
	main::BEGIN() called at /cpan_build/foo/AnyEvent-Subprocess-1.102912-0/blib/lib/AnyEvent/Subprocess/Types.pm line 0
	eval {...} called at /cpan_build/foo/AnyEvent-Subprocess-1.102912-0/blib/lib/AnyEvent/Subprocess/Types.pm line 0
t/userhooks.t ............... ok
Passing a list of values to enum is deprecated. Enum values should be wrapped in an arrayref. at /cpan_build/foo/AnyEvent-Subprocess-1.102912-0/blib/lib/AnyEvent/Subprocess/Types.pm line 42.
	require AnyEvent/Subprocess/Types.pm called at /cpan_build/foo/AnyEvent-Subprocess-1.102912-0/blib/lib/AnyEvent/Subprocess/Job/Delegate/Handle.pm line 12
	AnyEvent::Subprocess::Job::Delegate::Handle::BEGIN() called at /cpan_build/foo/AnyEvent-Subprocess-1.102912-0/blib/lib/AnyEvent/Subprocess/Types.pm line 0
	eval {...} called at /cpan_build/foo/AnyEvent-Subprocess-1.102912-0/blib/lib/AnyEvent/Subprocess/Types.pm line 0
	require AnyEvent/Subprocess/Job/Delegate/Handle.pm called at /cpan_build/foo/AnyEvent-Subprocess-1.102912-0/blib/lib/AnyEvent/Subprocess/DefaultDelegates.pm line 16
	AnyEvent::Subprocess::DefaultDelegates::BEGIN() called at /cpan_build/foo/AnyEvent-Subprocess-1.102912-0/blib/lib/AnyEvent/Subprocess/Types.pm line 0
	eval {...} called at /cpan_build/foo/AnyEvent-Subprocess-1.102912-0/blib/lib/AnyEvent/Subprocess/Types.pm line 0
	require AnyEvent/Subprocess/DefaultDelegates.pm called at /cpan_build/foo/AnyEvent-Subprocess-1.102912-0/blib/lib/AnyEvent/Subprocess.pm line 11
	AnyEvent::Subprocess::BEGIN() called at /cpan_build/foo/AnyEvent-Subprocess-1.102912-0/blib/lib/AnyEvent/Subprocess/Types.pm line 0
	eval {...} called at /cpan_build/foo/AnyEvent-Subprocess-1.102912-0/blib/lib/AnyEvent/Subprocess/Types.pm line 0
	require AnyEvent/Subprocess.pm called at t/watchers-are-destroyed.t line 7
	main::BEGIN() called at /cpan_build/foo/AnyEvent-Subprocess-1.102912-0/blib/lib/AnyEvent/Subprocess/Types.pm line 0
	eval {...} called at /cpan_build/foo/AnyEvent-Subprocess-1.102912-0/blib/lib/AnyEvent/Subprocess/Types.pm line 0
t/watchers-are-destroyed.t .. ok
All tests successful.

Test Summary Report
-------------------
t/negative-one.t          (Wstat: 0 Tests: 5 Failed: 0)
  TODO passed:   1
Files=22, Tests=116, 32 wallclock secs ( 0.13 usr  0.16 sys + 19.65 cusr  5.33 csys = 25.27 CPU)
Result: PASS

------------------------------
PREREQUISITES
------------------------------

Prerequisite modules loaded:

requires:

    Module                      Need Have    
    --------------------------- ---- --------
    AnyEvent                    0    7.13    
    AnyEvent::Handle            0    7.13    
    AnyEvent::Util              0    7.13    
    Carp                        0    1.38    
    EV                          4.0  4.22    
    Event::Join                 0.05 0.06    
    IO::Pty                     0    1.12    
    JSON                        2    2.90    
    Moose                       1.15 2.1900  
    Moose::Role                 0    2.1900  
    MooseX::Clone               0    0.06    
    MooseX::Role::Parameterized 0    1.09    
    MooseX::StrictConstructor   0    0.19    
    MooseX::Types               0    0.46    
    MooseX::Types::Moose        0    0.46    
    MooseX::Types::Signal       0    1.101932
    namespace::autoclean        0    0.28    
    namespace::clean            0    0.27    
    POSIX                       0    1.38_03 
    Sub::Exporter               0    0.987   
    Try::Tiny                   0    0.27    

build_requires:

    Module                      Need Have    
    --------------------------- ---- --------
    ok                          0    1.302061
    Scalar::Util                0    1.46    
    Test::Exception             0    0.43    
    Test::More                  0    1.302061

configure_requires:

    Module                      Need Have    
    --------------------------- ---- --------
    ExtUtils::MakeMaker         6.31 7.24    


------------------------------
ENVIRONMENT AND OTHER CONTEXT
------------------------------

Environment variables:

    AUTOMATED_TESTING = 1
    PATH = /home/foo/bin:/home/foo/perl5/bin:/usr/bin:/bin:/usr/sbin:/sbin:/usr/X11R6/bin:/usr/local/bin:/usr/local/sbin
    PERL5LIB = /home/foo/perl5/lib/perl5
    PERL5OPT = 
    PERL5_CPANPLUS_IS_RUNNING = 18503
    PERL5_CPAN_IS_RUNNING = 18503
    PERL5_CPAN_IS_RUNNING_IN_RECURSION = 11106,18503
    PERL_CR_SMOKER_CURRENT = AI-MicroStructure-0.20
    PERL_EXTUTILS_AUTOINSTALL = --defaultdeps
    PERL_LOCAL_LIB_ROOT = /home/foo/perl5
    PERL_MB_OPT = --install_base "/home/foo/perl5"
    PERL_MM_OPT = INSTALL_BASE=/home/foo/perl5
    PERL_MM_USE_DEFAULT = 1
    SHELL = /usr/local/bin/bash
    TERM = vt220

Perl special variables (and OS-specific diagnostics, for MSWin32):

    $^X = /usr/bin/perl
    $UID/$EUID = 1001 / 1001
    $GID = 1001 1001
    $EGID = 1001 1001

Perl module toolchain versions installed:

    Module              Have    
    ------------------- --------
    CPAN                2.14    
    CPAN::Meta          2.150010
    Cwd                 3.62    
    ExtUtils::CBuilder  0.280224
    ExtUtils::Command   7.24    
    ExtUtils::Install   1.67    
    ExtUtils::MakeMaker 7.24    
    ExtUtils::Manifest  1.70    
    ExtUtils::ParseXS   3.30    
    File::Spec          3.62    
    JSON                2.90    
    JSON::PP            2.27400 
    Module::Build       0.4220  
    Module::Signature   n/a     
    Parse::CPAN::Meta   2.150010
    Test::Harness       3.36    
    Test::More          1.302061
    YAML                1.18    
    YAML::Syck          1.29    
    version             0.9917  


--

Summary of my perl5 (revision 5 version 20 subversion 2) configuration:
   
  Platform:
    osname=openbsd, osvers=5.9, archname=amd64-openbsd
    uname='openbsd'
    config_args='-dsE -Dopenbsd_distribution=defined -Dccflags=-DNO_LOCALE_NUMERIC -DNO_LOCALE_COLLATE -Dmksymlinks'
    hint=recommended, useposix=true, d_sigaction=define
    useithreads=undef, usemultiplicity=undef
    use64bitint=define, use64bitall=define, uselongdouble=undef
    usemymalloc=n, bincompat5005=undef
  Compiler:
    cc='cc', ccflags ='-DNO_LOCALE_NUMERIC -DNO_LOCALE_COLLATE -fno-strict-aliasing -fno-delete-null-pointer-checks -pipe -fstack-protector -I/usr/local/include',
    optimize='-O2',
    cppflags='-DNO_LOCALE_NUMERIC -DNO_LOCALE_COLLATE -fno-strict-aliasing -fno-delete-null-pointer-checks -pipe -fstack-protector -I/usr/local/include'
    ccversion='', gccversion='4.2.1 20070719 ', gccosandvers='openbsd5.9'
    intsize=4, longsize=8, ptrsize=8, doublesize=8, byteorder=12345678
    d_longlong=define, longlongsize=8, d_longdbl=define, longdblsize=16
    ivtype='long', ivsize=8, nvtype='double', nvsize=8, Off_t='off_t', lseeksize=8
    alignbytes=8, prototype=define
  Linker and Libraries:
    ld='cc', ldflags ='-Wl,-E  -fstack-protector -L/usr/local/lib'
    libpth=/usr/lib /usr/local/lib
    libs=-lm -lutil -lc
    perllibs=-lm -lutil -lc
    libc=/usr/lib/libc.a, so=so, useshrplib=true, libperl=libperl.so.17.1
    gnulibc_version=''
  Dynamic Linking:
    dlsrc=dl_dlopen.xs, dlext=so, d_dlsymun=undef, ccdlflags='-Wl,-R/usr/libdata/perl5/amd64-openbsd/5.20.2/CORE'
    cccdlflags='-DPIC -fPIC ', lddlflags='-shared -fPIC  -fstack-protector -L/usr/local/lib'


Characteristics of this binary (from libperl): 
  Compile-time options: HAS_TIMES PERLIO_LAYERS PERL_DONT_CREATE_GVSV
                        PERL_HASH_FUNC_ONE_AT_A_TIME_HARD PERL_MALLOC_WRAP
                        PERL_NEW_COPY_ON_WRITE PERL_PRESERVE_IVUV
                        USE_64_BIT_ALL USE_64_BIT_INT USE_LARGE_FILES
                        USE_LOCALE USE_LOCALE_CTYPE USE_PERLIO USE_PERL_ATOF
  Built under openbsd
  Compiled at Feb 26 2016 01:02:08
  %ENV:
    PERL5LIB="/home/foo/perl5/lib/perl5"
    PERL5OPT=""
    PERL5_CPANPLUS_IS_RUNNING="18503"
    PERL5_CPAN_IS_RUNNING="18503"
    PERL5_CPAN_IS_RUNNING_IN_RECURSION="11106,18503"
    PERL_CR_SMOKER_CURRENT="AI-MicroStructure-0.20"
    PERL_EXTUTILS_AUTOINSTALL="--defaultdeps"
    PERL_LOCAL_LIB_ROOT="/home/foo/perl5"
    PERL_MB_OPT="--install_base "/home/foo/perl5""
    PERL_MM_OPT="INSTALL_BASE=/home/foo/perl5"
    PERL_MM_USE_DEFAULT="1"
  @INC:
    /home/foo/perl5/lib/perl5/5.20.2/amd64-openbsd
    /home/foo/perl5/lib/perl5/5.20.2
    /home/foo/perl5/lib/perl5/amd64-openbsd
    /home/foo/perl5/lib/perl5
    /usr/local/libdata/perl5/site_perl/amd64-openbsd
    /usr/libdata/perl5/site_perl/amd64-openbsd
    /usr/local/libdata/perl5/site_perl
    /usr/libdata/perl5/site_perl
    /usr/libdata/perl5/amd64-openbsd/5.20.2
    /usr/local/libdata/perl5/amd64-openbsd/5.20.2
    /usr/libdata/perl5
    /usr/local/libdata/perl5
    .