SQL-Translator v1.63 Perl 5 v5.36.2 darwin-thread-multi-2level
- Status
- Pass
- From
- Abe Timmerman
- Dist
-
SQL-Translator v1.63
- Platform
- Perl 5 v5.36.2 darwin-thread-multi-2level
- Date
- 2023-11-26 15:40:19
- ID
- 1ab8f534-8c72-11ee-86b3-993931b2d3cc
This distribution has been tested as part of the CPAN Testers
project, supporting the Perl programming language. See
http://wiki.cpantesters.org/ for more information or email
questions to cpan-testers-discuss@perl.org
--
Dear Avishai Goldman,
This is a computer-generated report for SQL-Translator-1.63
on perl 5.36.2, created by CPAN-Reporter-1.2019.
Thank you for uploading your work to CPAN. Congratulations!
All tests were successful.
Sections of this report:
* Tester comments
* Program output
* Prerequisites
* Environment and other context
------------------------------
TESTER COMMENTS
------------------------------
Additional comments from tester:
none provided
------------------------------
PROGRAM OUTPUT
------------------------------
Output from '/usr/bin/make test':
Skip blib/lib/auto/share/dist/SQL-Translator/PrecompiledParsers/Parse/RecDescent/DDL/SQLT/README (unchanged)
Skip blib/lib/auto/share/dist/SQL-Translator/DiaUml/uml-class-start.tt2 (unchanged)
Skip blib/lib/auto/share/dist/SQL-Translator/DiaUml/layer.tt2 (unchanged)
Skip blib/lib/auto/share/dist/SQL-Translator/DiaUml/uml-class-all.tt2 (unchanged)
Skip blib/lib/auto/share/dist/SQL-Translator/DiaUml/uml-class.tt2 (unchanged)
Skip blib/lib/auto/share/dist/SQL-Translator/DiaUml/uml-attribute.tt2 (unchanged)
Skip blib/lib/auto/share/dist/SQL-Translator/DiaUml/diagram.tt2 (unchanged)
Skip blib/lib/auto/share/dist/SQL-Translator/DiaUml/uml-class-end.tt2 (unchanged)
Skip blib/lib/auto/share/dist/SQL-Translator/DiaUml/schema.tt2 (unchanged)
PERL_DL_NONLAZY=1 "/opt/perl/perl5.36.2/bin/perl" "-MExtUtils::Command::MM" "-MTest::Harness" "-e" "undef *Test::Harness::Switches; test_harness(0, 'blib/lib', 'blib/arch')" t/*.t
t/02mysql-parser.t ...................... ok
t/03mysql-to-oracle.t ................... ok
t/04file,fh,string.t .................... ok
t/05bgep-re.t ........................... ok
t/06xsv.t ............................... skipped: Missing dependency: Text::RecordParser
t/07p_args.t ............................ ok
t/08postgres-to-mysql.t ................. ok
t/09sqlt-diagram.t ...................... skipped: Missing dependencies: GD, Graph::Directed, GD
t/10excel.t ............................. skipped: Missing dependency: Spreadsheet::ParseExcel
t/11normalize.t ......................... ok
t/12header_comment.t .................... ok
t/13schema.t ............................ ok
t/14postgres-parser.t ................... ok
t/15oracle-parser.t ..................... ok
t/16xml-parser.t ........................ skipped: Missing dependency: XML::LibXML
t/17sqlfxml-producer.t .................. ok
t/18ttschema-producer.t ................. skipped: Missing dependency: XML::LibXML
t/19sybase-parser.t ..................... ok
t/20format_X_name.t ..................... ok
t/23json.t .............................. ok
t/24yaml.t .............................. ok
t/25storable.t .......................... ok
t/26sybase.t ............................ ok
t/27sqlite-parser.t ..................... ok
t/29html.t .............................. skipped: Missing dependency: CGI
t/30sqlt-new-diff-mysql.t ............... ok
t/30sqlt-new-diff-pgsql.t ............... ok
t/30sqlt-new-diff-sqlite.t .............. ok
t/30sqlt-new-diff.t ..................... ok
t/31dumper.t ............................ ok
t/32schema-lookups.t .................... ok
t/33tt-table-producer.t ................. ok
t/34tt-base.t ........................... skipped: Missing dependency: XML::LibXML
t/35-access-parser.t .................... ok
t/36-filters.t .......................... ok
t/38-filter-names.t ..................... ok
t/38-mysql-producer.t ................... ok
t/39-filter-globals.t ................... ok
t/40oracle-parser-dbi.t ................. ok
t/43xml-to-db2.t ........................ skipped: Missing dependency: XML::LibXML
t/44-xml-to-db2-array.t ................. skipped: Missing dependency: XML::LibXML
t/45db2-producer.t ...................... ok
t/46xml-to-pg.t ......................... skipped: Missing dependency: XML::LibXML
t/47postgres-producer.t ................. ok
t/48xml-to-sqlite.t ..................... skipped: Missing dependency: XML::LibXML
t/49xml-to-pg-samefield.t ............... skipped: Missing dependency: XML::LibXML
t/50-sqlserver-parser.t ................. ok
t/51-xml-to-oracle.t .................... skipped: Missing dependency: XML::LibXML
t/51-xml-to-oracle_quoted.t ............. skipped: Missing dependency: XML::LibXML
t/52-oracle-options.t ................... ok
t/53-oracle-delay-constraints.t ......... ok
t/53-oracle-delay-constraints_quoted.t .. ok
t/54-oracle-alter-constraint.t .......... ok
t/54-oracle-alter-field.t ............... ok
t/54-oracle-sql-diff.t .................. ok
t/55-oracle-add-drop-field.t ............ ok
t/55-oracle-producer.t .................. ok
t/56-sqlite-producer.t .................. ok
t/57-class-dbi.t ........................ ok
t/60roundtrip.t ......................... ok
t/61translator_agnostic.t ............... skipped: Missing dependency: XML::LibXML
t/62roundtrip_datacheck.t ............... skipped: Missing dependency: XML::LibXML
t/63-spacial-pgsql.t .................... ok
t/64xml-to-mysql.t ...................... skipped: Missing dependency: XML::LibXML
t/66-postgres-dbi-parser.t .............. skipped: Set $ENV{DBICTEST_PG_DSN}, _USER and _PASS to run this test
t/70sqlt-diff_script.t .................. ok
t/70sqlt-diff_script_old.t .............. ok
t/71-generator-sql_server.t ............. ok
t/72-sqlite-add-drop-fields.t ........... ok
t/73-sqlite-respects-quote.t ............ ok
t/74-filename-arrayref.t ................ ok
t/mysql-sqlite-translate.t .............. ok
t/postgresql-rename-table-and-field.t ... skipped: Missing dependency: Test::PostgreSQL
t/sqlite-rename-field.t ................. ok
All tests successful.
Test Summary Report
-------------------
t/60roundtrip.t (Wstat: 0 Tests: 93 Failed: 0)
TODO passed: 85, 87, 91, 93
Files=74, Tests=1688, 13 wallclock secs ( 0.09 usr 0.07 sys + 11.90 cusr 0.67 csys = 12.73 CPU)
Result: PASS
------------------------------
PREREQUISITES
------------------------------
Prerequisite modules loaded:
requires:
Module Need Have
----------------------- -------- --------
Carp::Clan 0 6.08
DBI 1.54 1.643
Digest::SHA 0 6.02
File::ShareDir 1.0 1.118
Moo 1.000003 2.005005
Package::Variant 1.001001 1.003002
Parse::RecDescent 1.967009 1.967015
perl 5.008001 5.036002
Scalar::Util 0 1.62
Sub::Quote 0 2.006008
Try::Tiny 0.04 0.31
build_requires:
Module Need Have
----------------------- -------- --------
ExtUtils::MakeMaker 0 7.70
JSON::MaybeXS 1.003003 1.004005
Test::Differences 0 0.71
Test::Exception 0.31 0.43
Test::More 0.88 1.302190
Text::ParseWords 0 3.31
XML::Writer 0.500 0.900
YAML 0.66 1.30
configure_requires:
Module Need Have
----------------------- -------- --------
ExtUtils::MakeMaker 6.54 7.70
File::ShareDir::Install 0 0.14
opt_requires:
Module Need Have
----------------------- -------- --------
! GD 0 n/a
! Graph::Directed 0 n/a
! GraphViz 0 n/a
! Spreadsheet::ParseExcel 0.41 n/a
Template 2.20 3.101
! Text::RecordParser 0.02 n/a
! XML::LibXML 1.69 n/a
------------------------------
ENVIRONMENT AND OTHER CONTEXT
------------------------------
Environment variables:
LC_ALL = en_US.UTF-8
NONINTERACTIVE_TESTING = 1
PATH = /opt/homebrew/opt/perl/bin:/opt/homebrew/bin:/opt/homebrew/sbin:/Users/abeltje/bin:/Users/abeltje/xsbin:/usr/local/bin:/usr/bin:/bin:/usr/local/sbin/:/usr/sbin:/sbin
PERL5LIB =
PERL5OPT =
PERL5_CPANPLUS_IS_RUNNING = 74105
PERL5_CPAN_IS_RUNNING = 74105
PERL_MM_USE_DEFAULT = 1
PERL_USE_UNSAFE_INC = 1
SHELL = /bin/bash
TERM = screen-256color
TMPDIR = /var/folders/mk/6yqfnld12zbgp3gq6j52f3z40000gn/T/
VERSIONER_PERL_VERSION = 5.30
Perl special variables (and OS-specific diagnostics, for MSWin32):
$^X = /opt/perl/perl5.36.2/bin/perl
$UID/$EUID = 501 / 501
$GID = 20 20 12 61 79 80 81 98 702 33 100 204 250 395 398 399 400
$EGID = 20 20 12 61 79 80 81 98 702 33 100 204 250 395 398 399 400
Perl module toolchain versions installed:
Module Have
------------------- --------
CPAN 2.36
CPAN::Meta 2.150010
Cwd 3.84
ExtUtils::CBuilder 0.280236
ExtUtils::Command 7.70
ExtUtils::Install 2.20
ExtUtils::MakeMaker 7.70
ExtUtils::Manifest 1.73
ExtUtils::ParseXS 3.45
File::Spec 3.84
JSON n/a
JSON::PP 4.16
Module::Build 0.4234
Module::Signature 0.88
Parse::CPAN::Meta 2.150010
Test2 1.302190
Test::Harness 3.44
Test::More 1.302190
YAML 1.30
YAML::Syck n/a
version 0.9929
--
Summary of my perl5 (revision 5 version 36 subversion 2) configuration:
Commit id: 991b41619a089200e56b78e6261ef5e343f74632
Platform:
osname=darwin
osvers=23.1.0
archname=darwin-thread-multi-2level
uname='darwin idefix.fritz.box 23.1.0 darwin kernel version 23.1.0: mon oct 9 21:27:24 pdt 2023; root:xnu-10002.41.9~6release_arm64_t6000 arm64 '
config_args='-des -Duseithreads -Dprefix=/opt/perl/perl5.36.2'
hint=recommended
useposix=true
d_sigaction=define
useithreads=define
usemultiplicity=define
use64bitint=define
use64bitall=define
uselongdouble=undef
usemymalloc=n
default_inc_excludes_dot=define
Compiler:
cc='cc'
ccflags ='-fno-common -DPERL_DARWIN -mmacosx-version-min=14.1 -fno-strict-aliasing -pipe -fstack-protector-strong -I/usr/local/include -DPERL_USE_SAFE_PUTENV'
optimize='-O3'
cppflags='-fno-common -DPERL_DARWIN -mmacosx-version-min=14.1 -fno-strict-aliasing -pipe -fstack-protector-strong -I/usr/local/include'
ccversion=''
gccversion='Apple LLVM 15.0.0 (clang-1500.0.40.1)'
gccosandvers=''
intsize=4
longsize=8
ptrsize=8
doublesize=8
byteorder=12345678
doublekind=3
d_longlong=define
longlongsize=8
d_longdbl=define
longdblsize=8
longdblkind=0
ivtype='long'
ivsize=8
nvtype='double'
nvsize=8
Off_t='off_t'
lseeksize=8
alignbytes=8
prototype=define
Linker and Libraries:
ld='cc'
ldflags =' -mmacosx-version-min=14.1 -fstack-protector-strong -L/usr/local/lib'
libpth=/usr/local/lib /Library/Developer/CommandLineTools/usr/lib/clang/15.0.0/lib /Library/Developer/CommandLineTools/SDKs/MacOSX14.0.sdk/usr/lib /Library/Developer/CommandLineTools/usr/lib /usr/lib
libs=
perllibs=
libc=
so=dylib
useshrplib=false
libperl=libperl.a
gnulibc_version=''
Dynamic Linking:
dlsrc=dl_dlopen.xs
dlext=bundle
d_dlsymun=undef
ccdlflags=' '
cccdlflags=' '
lddlflags=' -mmacosx-version-min=14.1 -bundle -undefined dynamic_lookup -L/usr/local/lib -fstack-protector-strong'
Characteristics of this binary (from libperl):
Compile-time options:
HAS_TIMES
MULTIPLICITY
PERLIO_LAYERS
PERL_COPY_ON_WRITE
PERL_DONT_CREATE_GVSV
PERL_MALLOC_WRAP
PERL_OP_PARENT
PERL_PRESERVE_IVUV
PERL_USE_SAFE_PUTENV
USE_64_BIT_ALL
USE_64_BIT_INT
USE_ITHREADS
USE_LARGE_FILES
USE_LOCALE
USE_LOCALE_COLLATE
USE_LOCALE_CTYPE
USE_LOCALE_NUMERIC
USE_LOCALE_TIME
USE_PERLIO
USE_PERL_ATOF
USE_REENTRANT_API
USE_THREAD_SAFE_LOCALE
Built under darwin
Compiled at Nov 26 2023 13:36:25
%ENV:
PERL5LIB=""
PERL5OPT=""
PERL5_CPANPLUS_IS_RUNNING="74105"
PERL5_CPAN_IS_RUNNING="74105"
PERL_MM_USE_DEFAULT="1"
PERL_USE_UNSAFE_INC="1"
@INC:
/opt/perl/perl5.36.2/lib/site_perl/5.36.2/darwin-thread-multi-2level
/opt/perl/perl5.36.2/lib/site_perl/5.36.2
/opt/perl/perl5.36.2/lib/5.36.2/darwin-thread-multi-2level
/opt/perl/perl5.36.2/lib/5.36.2
.