Back
From: metabase:user:e3434da8-b236-11df-85ca-0247c6d74bde
Subject: PASS Log-Any-Adapter-Syslog-1.3 v5.15.2 GNU/Linux
Date: 2011-09-06T19:12:03Z
This distribution has been tested as part of the CPAN Testers
project, supporting the Perl programming language. See
http://wiki.cpantesters.org/ for more information or email
questions to cpan-testers-discuss@perl.org
--
Dear Stephen Thirlwall,
This is a computer-generated report for Log-Any-Adapter-Syslog-1.3
on perl 5.15.2, created by CPAN-Reporter-1.2002.
Thank you for uploading your work to CPAN. Congratulations!
All tests were successful.
Sections of this report:
* Tester comments
* Program output
* Prerequisites
* Environment and other context
------------------------------
TESTER COMMENTS
------------------------------
Additional comments from tester:
this report is from an automated smoke testing program
and was not reviewed by a human for accuracy
------------------------------
PROGRAM OUTPUT
------------------------------
Output from '/usr/bin/make test':
PERL_DL_NONLAZY=1 /home/perl5152/testing/bin/perl5.15.2 "-MExtUtils::Command::MM" "-e" "test_harness(0, 'blib/lib', 'blib/arch')" t/*.t t/options/*.t
t/00-compile.t ................ ok
#
#
# perl: v5.15.2 (wanted any version) on linux from /home/perl5152/testing/bin/perl5.15.2
#
# Carp => 1.21 (want any version)
# ExtUtils::MakeMaker => 6.59 (want 6.30)
# File::Basename => 2.83 (want any version)
# File::Find => 1.20 (want any version)
# File::Temp => 0.22 (want any version)
# Log::Any => 0.14 (want any version)
# Log::Any::Adapter => 0.03 (want any version)
# Log::Any::Adapter::Base => <undef> (want any version)
# Log::Any::Adapter::Util => <undef> (want any version)
# Test::Exception => 0.31 (want any version)
# Test::MockModule => 0.05 (want any version)
# Test::More => 0.98 (want 0.88)
# Test::Warn => 0.23 (want any version)
# Unix::Syslog => 1.1 (want any version)
# base => 2.17 (want any version)
# strict => 1.04 (want any version)
# vars => 1.02 (want any version)
# warnings => 1.12 (want any version)
#
# Thanks for using my code. I hope it works for you.
# If not, please try and include this output in the bug report.
# That will help me reproduce the issue and solve you problem.
#
t/000-report-versions-tiny.t .. ok
t/options/defaults.t .......... ok
t/options/facility.t .......... ok
t/options/name.t .............. ok
t/options/options.t ........... ok
t/reinit.t .................... ok
t/release-distmeta.t .......... skipped: these tests are for release candidate testing
t/release-has-version.t ....... skipped: these tests are for release candidate testing
t/release-minimum-version.t ... skipped: these tests are for release candidate testing
t/release-pod-syntax.t ........ skipped: these tests are for release candidate testing
t/release-portability.t ....... skipped: these tests are for release candidate testing
t/release-synopsis.t .......... skipped: these tests are for release candidate testing
t/release-unused-vars.t ....... skipped: these tests are for release candidate testing
t/write-logs.t ................ ok
All tests successful.
Files=15, Tests=44, 1 wallclock secs ( 0.06 usr 0.02 sys + 0.56 cusr 0.18 csys = 0.82 CPU)
Result: PASS
------------------------------
PREREQUISITES
------------------------------
Prerequisite modules loaded:
requires:
Module Need Have
----------------------- ---- ----
base 0 2.17
Carp 0 1.21
File::Basename 0 2.83
Log::Any::Adapter::Base 0 0
Log::Any::Adapter::Util 0 0
strict 0 1.04
Unix::Syslog 0 1.1
warnings 0 1.12
build_requires:
Module Need Have
----------------------- ---- ----
File::Find 0 1.20
File::Temp 0 0.22
Log::Any 0 0.14
Log::Any::Adapter 0 0.03
Test::Exception 0 0.31
Test::MockModule 0 0.05
Test::More 0.88 0.98
Test::Warn 0 0.23
vars 0 1.02
configure_requires:
Module Need Have
----------------------- ---- ----
ExtUtils::MakeMaker 6.30 6.59
------------------------------
ENVIRONMENT AND OTHER CONTEXT
------------------------------
Environment variables:
AUTOMATED_TESTING = 1
LANG = en_US.UTF-8
LC_COLLATE = C
LC_MONETARY = nl_NL.utf8
PATH = /home/tester/perl5/perlbrew/bin:/home/tester/perl5/perlbrew/perls/perl-5.15.1/bin:/usr/lib64/qt-3.3/bin:/usr/lib64/ccache:/usr/local/bin:/bin:/usr/bin:/usr/local/sbin:/usr/sbin:/sbin:/home/tester/bin:/home/tester/bin
PATH_WITHOUT_PERLBREW = /usr/lib64/qt-3.3/bin:/usr/lib64/ccache:/usr/local/bin:/bin:/usr/bin:/usr/local/sbin:/usr/sbin:/sbin:/home/tester/bin
PERL5LIB = /home/perl5152/.cpan/build/Unix-Syslog-1.1-6G2hre/blib/arch:/home/perl5152/.cpan/build/Unix-Syslog-1.1-6G2hre/blib/lib:/home/perl5152/.cpan/build/Test-Warn-0.23-fAS1Zc/blib/arch:/home/perl5152/.cpan/build/Test-Warn-0.23-fAS1Zc/blib/lib:/home/perl5152/.cpan/build/Tree-DAG_Node-1.06-9MvUd8/blib/arch:/home/perl5152/.cpan/build/Tree-DAG_Node-1.06-9MvUd8/blib/lib:/home/perl5152/.cpan/build/Log-Any-Adapter-0.03-vj97Oa/blib/arch:/home/perl5152/.cpan/build/Log-Any-Adapter-0.03-vj97Oa/blib/lib:/home/perl5152/.cpan/build/Log-Any-0.14-60bUca/blib/arch:/home/perl5152/.cpan/build/Log-Any-0.14-60bUca/blib/lib:/home/perl5152/.cpan/build/Scope-Guard-0.20-1isaVd/blib/arch:/home/perl5152/.cpan/build/Scope-Guard-0.20-1isaVd/blib/lib:/home/perl5152/.cpan/build/Test-MockModule-0.05-KbbQMn/blib/arch:/home/perl5152/.cpan/build/Test-MockModule-0.05-KbbQMn/blib/lib
PERL5OPT =
PERL5_CPANPLUS_IS_RUNNING = 19867
PERL5_CPAN_IS_RUNNING = 19867
PERL5_CPAN_IS_RUNNING_IN_RECURSION = 10758,19867
PERLBREW_PATH = /home/tester/perl5/perlbrew/bin:/home/tester/perl5/perlbrew/perls/perl-5.15.1/bin
PERLBREW_PERL = perl-5.15.1
PERLBREW_ROOT = /home/tester/perl5/perlbrew
PERLBREW_VERSION = 0.15
PERL_CR_SMOKER_CURRENT = Log-Any-Adapter-Syslog-1.3
PERL_EXTUTILS_AUTOINSTALL = --defaultdeps
PERL_MM_USE_DEFAULT = 1
SHELL = /bin/bash
TERM = screen
Perl special variables (and OS-specific diagnostics, for MSWin32):
$^X = /home/perl5152/testing/bin/perl5.15.2
$UID/$EUID = 512 / 512
$GID = 512 512
$EGID = 512 512
Perl module toolchain versions installed:
Module Have
------------------- --------
CPAN 1.9800
CPAN::Meta 2.112150
Cwd 3.37
ExtUtils::CBuilder 0.280204
ExtUtils::Command 1.17
ExtUtils::Install 1.57
ExtUtils::MakeMaker 6.59
ExtUtils::Manifest 1.60
ExtUtils::ParseXS 3.03_01
File::Spec 3.34
JSON 2.53
JSON::PP 2.27200
Module::Build 0.39_01
Module::Signature n/a
Parse::CPAN::Meta 1.4401
Test::Harness 3.23
Test::More 0.98
YAML n/a
YAML::Syck n/a
version 0.94
--
Summary of my perl5 (revision 5 version 15 subversion 2) configuration:
Platform:
osname=linux, osvers=2.6.38.8-35.fc15.x86_64, archname=x86_64-linux-thread-multi
uname='linux firenze.fritz.box 2.6.38.8-35.fc15.x86_64 #1 smp wed jul 6 13:58:54 utc 2011 x86_64 x86_64 x86_64 gnulinux '
config_args='-des -Dprefix=/home/perl5152/testing/ -Dusethreads -Dusedevel'
hint=recommended, useposix=true, d_sigaction=define
useithreads=define, usemultiplicity=define
useperlio=define, d_sfio=undef, uselargefiles=define, usesocks=undef
use64bitint=define, use64bitall=define, uselongdouble=undef
usemymalloc=n, bincompat5005=undef
Compiler:
cc='cc', ccflags ='-D_REENTRANT -D_GNU_SOURCE -fno-strict-aliasing -pipe -fstack-protector -I/usr/local/include -D_LARGEFILE_SOURCE -D_FILE_OFFSET_BITS=64',
optimize='-O2',
cppflags='-D_REENTRANT -D_GNU_SOURCE -fno-strict-aliasing -pipe -fstack-protector -I/usr/local/include'
ccversion='', gccversion='4.6.0 20110530 (Red Hat 4.6.0-9)', gccosandvers=''
intsize=4, longsize=8, ptrsize=8, doublesize=8, byteorder=12345678
d_longlong=define, longlongsize=8, d_longdbl=define, longdblsize=16
ivtype='long', ivsize=8, nvtype='double', nvsize=8, Off_t='off_t', lseeksize=8
alignbytes=8, prototype=define
Linker and Libraries:
ld='cc', ldflags =' -fstack-protector -L/usr/local/lib'
libpth=/usr/local/lib /lib/../lib64 /usr/lib/../lib64 /lib /usr/lib /lib64 /usr/lib64 /usr/local/lib64
libs=-lnsl -lgdbm -ldb -ldl -lm -lcrypt -lutil -lpthread -lc -lgdbm_compat
perllibs=-lnsl -ldl -lm -lcrypt -lutil -lpthread -lc
libc=, so=so, useshrplib=false, libperl=libperl.a
gnulibc_version='2.14'
Dynamic Linking:
dlsrc=dl_dlopen.xs, dlext=so, d_dlsymun=undef, ccdlflags='-Wl,-E'
cccdlflags='-fPIC', lddlflags='-shared -O2 -L/usr/local/lib -fstack-protector'
Characteristics of this binary (from libperl):
Compile-time options: HAS_TIMES MULTIPLICITY PERLIO_LAYERS
PERL_DONT_CREATE_GVSV PERL_IMPLICIT_CONTEXT
PERL_MALLOC_WRAP PERL_PRESERVE_IVUV PERL_USE_DEVEL
USE_64_BIT_ALL USE_64_BIT_INT USE_ITHREADS
USE_LARGE_FILES USE_LOCALE USE_LOCALE_COLLATE
USE_LOCALE_CTYPE USE_LOCALE_NUMERIC USE_PERLIO
USE_PERL_ATOF USE_REENTRANT_API
Built under linux
Compiled at Aug 21 2011 23:35:28
%ENV:
PERL5LIB="/home/perl5152/.cpan/build/Unix-Syslog-1.1-6G2hre/blib/arch:/home/perl5152/.cpan/build/Unix-Syslog-1.1-6G2hre/blib/lib:/home/perl5152/.cpan/build/Test-Warn-0.23-fAS1Zc/blib/arch:/home/perl5152/.cpan/build/Test-Warn-0.23-fAS1Zc/blib/lib:/home/perl5152/.cpan/build/Tree-DAG_Node-1.06-9MvUd8/blib/arch:/home/perl5152/.cpan/build/Tree-DAG_Node-1.06-9MvUd8/blib/lib:/home/perl5152/.cpan/build/Log-Any-Adapter-0.03-vj97Oa/blib/arch:/home/perl5152/.cpan/build/Log-Any-Adapter-0.03-vj97Oa/blib/lib:/home/perl5152/.cpan/build/Log-Any-0.14-60bUca/blib/arch:/home/perl5152/.cpan/build/Log-Any-0.14-60bUca/blib/lib:/home/perl5152/.cpan/build/Scope-Guard-0.20-1isaVd/blib/arch:/home/perl5152/.cpan/build/Scope-Guard-0.20-1isaVd/blib/lib:/home/perl5152/.cpan/build/Test-MockModule-0.05-KbbQMn/blib/arch:/home/perl5152/.cpan/build/Test-MockModule-0.05-KbbQMn/blib/lib"
PERL5OPT=""
PERL5_CPANPLUS_IS_RUNNING="19867"
PERL5_CPAN_IS_RUNNING="19867"
PERL5_CPAN_IS_RUNNING_IN_RECURSION="10758,19867"
PERLBREW_PATH="/home/tester/perl5/perlbrew/bin:/home/tester/perl5/perlbrew/perls/perl-5.15.1/bin"
PERLBREW_PERL="perl-5.15.1"
PERLBREW_ROOT="/home/tester/perl5/perlbrew"
PERLBREW_VERSION="0.15"
PERL_CR_SMOKER_CURRENT="Log-Any-Adapter-Syslog-1.3"
PERL_EXTUTILS_AUTOINSTALL="--defaultdeps"
PERL_MM_USE_DEFAULT="1"
@INC:
/home/perl5152/.cpan/build/Unix-Syslog-1.1-6G2hre/blib/arch
/home/perl5152/.cpan/build/Unix-Syslog-1.1-6G2hre/blib/lib
/home/perl5152/.cpan/build/Test-Warn-0.23-fAS1Zc/blib/arch
/home/perl5152/.cpan/build/Test-Warn-0.23-fAS1Zc/blib/lib
/home/perl5152/.cpan/build/Tree-DAG_Node-1.06-9MvUd8/blib/arch
/home/perl5152/.cpan/build/Tree-DAG_Node-1.06-9MvUd8/blib/lib
/home/perl5152/.cpan/build/Log-Any-Adapter-0.03-vj97Oa/blib/arch
/home/perl5152/.cpan/build/Log-Any-Adapter-0.03-vj97Oa/blib/lib
/home/perl5152/.cpan/build/Log-Any-0.14-60bUca/blib/arch
/home/perl5152/.cpan/build/Log-Any-0.14-60bUca/blib/lib
/home/perl5152/.cpan/build/Scope-Guard-0.20-1isaVd/blib/arch
/home/perl5152/.cpan/build/Scope-Guard-0.20-1isaVd/blib/lib
/home/perl5152/.cpan/build/Test-MockModule-0.05-KbbQMn/blib/arch
/home/perl5152/.cpan/build/Test-MockModule-0.05-KbbQMn/blib/lib
/home/perl5152/testing/lib/site_perl/5.15.2/x86_64-linux-thread-multi
/home/perl5152/testing/lib/site_perl/5.15.2
/home/perl5152/testing/lib/5.15.2/x86_64-linux-thread-multi
/home/perl5152/testing/lib/5.15.2
.