Dist-Zilla-Plugin-Test-EOL v0.19 Perl 5 v5.26.2 darwin-thread-multi-2level

Status
Pass
From
David Cantrell (DCANTRELL)
Dist
Dist-Zilla-Plugin-Test-EOL v0.19
Platform
Perl 5 v5.26.2 darwin-thread-multi-2level
Date
2023-07-31 23:08:04
ID
1ad6d086-2ff7-11ee-9eeb-ffc71911d336
This distribution has been tested as part of the CPAN Testers
project, supporting the Perl programming language.  See
http://wiki.cpantesters.org/ for more information or email
questions to cpan-testers-discuss@perl.org


--
Dear Karen Etheridge,

This is a computer-generated report for Dist-Zilla-Plugin-Test-EOL-0.19
on perl 5.26.2, created by CPAN-Reporter-1.2019.

Thank you for uploading your work to CPAN.  Congratulations!
All tests were successful.

Sections of this report:

    * Tester comments
    * Program output
    * Prerequisites
    * Environment and other context

------------------------------
TESTER COMMENTS
------------------------------

Additional comments from tester:

this report is from an automated smoke testing program
and was not reviewed by a human for accuracy

------------------------------
PROGRAM OUTPUT
------------------------------

Output from './Build test':

do "t/00-report-prereqs.dd" failed, '.' is no longer in @INC; did you mean do "./t/00-report-prereqs.dd"? at t/00-report-prereqs.t line 72.
# 
# Versions for all modules listed in MYMETA.json (including optional ones):
# 
# === Configure Requires ===
# 
#     Module               Want  Have
#     ------------------- ----- -----
#     Module::Build::Tiny 0.034 0.046
# 
# === Test Requires ===
# 
#     Module            Want     Have
#     ---------------- ----- --------
#     File::Spec         any     3.67
#     File::pushd        any    1.016
#     FindBin            any     1.51
#     Module::Metadata   any 1.000033
#     Test::DZil         any    6.030
#     Test::Deep         any    1.130
#     Test::EOL          any     2.02
#     Test::More        0.88 1.302195
#     Test::Warnings   0.009    0.030
#     if                 any   0.0606
# 
# === Test Recommends ===
# 
#     Module         Want     Have
#     ---------- -------- --------
#     CPAN::Meta 2.120900 2.150010
# 
# === Runtime Requires ===
# 
#     Module                             Want     Have
#     --------------------------------- ----- --------
#     Data::Section                     0.004 0.200008
#     Dist::Zilla::File::InMemory         any    6.030
#     Dist::Zilla::Role::FileFinderUser   any    6.030
#     Dist::Zilla::Role::FileGatherer     any    6.030
#     Dist::Zilla::Role::FileMunger       any    6.030
#     Dist::Zilla::Role::PrereqSource     any    6.030
#     Dist::Zilla::Role::TextTemplate     any    6.030
#     Moose                               any   2.2206
#     Moose::Util::TypeConstraints        any   2.2206
#     Path::Tiny                          any    0.114
#     Sub::Exporter::ForMethods           any 0.100055
#     namespace::autoclean                any     0.29
#     strict                              any     1.11
#     warnings                            any     1.37
# 
# === Other Modules ===
# 
#     Module                    Have
#     --------------------- --------
#     CPAN::Meta::Validator 2.150010
#     Pod::Coverage          missing
# 
t/00-report-prereqs.t .. ok
t/01-basic.t ........... ok
t/02-eoltests.t ........ ok
t/03-finder.t .......... ok
t/04-filename.t ........ ok
t/eol.t ................ ok
t/prereqs.t ............ ok
t/zzz-check-breaks.t ... ok
All tests successful.
Files=8, Tests=66,  9 wallclock secs ( 0.06 usr  0.04 sys +  7.43 cusr  0.69 csys =  8.22 CPU)
Result: PASS

------------------------------
PREREQUISITES
------------------------------

Prerequisite modules loaded:

requires:

    Module                            Need     Have    
    --------------------------------- -------- --------
    Data::Section                     0.004    0.200008
    Dist::Zilla::File::InMemory       0        6.030   
    Dist::Zilla::Role::FileFinderUser 0        6.030   
    Dist::Zilla::Role::FileGatherer   0        6.030   
    Dist::Zilla::Role::FileMunger     0        6.030   
    Dist::Zilla::Role::PrereqSource   0        6.030   
    Dist::Zilla::Role::TextTemplate   0        6.030   
    Moose                             0        2.2206  
    Moose::Util::TypeConstraints      0        2.2206  
    namespace::autoclean              0        0.29    
    Path::Tiny                        0        0.114   
    perl                              5.006    5.026002
    strict                            0        1.11    
    Sub::Exporter::ForMethods         0        0.100055
    warnings                          0        1.37    

build_requires:

    Module                            Need     Have    
    --------------------------------- -------- --------
    File::pushd                       0        1.016   
    File::Spec                        0        3.67    
    FindBin                           0        1.51    
    if                                0        0.0606  
    Module::Metadata                  0        1.000033
    perl                              5.006    5.026002
    Test::Deep                        0        1.130   
    Test::DZil                        0        6.030   
    Test::EOL                         0        2.02    
    Test::More                        0.88     1.302195
    Test::Warnings                    0.009    0.030   

configure_requires:

    Module                            Need     Have    
    --------------------------------- -------- --------
    Module::Build::Tiny               0.034    0.046   
    perl                              5.006    5.026002

opt_build_requires:

    Module                            Need     Have    
    --------------------------------- -------- --------
    CPAN::Meta                        2.120900 2.150010


------------------------------
ENVIRONMENT AND OTHER CONTEXT
------------------------------

Environment variables:

    AUTOMATED_TESTING = 1
    NONINTERACTIVE_TESTING = 1
    PATH = /Users/cpantesting/perl5/perlbrew/bin:/Users/cpantesting/perl5/perlbrew/perls/perl-5.32.0/bin:/usr/local/bin:/usr/bin:/bin:/usr/sbin:/sbin:/Library/Apple/usr/bin:/Users/cpantesting/.cargo/bin
    PERL = 5.26.2
    PERL5LIB = 
    PERL5OPT = 
    PERL5_CPANPLUS_IS_RUNNING = 49157
    PERL5_CPAN_IS_RUNNING = 49157
    PERLBREW_HOME = /Users/cpantesting/.perlbrew
    PERLBREW_MANPATH = /Users/cpantesting/perl5/perlbrew/perls/perl-5.32.0/man
    PERLBREW_PATH = /Users/cpantesting/perl5/perlbrew/bin:/Users/cpantesting/perl5/perlbrew/perls/perl-5.32.0/bin
    PERLBREW_PERL = perl-5.32.0
    PERLBREW_ROOT = /Users/cpantesting/perl5/perlbrew
    PERLBREW_SHELLRC_VERSION = 0.94
    PERLBREW_VERSION = 0.94
    PERLVER = 5.26.2
    PERL_INLINE_DIRECTORY = /Users/cpantesting/.Inline-5.26.2
    PERL_MM_USE_DEFAULT = 1
    PERL_USE_UNSAFE_INC = 0
    SHELL = /bin/bash
    TERM = screen

Perl special variables (and OS-specific diagnostics, for MSWin32):

    $^X = /Users/cpantesting/cpantesting/perl-5.26.2/bin/perl
    $UID/$EUID = 503 / 503
    $GID = 20 20 12 61 703 702 701 100
    $EGID = 20 20 12 61 703 702 701 100

Perl module toolchain versions installed:

    Module              Have      
    ------------------- ----------
    CPAN                2.18      
    CPAN::Meta          2.150010  
    Cwd                 3.67      
    ExtUtils::CBuilder  0.280235  
    ExtUtils::Command   7.58      
    ExtUtils::Install   2.06      
    ExtUtils::MakeMaker 7.58      
    ExtUtils::Manifest  1.70      
    ExtUtils::ParseXS   3.34      
    File::Spec          3.67      
    JSON                n/a       
    JSON::PP            2.27400_02
    Module::Build       0.4231    
    Module::Signature   n/a       
    Parse::CPAN::Meta   2.150010  
    Test2               1.302195  
    Test::Harness       3.38      
    Test::More          1.302195  
    YAML                n/a       
    YAML::Syck          n/a       
    version             0.9917    


--

Summary of my perl5 (revision 5 version 26 subversion 2) configuration:
   
  Platform:
    osname=darwin
    osvers=19.6.0
    archname=darwin-thread-multi-2level
    uname='darwin harrow.local 19.6.0 darwin kernel version 19.6.0: thu oct 29 22:56:45 pdt 2020; root:xnu-6153.141.2.2~1release_x86_64 x86_64 '
    config_args='-de -Dusethreads -Dprefix=/Users/cpantesting/cpantesting/perl-5.26.2'
    hint=recommended
    useposix=true
    d_sigaction=define
    useithreads=define
    usemultiplicity=define
    use64bitint=define
    use64bitall=define
    uselongdouble=undef
    usemymalloc=n
    default_inc_excludes_dot=define
    bincompat5005=undef
  Compiler:
    cc='cc'
    ccflags ='-fno-common -DPERL_DARWIN -mmacosx-version-min=10.15 -fno-strict-aliasing -pipe -fstack-protector-strong -I/usr/local/include -DPERL_USE_SAFE_PUTENV'
    optimize='-O3'
    cppflags='-fno-common -DPERL_DARWIN -mmacosx-version-min=10.15 -fno-strict-aliasing -pipe -fstack-protector-strong -I/usr/local/include'
    ccversion=''
    gccversion='Apple LLVM 12.0.0 (clang-1200.0.32.27)'
    gccosandvers=''
    intsize=4
    longsize=8
    ptrsize=8
    doublesize=8
    byteorder=12345678
    doublekind=3
    d_longlong=define
    longlongsize=8
    d_longdbl=define
    longdblsize=16
    longdblkind=3
    ivtype='long'
    ivsize=8
    nvtype='double'
    nvsize=8
    Off_t='off_t'
    lseeksize=8
    alignbytes=8
    prototype=define
  Linker and Libraries:
    ld='cc'
    ldflags =' -mmacosx-version-min=10.15 -fstack-protector-strong -L/usr/local/lib'
    libpth=/usr/local/lib /Library/Developer/CommandLineTools/usr/lib/clang/12.0.0/lib /Library/Developer/CommandLineTools/SDKs/MacOSX10.15.sdk/usr/lib /Library/Developer/CommandLineTools/usr/lib /usr/lib
    libs=-lpthread -lgdbm -ldbm -ldl -lm -lutil -lc
    perllibs=-lpthread -ldl -lm -lutil -lc
    libc=
    so=dylib
    useshrplib=false
    libperl=libperl.a
    gnulibc_version=''
  Dynamic Linking:
    dlsrc=dl_dlopen.xs
    dlext=bundle
    d_dlsymun=undef
    ccdlflags=' '
    cccdlflags=' '
    lddlflags=' -mmacosx-version-min=10.15 -bundle -undefined dynamic_lookup -L/usr/local/lib -fstack-protector-strong'


Characteristics of this binary (from libperl): 
  Compile-time options:
    HAS_TIMES
    MULTIPLICITY
    PERLIO_LAYERS
    PERL_COPY_ON_WRITE
    PERL_DONT_CREATE_GVSV
    PERL_IMPLICIT_CONTEXT
    PERL_MALLOC_WRAP
    PERL_OP_PARENT
    PERL_PRESERVE_IVUV
    PERL_USE_SAFE_PUTENV
    USE_64_BIT_ALL
    USE_64_BIT_INT
    USE_ITHREADS
    USE_LARGE_FILES
    USE_LOCALE
    USE_LOCALE_COLLATE
    USE_LOCALE_CTYPE
    USE_LOCALE_NUMERIC
    USE_LOCALE_TIME
    USE_PERLIO
    USE_PERL_ATOF
    USE_REENTRANT_API
  Built under darwin
  Compiled at Dec 29 2020 22:52:38
  %ENV:
    PERL="5.26.2"
    PERL5LIB=""
    PERL5OPT=""
    PERL5_CPANPLUS_IS_RUNNING="49157"
    PERL5_CPAN_IS_RUNNING="49157"
    PERLBREW_HOME="/Users/cpantesting/.perlbrew"
    PERLBREW_MANPATH="/Users/cpantesting/perl5/perlbrew/perls/perl-5.32.0/man"
    PERLBREW_PATH="/Users/cpantesting/perl5/perlbrew/bin:/Users/cpantesting/perl5/perlbrew/perls/perl-5.32.0/bin"
    PERLBREW_PERL="perl-5.32.0"
    PERLBREW_ROOT="/Users/cpantesting/perl5/perlbrew"
    PERLBREW_SHELLRC_VERSION="0.94"
    PERLBREW_VERSION="0.94"
    PERLVER="5.26.2"
    PERL_INLINE_DIRECTORY="/Users/cpantesting/.Inline-5.26.2"
    PERL_MM_USE_DEFAULT="1"
    PERL_USE_UNSAFE_INC="0"
  @INC:
    /Users/cpantesting/cpantesting/perl-5.26.2/lib/site_perl/5.26.2/darwin-thread-multi-2level
    /Users/cpantesting/cpantesting/perl-5.26.2/lib/site_perl/5.26.2
    /Users/cpantesting/cpantesting/perl-5.26.2/lib/5.26.2/darwin-thread-multi-2level
    /Users/cpantesting/cpantesting/perl-5.26.2/lib/5.26.2