Dancer2 v0.301003 Perl 5 v5.26.1 MSWin32-x86-multi-thread-64int
- Status
- Pass
- From
- Alexandr Ciornii (CHORNY)
- Dist
-
Dancer2 v0.301003
- Platform
- Perl 5 v5.26.1 MSWin32-x86-multi-thread-64int
- Date
- 2021-06-03 18:14:42
- ID
- 1ad6ff4a-6bf4-1014-a29d-5cd3eb23aa9f
This distribution has been tested as part of the CPAN Testers
project, supporting the Perl programming language. See
http://wiki.cpantesters.org/ for more information or email
questions to cpan-testers-discuss@perl.org
--
Dear Jason A. Crome,
This is a computer-generated report for Dancer2-0.301003
on perl 5.26.1, created by CPAN-Reporter-1.2018.
Thank you for uploading your work to CPAN. Congratulations!
All tests were successful.
Sections of this report:
* Tester comments
* Program output
* Prerequisites
* Environment and other context
------------------------------
TESTER COMMENTS
------------------------------
Additional comments from tester:
this report is from an automated smoke testing program
and was not reviewed by a human for accuracy
------------------------------
PROGRAM OUTPUT
------------------------------
Output from 'C:\STRAWB~1\c\bin\gmake.exe test':
Skip blib\lib\auto\share\dist\Dancer2\skel\public\404.html (unchanged)
Skip blib\lib\auto\share\dist\Dancer2\skel\public\css\error.css (unchanged)
Skip blib\lib\auto\share\dist\Dancer2\skel\public\images\perldancer-bg.jpg (unchanged)
Skip blib\lib\auto\share\dist\Dancer2\skel\t\002_index_route.t (unchanged)
Skip blib\lib\auto\share\dist\Dancer2\skel\Makefile.PL (unchanged)
Skip blib\lib\auto\share\dist\Dancer2\skel\public\+dispatch.fcgi (unchanged)
Skip blib\lib\auto\share\dist\Dancer2\skel\t\001_base.t (unchanged)
Skip blib\lib\auto\share\dist\Dancer2\skel\environments\production.yml (unchanged)
Skip blib\lib\auto\share\dist\Dancer2\skel\public\images\perldancer.jpg (unchanged)
Skip blib\lib\auto\share\dist\Dancer2\skel\cpanfile (unchanged)
Skip blib\lib\auto\share\dist\Dancer2\skel\public\javascripts\jquery.js (unchanged)
Skip blib\lib\auto\share\dist\Dancer2\.gitignore (unchanged)
Skip blib\lib\auto\share\dist\Dancer2\skel\public\css\style.css (unchanged)
Skip blib\lib\auto\share\dist\Dancer2\skel\.dancer (unchanged)
Skip blib\lib\auto\share\dist\Dancer2\skel\bin\+app.psgi (unchanged)
Skip blib\lib\auto\share\dist\Dancer2\skel\views\index.tt (unchanged)
Skip blib\lib\auto\share\dist\Dancer2\skel\MANIFEST.SKIP (unchanged)
Skip blib\lib\auto\share\dist\Dancer2\skel\public\+dispatch.cgi (unchanged)
Skip blib\lib\auto\share\dist\Dancer2\skel\public\500.html (unchanged)
Skip blib\lib\auto\share\dist\Dancer2\skel\public\favicon.ico (unchanged)
Skip blib\lib\auto\share\dist\Dancer2\skel\views\layouts\main.tt (unchanged)
Skip blib\lib\auto\share\dist\Dancer2\skel\lib\AppFile.pm (unchanged)
Skip blib\lib\auto\share\dist\Dancer2\skel\environments\development.yml (unchanged)
Skip blib\lib\auto\share\dist\Dancer2\skel\config.yml (unchanged)
Skip blib\lib\auto\share\dist\Dancer2\docker\Dockerfile (unchanged)
"C:\Strawberry261\perl\bin\perl.exe" "-MExtUtils::Command::MM" "-MTest::Harness" "-e" "undef *Test::Harness::Switches; test_harness(0, 'blib\lib', 'blib\arch')" t/*.t t/classes/Dancer2-Core-Factory/*.t t/classes/Dancer2-Core-Hook/*.t t/classes/Dancer2-Core-Request/*.t t/classes/Dancer2-Core-Response-Delayed/*.t t/classes/Dancer2-Core-Response/*.t t/classes/Dancer2-Core-Role-Engine/*.t t/classes/Dancer2-Core-Role-Handler/*.t t/classes/Dancer2-Core-Role-HasLocation/*.t t/classes/Dancer2-Core-Role-Serializer/*.t t/classes/Dancer2-Core-Role-StandardResponses/*.t t/classes/Dancer2-Core-Route/*.t t/classes/Dancer2-Core-Runner/*.t t/classes/Dancer2-Core/*.t t/classes/Dancer2/*.t t/dsl/*.t t/examples/*.t t/issues/*.t t/issues/gh-1013/*.t t/issues/gh-1046/*.t t/issues/gh-1216/*.t t/issues/gh-1226/*.t t/issues/gh-1230/*.t t/issues/gh-639/fails/*.t t/issues/gh-639/succeeds/*.t t/issues/gh-650/*.t t/issues/gh-975/*.t t/issues/memleak/*.t t/plugin2/*.t t/roles/*.t t/route-pod-coverage/*.t t/scope_problems/*.t t/template_tiny/*.t
t/00-compile.t ......................................... ok
#
# Versions for all modules listed in MYMETA.json (including optional ones):
#
# === Configure Requires ===
#
# Module Want Have
# ------------------------ -------- --------
# CPAN::Meta::Requirements 2.120620 2.140
# ExtUtils::MakeMaker any 7.34
# File::ShareDir::Install 0.06 0.11
# Module::Metadata any 1.000033
#
# === Build Requires ===
#
# Module Want Have
# ------------------- ---- ----
# ExtUtils::MakeMaker any 7.34
#
# === Test Requires ===
#
# Module Want Have
# ----------------------- ---- --------
# Capture::Tiny 0.12 0.46
# ExtUtils::MakeMaker any 7.34
# File::Spec any 3.74
# HTTP::Cookies any 6.04
# HTTP::Headers any 6.16
# IO::Handle any 1.36
# IPC::Open3 any 1.20
# Pod::Simple::SimpleTree any 3.35
# Template any 2.27
# Test::Builder any 1.302135
# Test::EOL any 2.00
# Test::Fatal any 0.014
# Test::More 0.92 1.302135
#
# === Test Recommends ===
#
# Module Want Have
# ---------- -------- --------
# CPAN::Meta 2.120900 2.150010
#
# === Runtime Requires ===
#
# Module Want Have
# ------------------------------------------- -------- --------
# Attribute::Handlers any 0.99
# CLI::Osprey any 0.08
# Carp any 1.42
# Clone any 0.39
# Config::Any any 0.32
# Digest::SHA any 6.01
# Encode any 2.97
# Exporter 5.57 5.72
# Exporter::Tiny any 1.000000
# File::Basename any 2.85
# File::Copy any 2.32
# File::Path any 2.15
# File::Share any 0.25
# File::Spec any 3.74
# File::Temp any 0.2304
# HTTP::Date any 6.02
# HTTP::Headers::Fast 0.21 0.21
# HTTP::Tiny any 0.070
# HTTP::XSCookies 0.000007 0.000021
# Hash::Merge::Simple any 0.051
# Hash::MultiValue any 0.16
# Import::Into any 1.002005
# JSON::MaybeXS any 1.003010
# List::Util 1.29 1.50
# MIME::Base64 3.13 3.15
# Module::Runtime any 0.016
# Moo 2.000000 2.003004
# Moo::Role any 2.003004
# POSIX any 1.76
# Path::Tiny any 0.104
# Plack 1.0040 1.0047
# Plack::Middleware::FixMissingBodyInRedirect any 0.12
# Plack::Middleware::RemoveRedundantBody any 0.06
# Ref::Util any 0.203
# Role::Tiny 2.000000 2.000006
# Safe::Isa any 1.000008
# Sub::Quote any 2.005000
# Template any 2.27
# Template::Tiny any 1.12
# Test::Builder any 1.302135
# Test::More 0.92 1.302135
# Type::Tiny 1.000006 1.002001
# Types::Standard any 1.002001
# URI::Escape any 3.31
# YAML 0.86 1.24
# parent any 0.236
#
# === Runtime Recommends ===
#
# Module Want Have
# ----------------------- -------- --------
# CGI::Deurl::XS any 0.08
# Class::XSAccessor any 1.19
# Cpanel::JSON::XS any 4.02
# Crypt::URandom any 0.36
# HTTP::XSCookies 0.000015 0.000021
# HTTP::XSHeaders any missing
# Math::Random::ISAAC::XS any 1.004
# MooX::TypeTiny any missing
# Pod::Simple::Search any 3.35
# Pod::Simple::SimpleTree any 3.35
# Scope::Upper any missing
# Type::Tiny::XS any missing
# URL::Encode::XS any 0.03
# YAML::XS any 0.69
#
# === Runtime Suggests ===
#
# Module Want Have
# ----------- ---- ----
# Fcntl any 1.13
# MIME::Types any 2.17
#
# === Runtime Conflicts ===
#
# Module Want Have
# ---------- ----------- --------
# Role::Tiny == 2.000007 2.000006
# YAML == 1.16 1.24
#
t/00-report-prereqs.t .................................. ok
t/app.t ................................................ ok
t/app_alone.t .......................................... ok
t/author-distmeta.t .................................... skipped: these tests are for testing by the author
t/author-no-tabs.t ..................................... skipped: these tests are for testing by the author
t/author-pod-syntax.t .................................. skipped: these tests are for testing by the author
t/auto_page.t .......................................... ok
t/caller.t ............................................. ok
t/charset_server.t ..................................... ok
t/classes/Dancer2-Core-Factory/new.t ................... ok
t/classes/Dancer2-Core-Hook/new.t ...................... ok
t/classes/Dancer2-Core-Request/new.t ................... ok
t/classes/Dancer2-Core-Request/serializers.t ........... ok
t/classes/Dancer2-Core-Response-Delayed/after_hooks.t .. ok
t/classes/Dancer2-Core-Response-Delayed/new.t .......... ok
t/classes/Dancer2-Core-Response/new_from.t ............. ok
t/classes/Dancer2-Core-Role-Engine/with.t .............. ok
t/classes/Dancer2-Core-Role-Handler/with.t ............. ok
t/classes/Dancer2-Core-Role-HasLocation/with.t ......... ok
t/classes/Dancer2-Core-Role-Serializer/with.t .......... ok
t/classes/Dancer2-Core-Role-StandardResponses/with.t ... ok
t/classes/Dancer2-Core-Route/base.t .................... ok
t/classes/Dancer2-Core-Route/deprecated_param_keys.t ... ok
t/classes/Dancer2-Core-Route/match.t ................... ok
t/classes/Dancer2-Core-Runner/environment.t ............ ok
t/classes/Dancer2-Core-Runner/new.t .................... ok
t/classes/Dancer2-Core-Runner/psgi_app.t ............... ok
t/classes/Dancer2-Core/camelize.t ...................... ok
t/classes/Dancer2/import-pragmas.t ..................... ok
t/classes/Dancer2/import.t ............................. ok
t/config-files-logged.t ................................ ok
t/config_multiapp.t .................................... ok
t/config_reader.t ...................................... ok
t/config_settings.t .................................... ok
t/context-in-before.t .................................. ok
t/cookie.t ............................................. ok
t/custom_dsl.t ......................................... ok
t/dancer-test.t ........................................ ok
t/deserialize.t ........................................ ok
t/disp_named_capture.t ................................. ok
# Dispatch test 0, for GET /
# Dispatch test 1, for GET /user/Johnny
# Dispatch test 2, for GET /twoohfour
# Dispatch test 3, for GET /haltme
t/dispatcher.t ......................................... ok
t/dsl/any.t ............................................ ok
t/dsl/app.t ............................................ ok
t/dsl/content.t ........................................ ok
t/dsl/delayed.t ........................................ ok
t/dsl/error_template.t ................................. ok
t/dsl/extend.t ......................................... ok
t/dsl/halt.t ........................................... ok
t/dsl/halt_with_param.t ................................ ok
t/dsl/json.t ........................................... ok
t/dsl/mime.t ........................................... ok
t/dsl/parameters.t ..................................... ok
t/dsl/pass.t ........................................... ok
t/dsl/path.t ........................................... ok
t/dsl/pod.t ............................................ ok
t/dsl/request.t ........................................ ok
t/dsl/request_data.t ................................... ok
t/dsl/route_retvals.t .................................. ok
Subroutine from_json redefined at C:\STRAWB~1\cpan\build\Dancer2-0.301003-0\blib\lib/Dancer2/Serializer/jSoN.pm line 13.
Subroutine to_json redefined at C:\STRAWB~1\cpan\build\Dancer2-0.301003-0\blib\lib/Dancer2/Serializer/jSoN.pm line 15.
Subroutine decode_json redefined at C:\STRAWB~1\cpan\build\Dancer2-0.301003-0\blib\lib/Dancer2/Serializer/jSoN.pm line 17.
Subroutine encode_json redefined at C:\STRAWB~1\cpan\build\Dancer2-0.301003-0\blib\lib/Dancer2/Serializer/jSoN.pm line 23.
Subroutine serialize redefined at C:\STRAWB~1\cpan\build\Dancer2-0.301003-0\blib\lib/Dancer2/Serializer/jSoN.pm line 30.
Subroutine deserialize redefined at C:\STRAWB~1\cpan\build\Dancer2-0.301003-0\blib\lib/Dancer2/Serializer/jSoN.pm line 43.
t/dsl/send_as.t ........................................ ok
t/dsl/send_file.t ...................................... ok
t/dsl/splat.t .......................................... ok
t/dsl/to_app.t ......................................... ok
t/dsl/yaml.t ........................................... ok
t/engine.t ............................................. ok
t/error.t .............................................. ok
t/examples/hello_world.t ............................... ok
t/examples/simple_calculator.t ......................... ok
t/factory.t ............................................ ok
t/file_utils.t ......................................... ok
t/forward.t ............................................ ok
t/forward_before_hook.t ................................ ok
t/forward_hmv_params.t ................................. ok
t/forward_test_tcp.t ................................... ok
t/hooks.t .............................................. ok
t/http_methods.t ....................................... ok
t/http_status.t ........................................ ok
t/issues/gh-1013/gh-1013.t ............................. ok
t/issues/gh-1046/gh-1046.t ............................. ok
t/issues/gh-1070.t ..................................... ok
t/issues/gh-1098.t ..................................... ok
t/issues/gh-1216/gh-1216.t ............................. ok
t/issues/gh-1226/gh-1226.t ............................. ok
t/issues/gh-1230/gh-1230.t ............................. ok
t/issues/gh-1232.t ..................................... ok
t/issues/gh-1289.t ..................................... ok
t/issues/gh-1564.t ..................................... ok
t/issues/gh-596.t ...................................... ok
t/issues/gh-634.t ...................................... ok
t/issues/gh-639/fails/issue.t .......................... ok
t/issues/gh-639/succeeds/issue.t ....................... ok
t/issues/gh-650/gh-650.t ............................... ok
t/issues/gh-723.t ...................................... ok
t/issues/gh-730.t ...................................... ok
t/issues/gh-762.t ...................................... ok
t/issues/gh-794.t ...................................... ok
t/issues/gh-797.t ...................................... ok
t/issues/gh-799.t ...................................... ok
t/issues/gh-811.t ...................................... ok
t/issues/gh-931.t ...................................... ok
t/issues/gh-936.t ...................................... ok
t/issues/gh-944.t ...................................... ok
t/issues/gh-975/gh-975.t ............................... ok
t/issues/memleak/die_in_hooks.t ........................ ok
t/issues/vars-in-forward.t ............................. ok
t/log_die_before_hook.t ................................ ok
t/log_levels.t ......................................... ok
t/logger.t ............................................. ok
t/logger_console.t ..................................... ok
t/memory_cycles.t ...................................... ok
t/mime.t ............................................... ok
t/multi_apps.t ......................................... ok
t/multi_apps_forward.t ................................. ok
t/multiapp_template_hooks.t ............................ ok
t/multipart_content.t .................................. ok
t/named_apps.t ......................................... ok
t/no_default_middleware.t .............................. ok
t/plugin2/basic-2.t .................................... ok
t/plugin2/basic.t ...................................... ok
t/plugin2/define-keywords.t ............................ ok
t/plugin2/find_plugin.t ................................ ok
t/plugin2/from-config.t ................................ ok
t/plugin2/hooks.t ...................................... ok
t/plugin2/inside-plugin.t .............................. ok
t/plugin2/keywords-hooks-namespace.t ................... ok
t/plugin2/memory_cycles.t .............................. ok
t/plugin2/no-app-munging.t ............................. ok
t/plugin2/no-clobbering.t .............................. ok
t/plugin2/no-config.t .................................. ok
t/plugin2/with-plugins.t ............................... ok
t/plugin_import.t ...................................... ok
t/plugin_multiple_apps.t ............................... ok
t/plugin_register.t .................................... ok
t/plugin_syntax.t ...................................... ok
t/prepare_app.t ........................................ ok
t/psgi_app.t ........................................... ok
t/psgi_app_forward_and_pass.t .......................... ok
t/redirect.t ........................................... ok
t/request.t ............................................ ok
t/request_make_forward_to.t ............................ ok
cannot unlink file for C:\DOCUME~1\a\LOCALS~1\Temp\0FY_x\0jFFsxOd87: Permission denied at C:/Strawberry261/perl/lib/File/Temp.pm line 1616.
cannot unlink file for C:\DOCUME~1\a\LOCALS~1\Temp\0FY_x\fXkORfjA7Z: Permission denied at C:/Strawberry261/perl/lib/File/Temp.pm line 1616.
cannot unlink file for C:\DOCUME~1\a\LOCALS~1\Temp\0FY_x\NXDAnat7zF: Permission denied at C:/Strawberry261/perl/lib/File/Temp.pm line 1616.
cannot unlink file for C:\DOCUME~1\a\LOCALS~1\Temp\0FY_x\OZFFzTMre2: Permission denied at C:/Strawberry261/perl/lib/File/Temp.pm line 1616.
cannot unlink file for C:\DOCUME~1\a\LOCALS~1\Temp\0FY_x\Qs3rBTjdPk: Permission denied at C:/Strawberry261/perl/lib/File/Temp.pm line 1616.
cannot remove directory for C:/DOCUME~1/a/LOCALS~1/Temp/0FY_x: Directory not empty at C:/Strawberry261/perl/lib/File/Temp.pm line 1616.
cannot unlink file for C:\DOCUME~1\a\LOCALS~1\Temp\20Fsy\0wkimWYzlC: Permission denied at C:/Strawberry261/perl/lib/File/Temp.pm line 1616.
cannot unlink file for C:\DOCUME~1\a\LOCALS~1\Temp\20Fsy\eKPiu62OEM: Permission denied at C:/Strawberry261/perl/lib/File/Temp.pm line 1616.
cannot unlink file for C:\DOCUME~1\a\LOCALS~1\Temp\20Fsy\JRUxaT_zJR: Permission denied at C:/Strawberry261/perl/lib/File/Temp.pm line 1616.
cannot unlink file for C:\DOCUME~1\a\LOCALS~1\Temp\20Fsy\P5PXGkjwEZ: Permission denied at C:/Strawberry261/perl/lib/File/Temp.pm line 1616.
cannot unlink file for C:\DOCUME~1\a\LOCALS~1\Temp\20Fsy\V_1TLx5rbB: Permission denied at C:/Strawberry261/perl/lib/File/Temp.pm line 1616.
cannot remove directory for C:/DOCUME~1/a/LOCALS~1/Temp/20Fsy: Directory not empty at C:/Strawberry261/perl/lib/File/Temp.pm line 1616.
cannot unlink file for C:\DOCUME~1\a\LOCALS~1\Temp\qEZZh\3LLhYHYRDZ: Permission denied at C:/Strawberry261/perl/lib/File/Temp.pm line 1616.
cannot unlink file for C:\DOCUME~1\a\LOCALS~1\Temp\qEZZh\c2AB1iClai: Permission denied at C:/Strawberry261/perl/lib/File/Temp.pm line 1616.
cannot unlink file for C:\DOCUME~1\a\LOCALS~1\Temp\qEZZh\gE15I3Loy4: Permission denied at C:/Strawberry261/perl/lib/File/Temp.pm line 1616.
cannot unlink file for C:\DOCUME~1\a\LOCALS~1\Temp\qEZZh\GKfwybR5UL: Permission denied at C:/Strawberry261/perl/lib/File/Temp.pm line 1616.
cannot unlink file for C:\DOCUME~1\a\LOCALS~1\Temp\qEZZh\GNrUlU_pPW: Permission denied at C:/Strawberry261/perl/lib/File/Temp.pm line 1616.
cannot remove directory for C:/DOCUME~1/a/LOCALS~1/Temp/qEZZh: Directory not empty at C:/Strawberry261/perl/lib/File/Temp.pm line 1616.
t/request_upload.t ..................................... ok
t/response.t ........................................... ok
t/roles/hook.t ......................................... ok
t/route-pod-coverage/route-pod-coverage.t .............. ok
t/scope_problems/dispatcher_internal_request.t ......... ok
t/scope_problems/keywords_before_template_hook.t ....... ok
t/scope_problems/session_is_cleared.t .................. ok
t/scope_problems/with_return_dies.t .................... ok
t/serializer.t ......................................... ok
t/serializer_json.t .................................... ok
t/serializer_mutable.t ................................. ok
t/serializer_mutable_custom.t .......................... ok
t/session_bad_client_cookie.t .......................... ok
t/session_config.t ..................................... ok
t/session_engines.t .................................... ok
t/session_forward.t .................................... ok
t/session_hooks.t ...................................... ok
t/session_hooks_no_change_id.t ......................... ok
t/session_in_template.t ................................ ok
t/session_lifecycle.t .................................. ok
t/session_object.t ..................................... ok
t/session_yaml_object.t ................................ ok
t/shared_engines.t ..................................... ok
t/static_content.t ..................................... ok
t/template.t ........................................... ok
t/template_default_tokens.t ............................ ok
t/template_ext.t ....................................... ok
t/template_name.t ...................................... ok
t/template_simple.t .................................... ok
t/template_tiny/01_compile.t ........................... ok
t/template_tiny/02_trivial.t ........................... ok
t/template_tiny/03_samples.t ........................... ok
t/template_tiny/04_compat.t ............................ ok
t/template_tiny/05_preparse.t .......................... ok
t/time.t ............................................... ok
t/types.t .............................................. ok
t/uri_for.t ............................................ ok
t/vars.t ............................................... ok
All tests successful.
Files=178, Tests=1918, 284 wallclock secs ( 0.44 usr + 0.98 sys = 1.42 CPU)
Result: PASS
------------------------------
PREREQUISITES
------------------------------
Prerequisite modules loaded:
requires:
Module Need Have
------------------------------------------- -------- --------
Attribute::Handlers 0 0.99
Carp 0 1.42
CLI::Osprey 0 0.08
Clone 0 0.39
Config::Any 0 0.32
Digest::SHA 0 6.01
Encode 0 2.97
Exporter 5.57 5.72
Exporter::Tiny 0 1.000000
File::Basename 0 2.85
File::Copy 0 2.32
File::Path 0 2.15
File::Share 0 0.25
File::Spec 0 3.74
File::Temp 0 0.2304
Hash::Merge::Simple 0 0.051
Hash::MultiValue 0 0.16
HTTP::Date 0 6.02
HTTP::Headers::Fast 0.21 0.21
HTTP::Tiny 0 0.070
HTTP::XSCookies 0.000007 0.000021
Import::Into 0 1.002005
JSON::MaybeXS 0 1.003010
List::Util 1.29 1.50
MIME::Base64 3.13 3.15
Module::Runtime 0 0.016
Moo 2.000000 2.003004
Moo::Role 0 2.003004
parent 0 0.236
Path::Tiny 0 0.104
Plack 1.0040 1.0047
Plack::Middleware::FixMissingBodyInRedirect 0 0.12
Plack::Middleware::RemoveRedundantBody 0 0.06
POSIX 0 1.76
Ref::Util 0 0.203
Role::Tiny 2.000000 2.000006
Safe::Isa 0 1.000008
Sub::Quote 0 2.005000
Template 0 2.27
Template::Tiny 0 1.12
Test::Builder 0 1.302135
Test::More 0.92 1.302135
Type::Tiny 1.000006 1.002001
Types::Standard 0 1.002001
URI::Escape 0 3.31
YAML 0.86 1.24
build_requires:
Module Need Have
------------------------------------------- -------- --------
Capture::Tiny 0.12 0.46
ExtUtils::MakeMaker 0 7.34
File::Spec 0 3.74
HTTP::Cookies 0 6.04
HTTP::Headers 0 6.16
IO::Handle 0 1.36
IPC::Open3 0 1.20
Pod::Simple::SimpleTree 0 3.35
Template 0 2.27
Test::Builder 0 1.302135
Test::EOL 0 2.00
Test::Fatal 0 0.014
Test::More 0.92 1.302135
configure_requires:
Module Need Have
------------------------------------------- -------- --------
CPAN::Meta::Requirements 2.120620 2.140
ExtUtils::MakeMaker 0 7.34
File::ShareDir::Install 0.06 0.11
Module::Metadata 0 1.000033
------------------------------
ENVIRONMENT AND OTHER CONTEXT
------------------------------
Environment variables:
AUTOMATED_TESTING = 1
COMSPEC = C:\WINDOWS\system32\cmd.exe
NUMBER_OF_PROCESSORS = 1
PATH = C:\WINDOWS\system32;C:\WINDOWS;C:\WINDOWS\System32\Wbem;C:\Git\cmd;C:\Strawberry261\c\bin;C:\Strawberry261\perl\site\bin;C:\Strawberry261\perl\bin
PERL5LIB = C:\STRAWB~1\cpan\build\CLI-Osprey-0.08-0/blib/arch;C:\STRAWB~1\cpan\build\CLI-Osprey-0.08-0/blib/lib
PERL5OPT =
PERL5_CPANPLUS_IS_RUNNING = 1148
PERL5_CPAN_IS_RUNNING = 1148
PERL5_CPAN_IS_RUNNING_IN_RECURSION = 1456,1148
PERL_CR_SMOKER_CURRENT = Dancer2-0.301003
PERL_CR_SMOKER_RUNONCE = 1
PERL_EXTUTILS_AUTOINSTALL = --defaultdeps
PERL_HASH_SEED = 0x11111111
PERL_MM_USE_DEFAULT = 1
PERL_USE_UNSAFE_INC = 1
PROCESSOR_IDENTIFIER = x86 Family 16 Model 5 Stepping 3, AuthenticAMD
TEMP = C:\DOCUME~1\a\LOCALS~1\Temp
Perl special variables (and OS-specific diagnostics, for MSWin32):
$^X = C:\Strawberry261\perl\bin\perl.exe
$UID/$EUID = 0 / 0
$GID = 0
$EGID = 0
Win32::GetOSName = WinXP/.Net
Win32::GetOSVersion = Service Pack 3, 5, 1, 2600, 2, 3, 0, 256, 1
Win32::FsType = NTFS
Win32::IsAdminUser = 1
Perl module toolchain versions installed:
Module Have
------------------- --------
CPAN 2.18
CPAN::Meta 2.150010
Cwd 3.74
ExtUtils::CBuilder 0.280230
ExtUtils::Command 7.34
ExtUtils::Install 2.14
ExtUtils::MakeMaker 7.34
ExtUtils::Manifest 1.70
ExtUtils::ParseXS 3.35
File::Spec 3.74
JSON 2.97001
JSON::PP 2.97001
Module::Build 0.4224
Module::Signature 0.81
Parse::CPAN::Meta 2.150010
Test::Harness 3.42
Test::More 1.302135
YAML 1.24
YAML::Syck 1.30
version 0.9918
--
Summary of my perl5 (revision 5 version 26 subversion 1) configuration:
Platform:
osname=MSWin32
osvers=4.0
archname=MSWin32-x86-multi-thread-64int
uname='Win32 strawberry-perl 5.26.1.1 #1 Mon Apr 2 23:57:52 2018 i386'
config_args='undef'
hint=recommended
useposix=true
d_sigaction=undef
useithreads=define
usemultiplicity=define
use64bitint=define
use64bitall=undef
uselongdouble=undef
usemymalloc=n
default_inc_excludes_dot=define
bincompat5005=undef
Compiler:
cc='gcc'
ccflags =' -s -O2 -DWIN32 -D__USE_MINGW_ANSI_STDIO -DPERL_TEXTMODE_SCRIPTS -DPERL_IMPLICIT_CONTEXT -DPERL_IMPLICIT_SYS -DUSE_PERLIO -fwrapv -fno-strict-aliasing -mms-bitfields'
optimize='-s -O2'
cppflags='-DWIN32'
ccversion=''
gccversion='7.1.0'
gccosandvers=''
intsize=4
longsize=4
ptrsize=4
doublesize=8
byteorder=12345678
doublekind=3
d_longlong=define
longlongsize=8
d_longdbl=define
longdblsize=12
longdblkind=3
ivtype='long long'
ivsize=8
nvtype='double'
nvsize=8
Off_t='long long'
lseeksize=8
alignbytes=8
prototype=define
Linker and Libraries:
ld='g++'
ldflags ='-s -L"C:\STRAWB~1\perl\lib\CORE" -L"C:\STRAWB~1\c\lib"'
libpth=C:\STRAWB~1\c\lib C:\STRAWB~1\c\i686-w64-mingw32\lib C:\STRAWB~1\c\lib\gcc\i686-w64-mingw32\7.1.0
libs= -lmoldname -lkernel32 -luser32 -lgdi32 -lwinspool -lcomdlg32 -ladvapi32 -lshell32 -lole32 -loleaut32 -lnetapi32 -luuid -lws2_32 -lmpr -lwinmm -lversion -lodbc32 -lodbccp32 -lcomctl32
perllibs= -lmoldname -lkernel32 -luser32 -lgdi32 -lwinspool -lcomdlg32 -ladvapi32 -lshell32 -lole32 -loleaut32 -lnetapi32 -luuid -lws2_32 -lmpr -lwinmm -lversion -lodbc32 -lodbccp32 -lcomctl32
libc=
so=dll
useshrplib=true
libperl=libperl526.a
gnulibc_version=''
Dynamic Linking:
dlsrc=dl_win32.xs
dlext=xs.dll
d_dlsymun=undef
ccdlflags=' '
cccdlflags=' '
lddlflags='-mdll -s -L"C:\STRAWB~1\perl\lib\CORE" -L"C:\STRAWB~1\c\lib"'
Characteristics of this binary (from libperl):
Compile-time options:
HAS_TIMES
HAVE_INTERP_INTERN
MULTIPLICITY
PERLIO_LAYERS
PERL_COPY_ON_WRITE
PERL_DONT_CREATE_GVSV
PERL_IMPLICIT_CONTEXT
PERL_IMPLICIT_SYS
PERL_MALLOC_WRAP
PERL_OP_PARENT
PERL_PRESERVE_IVUV
USE_64_BIT_INT
USE_ITHREADS
USE_LARGE_FILES
USE_LOCALE
USE_LOCALE_COLLATE
USE_LOCALE_CTYPE
USE_LOCALE_NUMERIC
USE_LOCALE_TIME
USE_PERLIO
USE_PERL_ATOF
Built under MSWin32
Compiled at Apr 3 2018 00:07:56
%ENV:
PERL5LIB="C:\STRAWB~1\cpan\build\CLI-Osprey-0.08-0/blib/arch;C:\STRAWB~1\cpan\build\CLI-Osprey-0.08-0/blib/lib"
PERL5_CPANPLUS_IS_RUNNING="1148"
PERL5_CPAN_IS_RUNNING="1148"
PERL5_CPAN_IS_RUNNING_IN_RECURSION="1456,1148"
PERL_CR_SMOKER_CURRENT="Dancer2-0.301003"
PERL_CR_SMOKER_RUNONCE="1"
PERL_EXTUTILS_AUTOINSTALL="--defaultdeps"
PERL_HASH_SEED="0x11111111"
PERL_MM_USE_DEFAULT="1"
PERL_USE_UNSAFE_INC="1"
@INC:
C:\STRAWB~1\cpan\build\CLI-Osprey-0.08-0/blib/arch
C:\STRAWB~1\cpan\build\CLI-Osprey-0.08-0/blib/lib
C:/Strawberry261/perl/site/lib
C:/Strawberry261/perl/vendor/lib
C:/Strawberry261/perl/lib
.