Back
From: metabase:user:47925a3a-b8af-11e6-9e5a-34f079882221
Subject: PASS ElasticSearch-SearchBuilder-0.19 v5.16.3 GNU/Linux
Date: 2017-07-20T11:03:47Z
This distribution has been tested as part of the CPAN Testers
project, supporting the Perl programming language. See
http://wiki.cpantesters.org/ for more information or email
questions to cpan-testers-discuss@perl.org
--
Dear DRTECH,
This is a computer-generated report for ElasticSearch-SearchBuilder-0.19
on perl 5.16.3, created by App::cpanminus::reporter 0.17 (1.7042).
Thank you for uploading your work to CPAN. Congratulations!
All tests were successful.
Sections of this report:
* Tester comments
* Program output
* Prerequisites
* Environment and other context
------------------------------
TESTER COMMENTS
------------------------------
Additional comments from tester:
none provided
------------------------------
PROGRAM OUTPUT
------------------------------
Output from '':
Building and testing ElasticSearch-SearchBuilder-0.19
cp lib/ElasticSearch/SearchBuilder.pm blib/lib/ElasticSearch/SearchBuilder.pm
Manifying 1 pod document
PERL_DL_NONLAZY=1 "/home/mari0/perl5/perlbrew/perls/perl-5.16.3/bin/perl" "-MExtUtils::Command::MM" "-MTest::Harness" "-e" "undef *Test::Harness::Switches; test_harness(0, 'blib/lib', 'blib/arch')" t/*.t
#
# Testing ElasticSearch::SearchBuilder 0.19, Perl 5.016003, /home/mari0/perl5/perlbrew/perls/perl-5.16.3/bin/perl
t/00-basic.t .............. ok
t/01-filters-field-ops.t .. ok
t/02-filters-unary-ops.t .. ok
t/03-filters-logic.t ...... ok
t/04-queries-field-ops.t .. ok
t/05-queries-unary-ops.t .. ok
t/06-queries-logic.t ...... ok
t/07-raw_dsl.t ............ ok
t/08-misc.t ............... ok
t/manifest.t .............. skipped: Author tests not required for installation
t/pod-coverage.t .......... ok
t/pod.t ................... ok
t/release-eol.t ........... skipped: these tests are for release candidate testing
t/release-no-tabs.t ....... skipped: these tests are for release candidate testing
t/release-pod-syntax.t .... skipped: these tests are for release candidate testing
All tests successful.
Files=15, Tests=832, 1 wallclock secs ( 0.11 usr 0.00 sys + 1.06 cusr 0.02 csys = 1.19 CPU)
Result: PASS
------------------------------
PREREQUISITES
------------------------------
Prerequisite modules loaded:
No requirements found
------------------------------
ENVIRONMENT AND OTHER CONTEXT
------------------------------
Environment variables:
LANG = en_US.UTF-8
LANGUAGE = en_US
LC_ADDRESS = de_DE.UTF-8
LC_IDENTIFICATION = de_DE.UTF-8
LC_MEASUREMENT = de_DE.UTF-8
LC_MONETARY = de_DE.UTF-8
LC_NAME = de_DE.UTF-8
LC_NUMERIC = de_DE.UTF-8
LC_PAPER = de_DE.UTF-8
LC_TELEPHONE = de_DE.UTF-8
LC_TIME = de_DE.UTF-8
PATH = /home/mari0/.nvm/versions/node/v6.10.0/bin:/home/mari0/perl5/perlbrew/bin:/home/mari0/perl5/perlbrew/perls/perl-5.16.3/bin:/usr/sbin:/usr/bin:/sbin:/bin:/usr/local/bin:/usr/local/sbin:/opt/google/chrome:/home/mari0/bin:.
PERLBREW_BASHRC_VERSION = 0.78
PERLBREW_HOME = /home/mari0/.perlbrew
PERLBREW_MANPATH = /home/mari0/perl5/perlbrew/perls/perl-5.16.3/man
PERLBREW_PATH = /home/mari0/perl5/perlbrew/bin:/home/mari0/perl5/perlbrew/perls/perl-5.16.3/bin
PERLBREW_PERL = perl-5.16.3
PERLBREW_ROOT = /home/mari0/perl5/perlbrew
PERLBREW_VERSION = 0.78
SHELL = /bin/bash
TERM = screen-256color
Perl special variables (and OS-specific diagnostics, for MSWin32):
EGID = 1000 4 24 27 30 46 113 128 134 1000
EUID = 1000
EXECUTABLE_NAME = /home/mari0/perl5/perlbrew/perls/perl-5.16.3/bin/perl
GID = 1000 4 24 27 30 46 113 128 134 1000
UID = 1000
Perl module toolchain versions installed:
Module Have
------------------- --------
CPAN 1.9800
CPAN::Meta 2.143240
Cwd 3.39_02
ExtUtils::CBuilder 0.280206
ExtUtils::Command 7.24
ExtUtils::Install 1.58
ExtUtils::MakeMaker 7.24
ExtUtils::Manifest 1.70
ExtUtils::ParseXS 3.30
File::Spec 3.39_02
JSON 2.90
JSON::PP 2.27400
Module::Build 0.4220
Module::Signature n/a
Parse::CPAN::Meta 1.4414
Test::Harness 3.36
Test::More 1.302067
YAML 1.19
YAML::Syck 1.30
version 0.9918
--
Summary of my perl5 (revision 5 version 16 subversion 3) configuration:
Platform:
osname=linux, osvers=4.4.0-51-generic, archname=x86_64-linux
uname='linux h001062119 4.4.0-51-generic #72-ubuntu smp thu nov 24 18:29:54 utc 2016 x86_64 x86_64 x86_64 gnulinux '
config_args='-de -Dprefix=/home/mari0/perl5/perlbrew/perls/perl-5.16.3 -Aeval:scriptdir=/home/mari0/perl5/perlbrew/perls/perl-5.16.3/bin'
hint=recommended, useposix=true, d_sigaction=define
useithreads=undef, usemultiplicity=undef
useperlio=define, d_sfio=undef, uselargefiles=define, usesocks=undef
use64bitint=define, use64bitall=define, uselongdouble=undef
usemymalloc=n, bincompat5005=undef
Compiler:
cc='cc', ccflags ='-fno-strict-aliasing -pipe -fstack-protector -I/usr/local/include -D_LARGEFILE_SOURCE -D_FILE_OFFSET_BITS=64',
optimize='-O2',
cppflags='-fno-strict-aliasing -pipe -fstack-protector -I/usr/local/include'
ccversion='', gccversion='5.4.0 20160609', gccosandvers=''
intsize=4, longsize=8, ptrsize=8, doublesize=8, byteorder=12345678
d_longlong=define, longlongsize=8, d_longdbl=define, longdblsize=16
ivtype='long', ivsize=8, nvtype='double', nvsize=8, Off_t='off_t', lseeksize=8
alignbytes=8, prototype=define
Linker and Libraries:
ld='cc', ldflags =' -fstack-protector -L/usr/local/lib'
libpth=/usr/local/lib /lib/x86_64-linux-gnu /lib/../lib /usr/lib/x86_64-linux-gnu /usr/lib/../lib /lib /usr/lib
libs=-lnsl -ldl -lm -lcrypt -lutil -lc
perllibs=-lnsl -ldl -lm -lcrypt -lutil -lc
libc=libc-2.23.so, so=so, useshrplib=false, libperl=libperl.a
gnulibc_version='2.23'
Dynamic Linking:
dlsrc=dl_dlopen.xs, dlext=so, d_dlsymun=undef, ccdlflags='-Wl,-E'
cccdlflags='-fPIC', lddlflags='-shared -O2 -L/usr/local/lib -fstack-protector'
Characteristics of this binary (from libperl):
Compile-time options: HAS_TIMES PERLIO_LAYERS PERL_DONT_CREATE_GVSV
PERL_MALLOC_WRAP PERL_PRESERVE_IVUV USE_64_BIT_ALL
USE_64_BIT_INT USE_LARGE_FILES USE_LOCALE
USE_LOCALE_COLLATE USE_LOCALE_CTYPE
USE_LOCALE_NUMERIC USE_PERLIO USE_PERL_ATOF
Locally applied patches:
Devel::PatchPerl 1.38
Built under linux
Compiled at Dec 1 2016 13:25:39
%ENV:
PERLBREW_BASHRC_VERSION="0.78"
PERLBREW_HOME="/home/mari0/.perlbrew"
PERLBREW_MANPATH="/home/mari0/perl5/perlbrew/perls/perl-5.16.3/man"
PERLBREW_PATH="/home/mari0/perl5/perlbrew/bin:/home/mari0/perl5/perlbrew/perls/perl-5.16.3/bin"
PERLBREW_PERL="perl-5.16.3"
PERLBREW_ROOT="/home/mari0/perl5/perlbrew"
PERLBREW_VERSION="0.78"
@INC:
/home/mari0/perl5/perlbrew/perls/perl-5.16.3/lib/site_perl/5.16.3/x86_64-linux
/home/mari0/perl5/perlbrew/perls/perl-5.16.3/lib/site_perl/5.16.3
/home/mari0/perl5/perlbrew/perls/perl-5.16.3/lib/5.16.3/x86_64-linux
/home/mari0/perl5/perlbrew/perls/perl-5.16.3/lib/5.16.3
.