Back
From: metabase:user:320bfe00-2aae-11df-837a-5e0a49663a4f
Subject: PASS Dist-Zilla-Util-Git-Wrapper-0.004002 v5.27.2 GNU/Linux
Date: 2017-07-26T05:56:02Z
This distribution has been tested as part of the CPAN Testers
project, supporting the Perl programming language. See
http://wiki.cpantesters.org/ for more information or email
questions to cpan-testers-discuss@perl.org
--
Dear Kent Fredric,
This is a computer-generated report for Dist-Zilla-Util-Git-Wrapper-0.004002
on perl 5.27.2, created by CPAN-Reporter-1.2018.
Thank you for uploading your work to CPAN. Congratulations!
All tests were successful.
Sections of this report:
* Tester comments
* Program output
* Prerequisites
* Environment and other context
------------------------------
TESTER COMMENTS
------------------------------
Additional comments from tester:
this report is from an automated smoke testing program
and was not reviewed by a human for accuracy
------------------------------
PROGRAM OUTPUT
------------------------------
Output from '/usr/bin/make test':
PERL_DL_NONLAZY=1 "/tmp/basesmoker-reloperl-NY_Y/bin/perl" "-MExtUtils::Command::MM" "-MTest::Harness" "-e" "undef *Test::Harness::Switches; test_harness(0, 'blib/lib', 'blib/arch')" t/*.t t/00-compile/*.t
t/00-compile/lib_Dist_Zilla_Util_Git_Wrapper_pm.t ... ok
t/00-compile/lib_Dist_Zilla_UtilRole_MaybeGit_pm.t .. ok
# Git Version: 2.11.0
t/00-report-git-version.t ........................... ok
#
# Versions for all modules listed in MYMETA.json (including optional ones):
#
# === Configure Requires ===
#
# Module Want Have
# ------------------- ---- ----
# ExtUtils::MakeMaker any 7.30
#
# === Configure Recommends ===
#
# Module Want Have
# ------------------- ---- ----
# ExtUtils::MakeMaker 7.00 7.30
#
# === Configure Suggests ===
#
# Module Want Have
# -------- ------- ----
# JSON::PP 2.27300 2.94
#
# === Build Requires ===
#
# Module Want Have
# ------------------- ---- ----
# ExtUtils::MakeMaker any 7.30
#
# === Test Requires ===
#
# Module Want Have
# -------------------------------- ---- --------
# ExtUtils::MakeMaker any 7.30
# File::Spec any 3.68
# Log::Contextual::LogDispatchouli any 0.001000
# Log::Dispatchouli any 2.015
# Path::Tiny any 0.104
# Sort::Versions any 1.62
# Test::Fatal any 0.014
# Test::More any 1.302086
#
# === Test Recommends ===
#
# Module Want Have
# ------------------- -------- --------
# CPAN::Meta 2.120900 2.150010
# ExtUtils::MakeMaker 7.00 7.30
# Path::Tiny 0.058 0.104
# Test::More 0.99 1.302086
#
# === Runtime Requires ===
#
# Module Want Have
# --------------------------------- ---- --------
# Dist::Zilla::UtilRole::MaybeZilla any 0.002000
# Git::Wrapper any 0.047
# Moose any 2.2006
# Moose::Role any 2.2006
# strict any 1.11
# utf8 any 1.19
# warnings any 1.37
#
# === Runtime Recommends ===
#
# Module Want Have
# ------ ----- ------
# Moose 2.000 2.2006
#
t/00-report-prereqs.t ............................... ok
t/basic.t ........................................... ok
t/utilrole.t ........................................ ok
All tests successful.
Files=6, Tests=12, 2 wallclock secs ( 0.03 usr 0.02 sys + 1.34 cusr 0.27 csys = 1.66 CPU)
Result: PASS
------------------------------
PREREQUISITES
------------------------------
Prerequisite modules loaded:
requires:
Module Need Have
--------------------------------- ----- --------
Dist::Zilla::UtilRole::MaybeZilla 0 0.002000
Git::Wrapper 0 0.047
Moose 0 2.2006
Moose::Role 0 2.2006
perl 5.008 5.027002
strict 0 1.11
utf8 0 1.19
warnings 0 1.37
build_requires:
Module Need Have
--------------------------------- ----- --------
ExtUtils::MakeMaker 0 7.30
File::Spec 0 3.68
Log::Contextual::LogDispatchouli 0 0.001000
Log::Dispatchouli 0 2.015
Path::Tiny 0 0.104
Sort::Versions 0 1.62
Test::Fatal 0 0.014
Test::More 0 1.302086
configure_requires:
Module Need Have
--------------------------------- ----- --------
ExtUtils::MakeMaker 0 7.30
perl 5.008 5.027002
------------------------------
ENVIRONMENT AND OTHER CONTEXT
------------------------------
Environment variables:
AUTOMATED_TESTING = 1
LANG = C
PATH = /home/sand/bin:/usr/local/bin:/usr/bin:/bin:/usr/games:/usr/local/perl/bin:/usr/X11/bin:/sbin:/usr/sbin
PERL5LIB = /tmp/loop_over_bdir-6612-IsG7rQ/FusionInventory-Agent-2.3.19-0/blib/arch:/tmp/loop_over_bdir-6612-IsG7rQ/FusionInventory-Agent-2.3.19-0/blib/lib:/tmp/loop_over_bdir-6612-IsG7rQ/Net-DNS-1.11-0/blib/arch:/tmp/loop_over_bdir-6612-IsG7rQ/Net-DNS-1.11-0/blib/lib
PERL5OPT =
PERL5_CPANPLUS_IS_RUNNING = 31475
PERL5_CPAN_IS_RUNNING = 31475
PERL_CANARY_STABILITY_NOPROMPT = 1
PERL_MM_USE_DEFAULT = 1
PERL_USE_UNSAFE_INC = 1
SHELL = /usr/bin/zsh
TERM = screen
Perl special variables (and OS-specific diagnostics, for MSWin32):
$^X = /tmp/basesmoker-reloperl-NY_Y/bin/perl
$UID/$EUID = 1005 / 1005
$GID = 1005 1005
$EGID = 1005 1005
Perl module toolchain versions installed:
Module Have
------------------- --------
CPAN 2.18
CPAN::Meta 2.150010
Cwd 3.68
ExtUtils::CBuilder 0.280228
ExtUtils::Command 7.30
ExtUtils::Install 2.14
ExtUtils::MakeMaker 7.30
ExtUtils::Manifest 1.70
ExtUtils::ParseXS 3.34
File::Spec 3.68
JSON 2.94
JSON::PP 2.94
Module::Build 0.4224
Module::Signature 0.81
Parse::CPAN::Meta 2.150010
Test::Harness 3.39
Test::More 1.302086
YAML 1.23
YAML::Syck 1.30
version 0.9918
--
Summary of my perl5 (revision 5 version 27 subversion 2) configuration:
Commit id: cf07591c56a81be8313edfa55671e8e741db95b3
Platform:
osname=linux
osvers=4.9.0-3-amd64
archname=x86_64-linux-ld
uname='linux k93stretch 4.9.0-3-amd64 #1 smp debian 4.9.30-2+deb9u2 (2017-06-26) x86_64 gnulinux '
config_args='-Dprefix=/home/sand/src/perl/repoperls/installed-perls/host/k93stretch/v5.27.2/9a27 -Dmyhostname=k93stretch -Dinstallusrbinperl=n -Uversiononly -Dusedevel -des -Ui_db -Dlibswanted=cl pthread socket inet nsl gdbm dbm malloc dl ld sun m crypt sec util c cposix posix ucb BSD gdbm_compat -Uuseithreads -Duselongdouble -DDEBUGGING=-g'
hint=recommended
useposix=true
d_sigaction=define
useithreads=undef
usemultiplicity=undef
use64bitint=define
use64bitall=define
uselongdouble=define
usemymalloc=n
default_inc_excludes_dot=define
bincompat5005=undef
Compiler:
cc='cc'
ccflags ='-fwrapv -fno-strict-aliasing -pipe -fstack-protector-strong -I/usr/local/include -D_LARGEFILE_SOURCE -D_FILE_OFFSET_BITS=64'
optimize='-O2 -g'
cppflags='-fwrapv -fno-strict-aliasing -pipe -fstack-protector-strong -I/usr/local/include'
ccversion=''
gccversion='6.3.0 20170516'
gccosandvers=''
intsize=4
longsize=8
ptrsize=8
doublesize=8
byteorder=12345678
doublekind=3
d_longlong=define
longlongsize=8
d_longdbl=define
longdblsize=16
longdblkind=3
ivtype='long'
ivsize=8
nvtype='long double'
nvsize=16
Off_t='off_t'
lseeksize=8
alignbytes=16
prototype=define
Linker and Libraries:
ld='cc'
ldflags =' -fstack-protector-strong -L/usr/local/lib'
libpth=/usr/local/lib /usr/lib/gcc/x86_64-linux-gnu/6/include-fixed /usr/include/x86_64-linux-gnu /usr/lib /lib/x86_64-linux-gnu /lib/../lib /usr/lib/x86_64-linux-gnu /usr/lib/../lib /lib
libs=-lpthread -lnsl -ldl -lm -lcrypt -lutil -lc
perllibs=-lpthread -lnsl -ldl -lm -lcrypt -lutil -lc
libc=libc-2.24.so
so=so
useshrplib=false
libperl=libperl.a
gnulibc_version='2.24'
Dynamic Linking:
dlsrc=dl_dlopen.xs
dlext=so
d_dlsymun=undef
ccdlflags='-Wl,-E'
cccdlflags='-fPIC'
lddlflags='-shared -O2 -g -L/usr/local/lib -fstack-protector-strong'
Characteristics of this binary (from libperl):
Compile-time options:
HAS_TIMES
PERLIO_LAYERS
PERL_COPY_ON_WRITE
PERL_DONT_CREATE_GVSV
PERL_MALLOC_WRAP
PERL_OP_PARENT
PERL_PRESERVE_IVUV
PERL_USE_DEVEL
USE_64_BIT_ALL
USE_64_BIT_INT
USE_LARGE_FILES
USE_LOCALE
USE_LOCALE_COLLATE
USE_LOCALE_CTYPE
USE_LOCALE_NUMERIC
USE_LOCALE_TIME
USE_LONG_DOUBLE
USE_PERLIO
USE_PERL_ATOF
Built under linux
Compiled at Jul 25 2017 04:18:49
%ENV:
PERL5LIB="/tmp/loop_over_bdir-6612-IsG7rQ/FusionInventory-Agent-2.3.19-0/blib/arch:/tmp/loop_over_bdir-6612-IsG7rQ/FusionInventory-Agent-2.3.19-0/blib/lib:/tmp/loop_over_bdir-6612-IsG7rQ/Net-DNS-1.11-0/blib/arch:/tmp/loop_over_bdir-6612-IsG7rQ/Net-DNS-1.11-0/blib/lib"
PERL5OPT=""
PERL5_CPANPLUS_IS_RUNNING="31475"
PERL5_CPAN_IS_RUNNING="31475"
PERL_CANARY_STABILITY_NOPROMPT="1"
PERL_MM_USE_DEFAULT="1"
PERL_USE_UNSAFE_INC="1"
@INC:
/tmp/loop_over_bdir-6612-IsG7rQ/FusionInventory-Agent-2.3.19-0/blib/arch
/tmp/loop_over_bdir-6612-IsG7rQ/FusionInventory-Agent-2.3.19-0/blib/lib
/tmp/loop_over_bdir-6612-IsG7rQ/Net-DNS-1.11-0/blib/arch
/tmp/loop_over_bdir-6612-IsG7rQ/Net-DNS-1.11-0/blib/lib
/home/sand/src/perl/repoperls/installed-perls/host/k93stretch/v5.27.2/9a27/lib/site_perl/5.27.2/x86_64-linux-ld
/home/sand/src/perl/repoperls/installed-perls/host/k93stretch/v5.27.2/9a27/lib/site_perl/5.27.2
/home/sand/src/perl/repoperls/installed-perls/host/k93stretch/v5.27.2/9a27/lib/5.27.2/x86_64-linux-ld
/home/sand/src/perl/repoperls/installed-perls/host/k93stretch/v5.27.2/9a27/lib/5.27.2
.