Report for grok-0.26

Back
From: metabase:user:3215efbe-2aae-11df-837a-5e0a49663a4f
Subject: PASS grok-0.26 v5.16.1 GNU/Linux
Date: 2013-02-25T17:09:25Z

This distribution has been tested as part of the CPAN Testers
project, supporting the Perl programming language.  See
http://wiki.cpantesters.org/ for more information or email
questions to cpan-testers-discuss@perl.org


--
Dear Hinrik Orn Sigurdsson,

This is a computer-generated report for grok-0.26
on perl 5.16.1, created by CPAN-Reporter-1.2009.

Thank you for uploading your work to CPAN.  Congratulations!
All tests were successful.

Sections of this report:

    * Tester comments
    * Program output
    * Prerequisites
    * Environment and other context

------------------------------
TESTER COMMENTS
------------------------------

Additional comments from tester:

this report is from an automated smoke testing program
and was not reviewed by a human for accuracy

------------------------------
PROGRAM OUTPUT
------------------------------

Output from '/usr/bin/make test':

PERL_DL_NONLAZY=1 /opt/perl/threads/5.16.1/bin/perl "-MExtUtils::Command::MM" "-e" "test_harness(0, 'blib/lib', 'blib/arch')" t/*.t t/02_source/*.t t/03_opts/*.t t/04_targets/*.t
# Pod::Parser version 1.60
# Pod::Simple version 3.25
# Pod::Text version 3.17
# Pod::Xhtml version 1.61
t/01_compile.t .............. ok
t/02_source/01_pod5.t ....... ok
t/02_source/02_pod6.t ....... ok
t/03_opts/01_file.t ......... ok
t/03_opts/02_output.t ....... ok
t/03_opts/03_help.t ......... ok
t/03_opts/04_version.t ...... ok
t/03_opts/05_no_pager.t ..... ok
t/03_opts/06_index.t ........ ok
t/03_opts/07_locate.t ....... ok
t/04_targets/01_file.t ...... ok
t/04_targets/02_synopsis.t .. ok
t/04_targets/03_function.t .. ok
t/04_targets/04_tablet.t .... ok
t/04_targets/05_failure.t ... ok
t/04_targets/06_man_page.t .. ok
All tests successful.

Test Summary Report
-------------------
t/04_targets/02_synopsis.t (Wstat: 0 Tests: 4 Failed: 0)
  TODO passed:   3
Files=16, Tests=58,  6 wallclock secs ( 0.04 usr  0.02 sys +  5.52 cusr  0.53 csys =  6.11 CPU)
Result: PASS

------------------------------
PREREQUISITES
------------------------------

Prerequisite modules loaded:

requires:

    Module                   Need   Have    
    ------------------------ ------ --------
    File::HomeDir            0      1.00    
    File::ShareDir           0      1.03    
    File::Temp               0      0.22_90 
    Getopt::Long             2.33   2.38    
    IO::Interactive          0      0.0.6   
    IO::Socket::SSL          0      1.84    
    LWP::UserAgent           0      6.04    
    Perl6::Doc               0.47   0.47    
    Perl6::Perldoc           v0.0.5 0.000010
    Perl6::Perldoc::To::Ansi 0.07   0.11    
    Pod::Parser              1.36   1.60    
    Pod::Text::Ansi          0.04   0.05    
    Pod::Xhtml               0      1.61    

build_requires:

    Module                   Need   Have    
    ------------------------ ------ --------
    Test::More               0.47   0.98_03 
    Test::Script             1.07   1.07    

configure_requires:

    Module                   Need   Have    
    ------------------------ ------ --------
    ExtUtils::MakeMaker      6.30   6.64    


------------------------------
ENVIRONMENT AND OTHER CONTEXT
------------------------------

Environment variables:

    AUTOMATED_TESTING = 1
    LANG = C
    PATH = /opt/perl/threads/5.16.1/bin:/usr/local/sbin:/usr/local/bin:/usr/sbin:/usr/bin:/sbin:/bin:/usr/games
    PERL5LIB = 
    PERL5OPT = 
    PERL5_CPANPLUS_IS_RUNNING = 18963
    PERL5_CPAN_IS_RUNNING = 18963
    PERL5_CPAN_IS_RUNNING_IN_RECURSION = 1959,18963
    PERL_CR_SMOKER_CURRENT = grok-0.26
    PERL_EXTUTILS_AUTOINSTALL = --defaultdeps
    PERL_MM_USE_DEFAULT = 1
    SHELL = /bin/bash
    TERM = screen

Perl special variables (and OS-specific diagnostics, for MSWin32):

    $^X = /opt/perl/threads/5.16.1/bin/perl
    $UID/$EUID = 1000 / 1000
    $GID = 1000 4 24 27 30 46 112 113 1000
    $EGID = 1000 4 24 27 30 46 112 113 1000

Perl module toolchain versions installed:

    Module              Have    
    ------------------- --------
    CPAN                2.00    
    CPAN::Meta          2.120351
    Cwd                 3.40    
    ExtUtils::CBuilder  0.280205
    ExtUtils::Command   1.17    
    ExtUtils::Install   1.58    
    ExtUtils::MakeMaker 6.64    
    ExtUtils::Manifest  1.61    
    ExtUtils::ParseXS   3.18    
    File::Spec          3.40    
    JSON                2.53    
    JSON::PP            2.27200 
    Module::Build       0.4003  
    Module::Signature   0.70    
    Parse::CPAN::Meta   1.4404  
    Test::Harness       3.26    
    Test::More          0.98_03 
    YAML                0.84    
    YAML::Syck          1.23_01 
    version             0.9901  


--

Summary of my perl5 (revision 5 version 16 subversion 1) configuration:
   
  Platform:
    osname=linux, osvers=3.2.0-31-virtual, archname=x86_64-linux-thread-multi
    uname='linux cpansmoker 3.2.0-31-virtual #50-ubuntu smp fri sep 7 16:36:36 utc 2012 x86_64 x86_64 x86_64 gnulinux '
    config_args='-des -Dprefix=/opt/perl/threads/5.16.1 -Dusethreads'
    hint=recommended, useposix=true, d_sigaction=define
    useithreads=define, usemultiplicity=define
    useperlio=define, d_sfio=undef, uselargefiles=define, usesocks=undef
    use64bitint=define, use64bitall=define, uselongdouble=undef
    usemymalloc=n, bincompat5005=undef
  Compiler:
    cc='cc', ccflags ='-D_REENTRANT -D_GNU_SOURCE -fno-strict-aliasing -pipe -fstack-protector -I/usr/local/include -D_LARGEFILE_SOURCE -D_FILE_OFFSET_BITS=64',
    optimize='-O2',
    cppflags='-D_REENTRANT -D_GNU_SOURCE -fno-strict-aliasing -pipe -fstack-protector -I/usr/local/include'
    ccversion='', gccversion='4.6.3', gccosandvers=''
    intsize=4, longsize=8, ptrsize=8, doublesize=8, byteorder=12345678
    d_longlong=define, longlongsize=8, d_longdbl=define, longdblsize=16
    ivtype='long', ivsize=8, nvtype='double', nvsize=8, Off_t='off_t', lseeksize=8
    alignbytes=8, prototype=define
  Linker and Libraries:
    ld='cc', ldflags =' -fstack-protector -L/usr/local/lib'
    libpth=/usr/local/lib /lib/x86_64-linux-gnu /lib/../lib /usr/lib/x86_64-linux-gnu /usr/lib/../lib /lib /usr/lib
    libs=-lnsl -lgdbm -ldb -ldl -lm -lcrypt -lutil -lpthread -lc -lgdbm_compat
    perllibs=-lnsl -ldl -lm -lcrypt -lutil -lpthread -lc
    libc=, so=so, useshrplib=false, libperl=libperl.a
    gnulibc_version='2.15'
  Dynamic Linking:
    dlsrc=dl_dlopen.xs, dlext=so, d_dlsymun=undef, ccdlflags='-Wl,-E'
    cccdlflags='-fPIC', lddlflags='-shared -O2 -L/usr/local/lib -fstack-protector'


Characteristics of this binary (from libperl): 
  Compile-time options: HAS_TIMES MULTIPLICITY PERLIO_LAYERS
                        PERL_DONT_CREATE_GVSV PERL_IMPLICIT_CONTEXT
                        PERL_MALLOC_WRAP PERL_PRESERVE_IVUV USE_64_BIT_ALL
                        USE_64_BIT_INT USE_ITHREADS USE_LARGE_FILES
                        USE_LOCALE USE_LOCALE_COLLATE USE_LOCALE_CTYPE
                        USE_LOCALE_NUMERIC USE_PERLIO USE_PERL_ATOF
                        USE_REENTRANT_API
  Built under linux
  Compiled at Oct  7 2012 11:59:52
  %ENV:
    PERL5LIB=""
    PERL5OPT=""
    PERL5_CPANPLUS_IS_RUNNING="18963"
    PERL5_CPAN_IS_RUNNING="18963"
    PERL5_CPAN_IS_RUNNING_IN_RECURSION="1959,18963"
    PERL_CR_SMOKER_CURRENT="grok-0.26"
    PERL_EXTUTILS_AUTOINSTALL="--defaultdeps"
    PERL_MM_USE_DEFAULT="1"
  @INC:
    /opt/perl/threads/5.16.1/lib/site_perl/5.16.1/x86_64-linux-thread-multi
    /opt/perl/threads/5.16.1/lib/site_perl/5.16.1
    /opt/perl/threads/5.16.1/lib/5.16.1/x86_64-linux-thread-multi
    /opt/perl/threads/5.16.1/lib/5.16.1
    .