Report for Unicode-Stringprep-1.103

Back
From: metabase:user:322078bc-2aae-11df-837a-5e0a49663a4f
Subject: PASS Unicode-Stringprep-1.103 v5.10.1 FreeBSD
Date: 2011-09-09T23:54:50Z

This distribution has been tested as part of the CPAN Testers
project, supporting the Perl programming language.  See
http://wiki.cpantesters.org/ for more information or email
questions to cpan-testers-discuss@perl.org


--

Dear Claus Faerber,

This is a computer-generated error report created automatically by
CPANPLUS, version 0.9110. Testers personal comments may appear
at the end of this report.

MAKE TEST passed:
t/00_use.t .......................... ok
t/01_references.t ................... ok
t/10_pod_check.t .................... skipped: Test::Pod 1.00 required for testing POD
t/11_pod_coverage.t ................. skipped: Test::Pod::Coverage required for testing POD coverage
t/30_mappings.t ..................... ok
t/31_prohibited_characters.t ........ ok
t/31_prohibited_characters_extra.t .. ok
t/32_nfkc_3_2.t ..................... ok
t/99_perl-5.11.3.t .................. ok
t/nameprep.t ........................ ok
t/nameprep_bytes.t .................. ok
t/nameprep_stored.t ................. ok
t/saslprep.t ........................ ok
t/saslprep_bytes.t .................. ok
All tests successful.
Files=14, Tests=188,  2 wallclock secs ( 0.01 usr  0.23 sys +  0.62 cusr  1.23 csys =  2.09 CPU)
Result: PASS

[MSG] [Sat Sep 10 00:54:00 2011] Sending test report for 'Unicode-Stringprep-1.103'

This report was machine-generated by CPANPLUS::Dist::YACSmoke 0.64.
Powered by minismokebox version 0.54

------------------------------
ENVIRONMENT AND OTHER CONTEXT
------------------------------

Environment variables:

    AUTOMATED_TESTING = 1
    PATH = /sbin:/bin:/usr/sbin:/usr/bin:/usr/games:/usr/local/sbin:/usr/local/bin:/home/cpan/bin
    PERL5LIB = :/usr/home/cpan/pit/bare/conf/perl-5.10.1/.cpanplus/5.10.1/build/Test-Tester-0.107/blib/lib:/usr/home/cpan/pit/bare/conf/perl-5.10.1/.cpanplus/5.10.1/build/Test-Tester-0.107/blib/arch:/usr/home/cpan/pit/bare/conf/perl-5.10.1/.cpanplus/5.10.1/build/Test-NoWarnings-1.03/blib/lib:/usr/home/cpan/pit/bare/conf/perl-5.10.1/.cpanplus/5.10.1/build/Test-NoWarnings-1.03/blib/arch:/usr/home/cpan/pit/bare/conf/perl-5.10.1/.cpanplus/5.10.1/build/Unicode-Stringprep-1.103/blib/lib:/usr/home/cpan/pit/bare/conf/perl-5.10.1/.cpanplus/5.10.1/build/Unicode-Stringprep-1.103/blib/arch
    PERL5_CPANPLUS_IS_RUNNING = 78913
    PERL5_CPANPLUS_IS_VERSION = 0.9110
    PERL5_MINISMOKEBOX = 0.54
    PERL5_YACSMOKE_BASE = /usr/home/cpan/pit/bare/conf/perl-5.10.1
    PERL_EXTUTILS_AUTOINSTALL = --defaultdeps
    PERL_MM_USE_DEFAULT = 1
    SHELL = /usr/local/bin/bash
    TERM = screen

Perl special variables (and OS-specific diagnostics, for MSWin32):

    Perl: $^X = /usr/home/cpan/pit/bare/perl-5.10.1/bin/perl
    UID:  $<  = 1002
    EUID: $>  = 1002
    GID:  $(  = 1002 1002 1002
    EGID: $)  = 1002 1002 1002


-------------------------------


--

Summary of my perl5 (revision 5 version 10 subversion 1) configuration:
   
  Platform:
    osname=freebsd, osvers=7.4-release, archname=i386-freebsd
    uname='freebsd fulcrum.bingosnet.co.uk 7.4-release freebsd 7.4-release #0: thu feb 17 03:51:56 utc 2011 root@walker.cse.buffalo.edu:usrobjusrsrcsysgeneric i386 '
    config_args='-des -Dprefix=/usr/home/cpan/pit/bare/perl-5.10.1'
    hint=recommended, useposix=true, d_sigaction=define
    useithreads=undef, usemultiplicity=undef
    useperlio=define, d_sfio=undef, uselargefiles=define, usesocks=undef
    use64bitint=undef, use64bitall=undef, uselongdouble=undef
    usemymalloc=n, bincompat5005=undef
  Compiler:
    cc='cc', ccflags ='-DHAS_FPSETMASK -DHAS_FLOATINGPOINT_H -fno-strict-aliasing -pipe -fstack-protector -I/usr/local/include',
    optimize='-O',
    cppflags='-DHAS_FPSETMASK -DHAS_FLOATINGPOINT_H -fno-strict-aliasing -pipe -fstack-protector -I/usr/local/include'
    ccversion='', gccversion='4.2.1 20070719  [FreeBSD]', gccosandvers=''
    intsize=4, longsize=4, ptrsize=4, doublesize=8, byteorder=1234
    d_longlong=define, longlongsize=8, d_longdbl=define, longdblsize=12
    ivtype='long', ivsize=4, nvtype='double', nvsize=8, Off_t='off_t', lseeksize=8
    alignbytes=4, prototype=define
  Linker and Libraries:
    ld='cc', ldflags ='-Wl,-E  -fstack-protector -L/usr/local/lib'
    libpth=/usr/lib /usr/local/lib
    libs=-lgdbm -lm -lcrypt -lutil -lc
    perllibs=-lm -lcrypt -lutil -lc
    libc=, so=so, useshrplib=false, libperl=libperl.a
    gnulibc_version=''
  Dynamic Linking:
    dlsrc=dl_dlopen.xs, dlext=so, d_dlsymun=undef, ccdlflags=' '
    cccdlflags='-DPIC -fPIC', lddlflags='-shared  -L/usr/local/lib -fstack-protector'


Characteristics of this binary (from libperl): 
  Compile-time options: PERL_DONT_CREATE_GVSV PERL_MALLOC_WRAP
                        USE_LARGE_FILES USE_PERLIO
  Built under freebsd
  Compiled at Sep  7 2011 20:21:26
  %ENV:
    PERL5LIB=":/usr/home/cpan/pit/bare/conf/perl-5.10.1/.cpanplus/5.10.1/build/Test-Tester-0.107/blib/lib:/usr/home/cpan/pit/bare/conf/perl-5.10.1/.cpanplus/5.10.1/build/Test-Tester-0.107/blib/arch:/usr/home/cpan/pit/bare/conf/perl-5.10.1/.cpanplus/5.10.1/build/Test-NoWarnings-1.03/blib/lib:/usr/home/cpan/pit/bare/conf/perl-5.10.1/.cpanplus/5.10.1/build/Test-NoWarnings-1.03/blib/arch:/usr/home/cpan/pit/bare/conf/perl-5.10.1/.cpanplus/5.10.1/build/Unicode-Stringprep-1.103/blib/lib:/usr/home/cpan/pit/bare/conf/perl-5.10.1/.cpanplus/5.10.1/build/Unicode-Stringprep-1.103/blib/arch"
    PERL5_CPANPLUS_IS_RUNNING="78913"
    PERL5_CPANPLUS_IS_VERSION="0.9110"
    PERL5_MINISMOKEBOX="0.54"
    PERL5_YACSMOKE_BASE="/usr/home/cpan/pit/bare/conf/perl-5.10.1"
    PERL_EXTUTILS_AUTOINSTALL="--defaultdeps"
    PERL_MM_USE_DEFAULT="1"
  @INC:
    /usr/home/cpan/pit/bare/conf/perl-5.10.1/.cpanplus/5.10.1/build/Test-Tester-0.107/blib/lib
    /usr/home/cpan/pit/bare/conf/perl-5.10.1/.cpanplus/5.10.1/build/Test-Tester-0.107/blib/arch
    /usr/home/cpan/pit/bare/conf/perl-5.10.1/.cpanplus/5.10.1/build/Test-NoWarnings-1.03/blib/lib
    /usr/home/cpan/pit/bare/conf/perl-5.10.1/.cpanplus/5.10.1/build/Test-NoWarnings-1.03/blib/arch
    /usr/home/cpan/pit/bare/conf/perl-5.10.1/.cpanplus/5.10.1/build/Unicode-Stringprep-1.103/blib/lib
    /usr/home/cpan/pit/bare/conf/perl-5.10.1/.cpanplus/5.10.1/build/Unicode-Stringprep-1.103/blib/arch
    /usr/home/cpan/pit/bare/perl-5.10.1/lib/5.10.1/i386-freebsd
    /usr/home/cpan/pit/bare/perl-5.10.1/lib/5.10.1
    /usr/home/cpan/pit/bare/perl-5.10.1/lib/site_perl/5.10.1/i386-freebsd
    /usr/home/cpan/pit/bare/perl-5.10.1/lib/site_perl/5.10.1
    .