Report for Google-AJAX-Library-0.022

Back
From: metabase:user:30977d10-2aae-11df-837a-5e0a49663a4f
Subject: PASS Google-AJAX-Library-0.022 v5.8.9 GNU/Linux
Date: 2011-08-05T04:33:45Z

This distribution has been tested as part of the CPAN Testers
project, supporting the Perl programming language.  See
http://wiki.cpantesters.org/ for more information or email
questions to cpan-testers-discuss@perl.org


--
Dear Robert Krimen,

This is a computer-generated report for Google-AJAX-Library-0.022
on perl 5.8.9, created by CPAN-Reporter-1.1902.

Thank you for uploading your work to CPAN.  Congratulations!
All tests were successful.

Sections of this report:

    * Tester comments
    * Program output
    * Prerequisites
    * Environment and other context

------------------------------
TESTER COMMENTS
------------------------------

Additional comments from tester:

this report is from an automated smoke testing program
and was not reviewed by a human for accuracy

------------------------------
PROGRAM OUTPUT
------------------------------

Output from '/usr/bin/make test':

PERL_DL_NONLAZY=1 /home/trushel/perl/perl589/bin/perl "-MExtUtils::Command::MM" "-e" "test_harness(0, 'blib/lib', 'blib/arch')" t/*.t
You are overwriting a locally defined function (file) with an accessor at /home/trushel/perl/perl589/lib/site_perl/5.8.9/x86_64-linux/Moose/Meta/Attribute.pm line 1043
	Moose::Meta::Attribute::_process_accessors('Moose::Meta::Attribute=HASH(0x257bec0)', 'reader', 'file', undef) called at /home/trushel/perl/perl589/lib/site_perl/5.8.9/x86_64-linux/Class/MOP/Attribute.pm line 428
	Class::MOP::Attribute::install_accessors('Moose::Meta::Attribute=HASH(0x257bec0)') called at /home/trushel/perl/perl589/lib/site_perl/5.8.9/x86_64-linux/Moose/Meta/Attribute.pm line 991
	Moose::Meta::Attribute::install_accessors('Moose::Meta::Attribute=HASH(0x257bec0)') called at /home/trushel/perl/perl589/lib/site_perl/5.8.9/x86_64-linux/Class/MOP/Class.pm line 890
	Class::MOP::Class::__ANON__() called at /home/trushel/perl/perl589/lib/site_perl/5.8.9/Try/Tiny.pm line 76
	eval {...} called at /home/trushel/perl/perl589/lib/site_perl/5.8.9/Try/Tiny.pm line 67
	Try::Tiny::try('CODE(0x25755d0)', 'Try::Tiny::Catch=REF(0x257bba0)') called at /home/trushel/perl/perl589/lib/site_perl/5.8.9/x86_64-linux/Class/MOP/Class.pm line 895
	Class::MOP::Class::_post_add_attribute('Moose::Meta::Class=HASH(0x1fdb4b0)', 'Moose::Meta::Attribute=HASH(0x257bec0)') called at /home/trushel/perl/perl589/lib/site_perl/5.8.9/x86_64-linux/Class/MOP/Mixin/HasAttributes.pm line 44
	Class::MOP::Mixin::HasAttributes::add_attribute('Moose::Meta::Class=HASH(0x1fdb4b0)', 'Moose::Meta::Attribute=HASH(0x257bec0)') called at /home/trushel/perl/perl589/lib/site_perl/5.8.9/x86_64-linux/Moose/Meta/Class.pm line 570
	Moose::Meta::Class::add_attribute('Moose::Meta::Class=HASH(0x1fdb4b0)', 'file', 'definition_context', 'HASH(0x255ec70)', 'is', 'ro') called at /home/trushel/perl/perl589/lib/site_perl/5.8.9/x86_64-linux/Moose.pm line 77
	Moose::has('Moose::Meta::Class=HASH(0x1fdb4b0)', 'file', 'is', 'ro') called at /home/trushel/perl/perl589/lib/site_perl/5.8.9/x86_64-linux/Moose/Exporter.pm line 356
	Moose::has('file', 'is', 'ro') called at /home/trushel/cpan/build/5.8.9/Google-AJAX-Library-0.022-maPqnf/blib/lib/Google/AJAX/Library.pm line 32
	require Google/AJAX/Library.pm called at t/01-basic.t line 5
	main::BEGIN() called at /home/trushel/cpan/build/5.8.9/Google-AJAX-Library-0.022-maPqnf/blib/lib/Google/AJAX/Library.pm line 0
	eval {...} called at /home/trushel/cpan/build/5.8.9/Google-AJAX-Library-0.022-maPqnf/blib/lib/Google/AJAX/Library.pm line 0
t/01-basic.t .... ok
You are overwriting a locally defined function (file) with an accessor at /home/trushel/perl/perl589/lib/site_perl/5.8.9/x86_64-linux/Moose/Meta/Attribute.pm line 1043
	Moose::Meta::Attribute::_process_accessors('Moose::Meta::Attribute=HASH(0x24a81f0)', 'reader', 'file', undef) called at /home/trushel/perl/perl589/lib/site_perl/5.8.9/x86_64-linux/Class/MOP/Attribute.pm line 428
	Class::MOP::Attribute::install_accessors('Moose::Meta::Attribute=HASH(0x24a81f0)') called at /home/trushel/perl/perl589/lib/site_perl/5.8.9/x86_64-linux/Moose/Meta/Attribute.pm line 991
	Moose::Meta::Attribute::install_accessors('Moose::Meta::Attribute=HASH(0x24a81f0)') called at /home/trushel/perl/perl589/lib/site_perl/5.8.9/x86_64-linux/Class/MOP/Class.pm line 890
	Class::MOP::Class::__ANON__() called at /home/trushel/perl/perl589/lib/site_perl/5.8.9/Try/Tiny.pm line 76
	eval {...} called at /home/trushel/perl/perl589/lib/site_perl/5.8.9/Try/Tiny.pm line 67
	Try::Tiny::try('CODE(0x24a1900)', 'Try::Tiny::Catch=REF(0x24a7ed0)') called at /home/trushel/perl/perl589/lib/site_perl/5.8.9/x86_64-linux/Class/MOP/Class.pm line 895
	Class::MOP::Class::_post_add_attribute('Moose::Meta::Class=HASH(0x1f07810)', 'Moose::Meta::Attribute=HASH(0x24a81f0)') called at /home/trushel/perl/perl589/lib/site_perl/5.8.9/x86_64-linux/Class/MOP/Mixin/HasAttributes.pm line 44
	Class::MOP::Mixin::HasAttributes::add_attribute('Moose::Meta::Class=HASH(0x1f07810)', 'Moose::Meta::Attribute=HASH(0x24a81f0)') called at /home/trushel/perl/perl589/lib/site_perl/5.8.9/x86_64-linux/Moose/Meta/Class.pm line 570
	Moose::Meta::Class::add_attribute('Moose::Meta::Class=HASH(0x1f07810)', 'file', 'definition_context', 'HASH(0x248af90)', 'is', 'ro') called at /home/trushel/perl/perl589/lib/site_perl/5.8.9/x86_64-linux/Moose.pm line 77
	Moose::has('Moose::Meta::Class=HASH(0x1f07810)', 'file', 'is', 'ro') called at /home/trushel/perl/perl589/lib/site_perl/5.8.9/x86_64-linux/Moose/Exporter.pm line 356
	Moose::has('file', 'is', 'ro') called at /home/trushel/cpan/build/5.8.9/Google-AJAX-Library-0.022-maPqnf/blib/lib/Google/AJAX/Library.pm line 32
	require Google/AJAX/Library.pm called at t/02-library.t line 5
	main::BEGIN() called at /home/trushel/cpan/build/5.8.9/Google-AJAX-Library-0.022-maPqnf/blib/lib/Google/AJAX/Library.pm line 0
	eval {...} called at /home/trushel/cpan/build/5.8.9/Google-AJAX-Library-0.022-maPqnf/blib/lib/Google/AJAX/Library.pm line 0
t/02-library.t .. ok
You are overwriting a locally defined function (file) with an accessor at /home/trushel/perl/perl589/lib/site_perl/5.8.9/x86_64-linux/Moose/Meta/Attribute.pm line 1043
	Moose::Meta::Attribute::_process_accessors('Moose::Meta::Attribute=HASH(0x31d7c60)', 'reader', 'file', undef) called at /home/trushel/perl/perl589/lib/site_perl/5.8.9/x86_64-linux/Class/MOP/Attribute.pm line 428
	Class::MOP::Attribute::install_accessors('Moose::Meta::Attribute=HASH(0x31d7c60)') called at /home/trushel/perl/perl589/lib/site_perl/5.8.9/x86_64-linux/Moose/Meta/Attribute.pm line 991
	Moose::Meta::Attribute::install_accessors('Moose::Meta::Attribute=HASH(0x31d7c60)') called at /home/trushel/perl/perl589/lib/site_perl/5.8.9/x86_64-linux/Class/MOP/Class.pm line 890
	Class::MOP::Class::__ANON__() called at /home/trushel/perl/perl589/lib/site_perl/5.8.9/Try/Tiny.pm line 76
	eval {...} called at /home/trushel/perl/perl589/lib/site_perl/5.8.9/Try/Tiny.pm line 67
	Try::Tiny::try('CODE(0x31d1410)', 'Try::Tiny::Catch=REF(0x31d7940)') called at /home/trushel/perl/perl589/lib/site_perl/5.8.9/x86_64-linux/Class/MOP/Class.pm line 895
	Class::MOP::Class::_post_add_attribute('Moose::Meta::Class=HASH(0x2c373c0)', 'Moose::Meta::Attribute=HASH(0x31d7c60)') called at /home/trushel/perl/perl589/lib/site_perl/5.8.9/x86_64-linux/Class/MOP/Mixin/HasAttributes.pm line 44
	Class::MOP::Mixin::HasAttributes::add_attribute('Moose::Meta::Class=HASH(0x2c373c0)', 'Moose::Meta::Attribute=HASH(0x31d7c60)') called at /home/trushel/perl/perl589/lib/site_perl/5.8.9/x86_64-linux/Moose/Meta/Class.pm line 570
	Moose::Meta::Class::add_attribute('Moose::Meta::Class=HASH(0x2c373c0)', 'file', 'definition_context', 'HASH(0x31baab0)', 'is', 'ro') called at /home/trushel/perl/perl589/lib/site_perl/5.8.9/x86_64-linux/Moose.pm line 77
	Moose::has('Moose::Meta::Class=HASH(0x2c373c0)', 'file', 'is', 'ro') called at /home/trushel/perl/perl589/lib/site_perl/5.8.9/x86_64-linux/Moose/Exporter.pm line 356
	Moose::has('file', 'is', 'ro') called at /home/trushel/cpan/build/5.8.9/Google-AJAX-Library-0.022-maPqnf/blib/lib/Google/AJAX/Library.pm line 32
	require Google/AJAX/Library.pm called at t/03-fetch.t line 5
	main::BEGIN() called at /home/trushel/cpan/build/5.8.9/Google-AJAX-Library-0.022-maPqnf/blib/lib/Google/AJAX/Library.pm line 0
	eval {...} called at /home/trushel/cpan/build/5.8.9/Google-AJAX-Library-0.022-maPqnf/blib/lib/Google/AJAX/Library.pm line 0
t/03-fetch.t .... skipped: Not going out to http://ajax.googleapis.com to test fetching/writing
All tests successful.
Files=3, Tests=61,  4 wallclock secs ( 0.04 usr  0.00 sys +  1.07 cusr  0.13 csys =  1.24 CPU)
Result: PASS

------------------------------
PREREQUISITES
------------------------------

Prerequisite modules loaded:

requires:

    Module              Need Have  
    ------------------- ---- ------
    Carp::Clan::Share   0    0.013 
    HTML::Declare       0    2.4   
    LWP::UserAgent      0    6.02  
    Moose               0    2.0202
    Path::Class         0    0.24  
    URI                 0    1.58  

build_requires:

    Module              Need Have  
    ------------------- ---- ------
    File::Temp          0    0.22  
    Test::Most          0    0.24  

configure_requires:

    Module              Need Have  
    ------------------- ---- ------
    ExtUtils::MakeMaker 6.31 6.58  


------------------------------
ENVIRONMENT AND OTHER CONTEXT
------------------------------

Environment variables:

    AUTOMATED_TESTING = 1
    LANG = en_US.UTF-8
    LANGUAGE = en
    LC_COLLATE = C
    LC_MONETARY = C
    LC_NUMERIC = C
    LC_TIME = C
    PATH = /usr/local/sbin:/usr/local/bin:/usr/sbin:/usr/bin:/sbin:/bin
    PERL5LIB = 
    PERL5OPT = 
    PERL5_CPANPLUS_IS_RUNNING = 31727
    PERL5_CPAN_IS_RUNNING = 31727
    PERL5_CPAN_IS_RUNNING_IN_RECURSION = 2491,31727
    PERL_CR_SMOKER_CURRENT = Google-AJAX-Library-0.022
    PERL_EXTUTILS_AUTOINSTALL = --defaultdeps
    PERL_MM_USE_DEFAULT = 1
    SHELL = /bin/bash
    TERM = xterm

Perl special variables (and OS-specific diagnostics, for MSWin32):

    $^X = /home/trushel/perl/perl589/bin/perl
    $UID/$EUID = 138375 / 138375
    $GID = 5762 4 20 21 24 25 26 30 44 46 104 105 119 122 431 5762
    $EGID = 5762 4 20 21 24 25 26 30 44 46 104 105 119 122 431 5762

Perl module toolchain versions installed:

    Module              Have    
    ------------------- --------
    CPAN                1.97_51 
    Cwd                 3.33    
    ExtUtils::CBuilder  0.280202
    ExtUtils::Command   1.16    
    ExtUtils::Install   1.54    
    ExtUtils::MakeMaker 6.58    
    ExtUtils::Manifest  1.58    
    ExtUtils::ParseXS   2.2206  
    File::Spec          3.33    
    Module::Build       0.3800  
    Module::Signature   n/a     
    Test::Harness       3.23    
    Test::More          0.98    
    YAML                0.73    
    YAML::Syck          1.17    
    version             0.93    


--

Summary of my perl5 (revision 5 version 8 subversion 9) configuration:
  Platform:
    osname=linux, osvers=2.6.32-33-generic, archname=x86_64-linux
    uname='linux trushel-glaptop 2.6.32-33-generic #70-ubuntu smp thu jul 7 21:13:52 utc 2011 x86_64 gnulinux '
    config_args=''
    hint=recommended, useposix=true, d_sigaction=define
    usethreads=undef use5005threads=undef useithreads=undef usemultiplicity=undef
    useperlio=define d_sfio=undef uselargefiles=define usesocks=undef
    use64bitint=define use64bitall=define uselongdouble=undef
    usemymalloc=n, bincompat5005=undef
  Compiler:
    cc='cc', ccflags ='-fno-strict-aliasing -pipe -I/usr/local/include -D_LARGEFILE_SOURCE -D_FILE_OFFSET_BITS=64',
    optimize='-O2',
    cppflags='-fno-strict-aliasing -pipe -I/usr/local/include'
    ccversion='', gccversion='4.4.3', gccosandvers=''
    intsize=4, longsize=8, ptrsize=8, doublesize=8, byteorder=12345678
    d_longlong=define, longlongsize=8, d_longdbl=define, longdblsize=16
    ivtype='long', ivsize=8, nvtype='double', nvsize=8, Off_t='off_t', lseeksize=8
    alignbytes=8, prototype=define
  Linker and Libraries:
    ld='cc', ldflags =' -L/usr/local/lib'
    libpth=/usr/local/lib /lib /usr/lib /lib64 /usr/lib64
    libs=-lnsl -ldb -ldl -lm -lcrypt -lutil -lc
    perllibs=-lnsl -ldl -lm -lcrypt -lutil -lc
    libc=/lib/libc-2.11.1.so, so=so, useshrplib=false, libperl=libperl.a
    gnulibc_version='2.11.1'
  Dynamic Linking:
    dlsrc=dl_dlopen.xs, dlext=so, d_dlsymun=undef, ccdlflags='-Wl,-E'
    cccdlflags='-fPIC', lddlflags='-shared -O2 -L/usr/local/lib'


Characteristics of this binary (from libperl): 
  Compile-time options: PERL_MALLOC_WRAP USE_64_BIT_ALL USE_64_BIT_INT
                        USE_FAST_STDIO USE_LARGE_FILES USE_PERLIO
  Built under linux
  Compiled at Aug  1 2011 06:12:45
  %ENV:
    PERL5LIB=""
    PERL5OPT=""
    PERL5_CPANPLUS_IS_RUNNING="31727"
    PERL5_CPAN_IS_RUNNING="31727"
    PERL5_CPAN_IS_RUNNING_IN_RECURSION="2491,31727"
    PERL_CR_SMOKER_CURRENT="Google-AJAX-Library-0.022"
    PERL_EXTUTILS_AUTOINSTALL="--defaultdeps"
    PERL_MM_USE_DEFAULT="1"
  @INC:
    /home/trushel/perl/perl589/lib/5.8.9/x86_64-linux
    /home/trushel/perl/perl589/lib/5.8.9
    /home/trushel/perl/perl589/lib/site_perl/5.8.9/x86_64-linux
    /home/trushel/perl/perl589/lib/site_perl/5.8.9
    .