Back
From: metabase:user:314402c4-2aae-11df-837a-5e0a49663a4f
Subject: PASS Spreadsheet-ParseXLSX-0.27 v5.24.0 GNU/Linux
Date: 2017-06-25T20:51:48Z
This distribution has been tested as part of the CPAN Testers
project, supporting the Perl programming language. See
http://wiki.cpantesters.org/ for more information or email
questions to cpan-testers-discuss@perl.org
--
Dear Jesse Luehrs,
This is a computer-generated report for Spreadsheet-ParseXLSX-0.27
on perl 5.24.0, created by CPAN-Reporter-1.2018.
Thank you for uploading your work to CPAN. Congratulations!
All tests were successful.
Sections of this report:
* Tester comments
* Program output
* Prerequisites
* Environment and other context
------------------------------
TESTER COMMENTS
------------------------------
Additional comments from tester:
none provided
------------------------------
PROGRAM OUTPUT
------------------------------
Output from '/usr/bin/make test':
PERL_DL_NONLAZY=1 "/opt/perl-5.24.0/bin/perl5.24.0" "-MExtUtils::Command::MM" "-MTest::Harness" "-e" "undef *Test::Harness::Switches; test_harness(0, 'blib/lib', 'blib/arch')" t/*.t
t/00-compile.t ............. ok
t/basic.t .................. ok
t/bug-10.t ................. ok
t/bug-11.t ................. ok
t/bug-12.t ................. ok
t/bug-13.t ................. ok
t/bug-14.t ................. ok
t/bug-15.t ................. ok
t/bug-16.t ................. ok
t/bug-17.t ................. ok
t/bug-2.t .................. ok
t/bug-29.t ................. ok
t/bug-3.t .................. ok
t/bug-32.t ................. ok
t/bug-38.t ................. ok
t/bug-4.t .................. ok
t/bug-41.t ................. ok
t/bug-5.t .................. ok
t/bug-57.t ................. ok
t/bug-6-2.t ................ ok
t/bug-6.t .................. ok
t/bug-61.t ................. ok
t/bug-7.t .................. ok
t/bug-8.t .................. ok
t/cell-to-row-col.t ........ ok
t/column-formats.t ......... ok
t/encryption.t ............. ok
t/hidden-row-and-column.t .. ok
t/hidden-sheet.t ........... ok
t/page-Setup.t ............. ok
t/rich.t ................... ok
t/tab-color.t .............. ok
t/target-abspath.t ......... ok
All tests successful.
Files=33, Tests=1211, 48 wallclock secs ( 0.08 usr 0.13 sys + 46.82 cusr 1.30 csys = 48.33 CPU)
Result: PASS
------------------------------
PREREQUISITES
------------------------------
Prerequisite modules loaded:
requires:
Module Need Have
----------------------- ----- --------
Archive::Zip 0 1.59
base 0 2.23
Crypt::Mode::CBC 0 0.048
Crypt::Mode::ECB 0 0.048
Digest::SHA 0 5.96
Encode 0 2.91
File::Temp 0 0.2304
Graphics::ColorUtils 0 0.17
MIME::Base64 0 3.15
OLE::Storage_Lite 0 0.19
perl 5.010 5.024000
Scalar::Util 0 1.48
Spreadsheet::ParseExcel 0.61 0.65
strict 0 1.11
warnings 0 1.36
XML::Twig 0 3.52
build_requires:
Module Need Have
----------------------- ----- --------
blib 1.01 1.06
ExtUtils::MakeMaker 0 7.30
File::Spec 0 3.63
IO::Handle 0 1.36
IPC::Open3 0 1.20
Test::More 0.88 1.302086
configure_requires:
Module Need Have
----------------------- ----- --------
ExtUtils::MakeMaker 0 7.30
------------------------------
ENVIRONMENT AND OTHER CONTEXT
------------------------------
Environment variables:
LANG = en_US.UTF-8
PATH = /usr/local/bin:/usr/bin:/bin:/usr/local/sbin:/usr/sbin:/sbin:/home/cpansand/bin/linux-gnu:/home/cpansand/bin/sh:/home/cpansand/bin:/usr/games:/home/cpansand/devel:/home/eserte/src/srezic-misc/scripts
PERL5LIB = /home/cpansand/.cpan/build/2017062518/Graphics-ColorUtils-0.17-a5sXu7/blib/arch:/home/cpansand/.cpan/build/2017062518/Graphics-ColorUtils-0.17-a5sXu7/blib/lib:/home/cpansand/.cpan/build/2017062518/MouseX-Foreign-1.000-yKBTDf/blib/arch:/home/cpansand/.cpan/build/2017062518/MouseX-Foreign-1.000-yKBTDf/blib/lib:/home/cpansand/.cpan/build/2017062518/Math-Combinatorics-0.09-xXhr1h/blib/arch:/home/cpansand/.cpan/build/2017062518/Math-Combinatorics-0.09-xXhr1h/blib/lib:/home/cpansand/.cpan/build/2017062518/File-Touch-0.11-3xEonr/blib/arch:/home/cpansand/.cpan/build/2017062518/File-Touch-0.11-3xEonr/blib/lib
PERL5OPT =
PERL5_CPANPLUS_IS_RUNNING = 8909
PERL5_CPAN_IS_RUNNING = 8909
PERL5_CPAN_IS_RUNNING_IN_RECURSION = 8851,8909
PERLDOC = -MPod::Perldoc::ToTextOverstrike
PERL_BATCH = yes
PERL_CANARY_STABILITY_NOPROMPT = 1
PERL_CPAN_REPORTER_CONFIG = /var/tmp/cpansmoker-1023/2017062518/cpanreporter_000_config.ini
PERL_EXTUTILS_AUTOINSTALL = --defaultdeps
SHELL = /usr/bin/zsh
TERM = screen
TMPDIR = /var/tmp/cpansmoker-1023/2017062518
Perl special variables (and OS-specific diagnostics, for MSWin32):
$^X = /opt/perl-5.24.0/bin/perl5.24.0
$UID/$EUID = 1023 / 1023
$GID = 1023 1023
$EGID = 1023 1023
Perl module toolchain versions installed:
Module Have
------------------- --------
CPAN 2.11
CPAN::Meta 2.150005
Cwd 3.63
ExtUtils::CBuilder 0.280225
ExtUtils::Command 7.30
ExtUtils::Install 2.06
ExtUtils::MakeMaker 7.30
ExtUtils::Manifest 1.70
ExtUtils::ParseXS 3.31
File::Spec 3.63
JSON 2.94
JSON::PP 2.94
Module::Build 0.4224
Module::Signature 0.81
Parse::CPAN::Meta 1.4417
Test::Harness 3.36
Test::More 1.302086
YAML 1.23
YAML::Syck 1.30
version 0.9916
--
Summary of my perl5 (revision 5 version 24 subversion 0) configuration:
Platform:
osname=linux, osvers=4.4.0-81-generic, archname=x86_64-linux
uname='linux ubuntu16 4.4.0-81-generic #104-ubuntu smp wed jun 14 08:17:06 utc 2017 x86_64 x86_64 x86_64 gnulinux '
config_args='-ds -e -Dprefix=/opt/perl-5.24.0 -Dcf_email=srezic@cpan.org'
hint=recommended, useposix=true, d_sigaction=define
useithreads=undef, usemultiplicity=undef
use64bitint=define, use64bitall=define, uselongdouble=undef
usemymalloc=n, bincompat5005=undef
Compiler:
cc='cc', ccflags ='-fwrapv -fno-strict-aliasing -pipe -fstack-protector-strong -I/usr/local/include -D_LARGEFILE_SOURCE -D_FILE_OFFSET_BITS=64',
optimize='-O2',
cppflags='-fwrapv -fno-strict-aliasing -pipe -fstack-protector-strong -I/usr/local/include'
ccversion='', gccversion='5.4.0 20160609', gccosandvers=''
intsize=4, longsize=8, ptrsize=8, doublesize=8, byteorder=12345678, doublekind=3
d_longlong=define, longlongsize=8, d_longdbl=define, longdblsize=16, longdblkind=3
ivtype='long', ivsize=8, nvtype='double', nvsize=8, Off_t='off_t', lseeksize=8
alignbytes=8, prototype=define
Linker and Libraries:
ld='cc', ldflags =' -fstack-protector-strong -L/usr/local/lib'
libpth=/usr/local/lib /usr/lib/gcc/x86_64-linux-gnu/5/include-fixed /usr/include/x86_64-linux-gnu /usr/lib /lib/x86_64-linux-gnu /lib/../lib /usr/lib/x86_64-linux-gnu /usr/lib/../lib /lib
libs=-lpthread -lnsl -lgdbm -ldb -ldl -lm -lcrypt -lutil -lc -lgdbm_compat
perllibs=-lpthread -lnsl -ldl -lm -lcrypt -lutil -lc
libc=libc-2.23.so, so=so, useshrplib=false, libperl=libperl.a
gnulibc_version='2.23'
Dynamic Linking:
dlsrc=dl_dlopen.xs, dlext=so, d_dlsymun=undef, ccdlflags='-Wl,-E'
cccdlflags='-fPIC', lddlflags='-shared -O2 -L/usr/local/lib -fstack-protector-strong'
Characteristics of this binary (from libperl):
Compile-time options: HAS_TIMES PERLIO_LAYERS PERL_COPY_ON_WRITE
PERL_DONT_CREATE_GVSV
PERL_HASH_FUNC_ONE_AT_A_TIME_HARD PERL_MALLOC_WRAP
PERL_PRESERVE_IVUV USE_64_BIT_ALL USE_64_BIT_INT
USE_LARGE_FILES USE_LOCALE USE_LOCALE_COLLATE
USE_LOCALE_CTYPE USE_LOCALE_NUMERIC USE_LOCALE_TIME
USE_PERLIO USE_PERL_ATOF
Built under linux
Compiled at Jun 21 2017 18:22:24
%ENV:
PERL5LIB="/home/cpansand/.cpan/build/2017062518/Graphics-ColorUtils-0.17-a5sXu7/blib/arch:/home/cpansand/.cpan/build/2017062518/Graphics-ColorUtils-0.17-a5sXu7/blib/lib:/home/cpansand/.cpan/build/2017062518/MouseX-Foreign-1.000-yKBTDf/blib/arch:/home/cpansand/.cpan/build/2017062518/MouseX-Foreign-1.000-yKBTDf/blib/lib:/home/cpansand/.cpan/build/2017062518/Math-Combinatorics-0.09-xXhr1h/blib/arch:/home/cpansand/.cpan/build/2017062518/Math-Combinatorics-0.09-xXhr1h/blib/lib:/home/cpansand/.cpan/build/2017062518/File-Touch-0.11-3xEonr/blib/arch:/home/cpansand/.cpan/build/2017062518/File-Touch-0.11-3xEonr/blib/lib"
PERL5OPT=""
PERL5_CPANPLUS_IS_RUNNING="8909"
PERL5_CPAN_IS_RUNNING="8909"
PERL5_CPAN_IS_RUNNING_IN_RECURSION="8851,8909"
PERLDOC="-MPod::Perldoc::ToTextOverstrike"
PERL_BATCH="yes"
PERL_CANARY_STABILITY_NOPROMPT="1"
PERL_CPAN_REPORTER_CONFIG="/var/tmp/cpansmoker-1023/2017062518/cpanreporter_000_config.ini"
PERL_EXTUTILS_AUTOINSTALL="--defaultdeps"
@INC:
/home/cpansand/.cpan/build/2017062518/Graphics-ColorUtils-0.17-a5sXu7/blib/arch
/home/cpansand/.cpan/build/2017062518/Graphics-ColorUtils-0.17-a5sXu7/blib/lib
/home/cpansand/.cpan/build/2017062518/MouseX-Foreign-1.000-yKBTDf/blib/arch
/home/cpansand/.cpan/build/2017062518/MouseX-Foreign-1.000-yKBTDf/blib/lib
/home/cpansand/.cpan/build/2017062518/Math-Combinatorics-0.09-xXhr1h/blib/arch
/home/cpansand/.cpan/build/2017062518/Math-Combinatorics-0.09-xXhr1h/blib/lib
/home/cpansand/.cpan/build/2017062518/File-Touch-0.11-3xEonr/blib/arch
/home/cpansand/.cpan/build/2017062518/File-Touch-0.11-3xEonr/blib/lib
/opt/perl-5.24.0/lib/site_perl/5.24.0/x86_64-linux
/opt/perl-5.24.0/lib/site_perl/5.24.0
/opt/perl-5.24.0/lib/5.24.0/x86_64-linux
/opt/perl-5.24.0/lib/5.24.0
.