Report for Math-Complex-1.57

Back
From: metabase:user:322078bc-2aae-11df-837a-5e0a49663a4f
Subject: PASS Math-Complex-1.57 v5.12.3 Windows (Cygwin)
Date: 2011-05-10T09:58:51Z

This distribution has been tested as part of the CPAN Testers
project, supporting the Perl programming language.  See
http://wiki.cpantesters.org/ for more information or email
questions to cpan-testers-discuss@perl.org


--

Dear ZEFRAM,

This is a computer-generated error report created automatically by
CPANPLUS, version 0.9105. Testers personal comments may appear
at the end of this report.

MAKE TEST passed: PERL_DL_NONLAZY=1 /home/administrator/perl-5.12.3/bin/perl.exe "-MExtUtils::Command::MM" "-e" "test_harness(0, 'blib/lib', 'blib/arch')" t/*.t
t/Complex.t ....... ok
t/pod-coverage.t .. skipped: Test::Pod::Coverage 1.00 required for testing POD coverage
t/pod.t ........... skipped: Test::Pod 1.00 required for testing POD
t/Trig.t .......... ok
t/underbar.t ...... ok
All tests successful.
Files=5, Tests=1231,  1 wallclock secs ( 0.22 usr  0.02 sys +  1.15 cusr  0.15 csys =  1.54 CPU)
Result: PASS

[MSG] [Tue May 10 10:58:50 2011] Sending test report for 'Math-Complex-1.57'

This report was machine-generated by CPANPLUS::Dist::YACSmoke 0.62.

------------------------------
ENVIRONMENT AND OTHER CONTEXT
------------------------------

Environment variables:

    AUTOMATED_TESTING = 1
    COMSPEC = C:\Windows\system32\cmd.exe
    LANG = C.UTF-8
    NUMBER_OF_PROCESSORS = 1
    PATH = /home/administrator/perl-5.12.3/bin:/usr/local/bin:/usr/bin:/cygdrive/c/Windows/system32:/cygdrive/c/Windows:/cygdrive/c/Windows/System32/Wbem:/cygdrive/c/strawberry/c/bin:/cygdrive/c/strawberry/perl/site/bin:/cygdrive/c/strawberry/perl/bin
    PERL5LIB = :/home/administrator/.cpanplus/5.12.3/build/Math-Complex-1.57/blib/lib:/home/administrator/.cpanplus/5.12.3/build/Math-Complex-1.57/blib/arch
    PERL5_CPANIDX_URL = http://cpan.mirror.local/cpanidx/
    PERL5_CPANPLUS_IS_RUNNING = 1004
    PERL5_CPANPLUS_IS_VERSION = 0.9105
    PERL_EXTUTILS_AUTOINSTALL = --defaultdeps
    PERL_MM_USE_DEFAULT = 1
    PROCESSOR_IDENTIFIER = Intel64 Family 6 Model 26 Stepping 5, GenuineIntel
    TERM = xterm

Perl special variables (and OS-specific diagnostics, for MSWin32):

    Perl: $^X = /home/administrator/perl-5.12.3/bin/perl
    UID:  $<  = 10500
    EUID: $>  = 10500
    GID:  $(  = 10512 0 544 545 10512
    EGID: $)  = 10512 0 544 545 10512


-------------------------------


--

Summary of my perl5 (revision 5 version 12 subversion 3) configuration:
   
  Platform:
    osname=cygwin, osvers=1.7.9(0.23753), archname=cygwin-thread-multi-64int
    uname='cygwin_nt-6.0-wow64 jabber1 1.7.9(0.23753) 2011-03-29 10:10 i686 cygwin '
    config_args='-des -Dprefix=/home/administrator/perl-5.12.3 -Dusethreads -Duse64bitint'
    hint=recommended, useposix=true, d_sigaction=define
    useithreads=define, usemultiplicity=define
    useperlio=define, d_sfio=undef, uselargefiles=define, usesocks=undef
    use64bitint=define, use64bitall=undef, uselongdouble=undef
    usemymalloc=y, bincompat5005=undef
  Compiler:
    cc='gcc', ccflags ='-DPERL_USE_SAFE_PUTENV -U__STRICT_ANSI__ -fno-strict-aliasing -pipe -fstack-protector -I/usr/local/include',
    optimize='-O3',
    cppflags='-DPERL_USE_SAFE_PUTENV -U__STRICT_ANSI__ -fno-strict-aliasing -pipe -fstack-protector -I/usr/local/include'
    ccversion='', gccversion='4.3.4 20090804 (release) 1', gccosandvers=''
    intsize=4, longsize=4, ptrsize=4, doublesize=8, byteorder=12345678
    d_longlong=define, longlongsize=8, d_longdbl=define, longdblsize=12
    ivtype='long long', ivsize=8, nvtype='double', nvsize=8, Off_t='off_t', lseeksize=8
    alignbytes=8, prototype=define
  Linker and Libraries:
    ld='g++', ldflags =' -Wl,--enable-auto-import -Wl,--export-all-symbols -Wl,--stack,8388608 -Wl,--enable-auto-image-base -fstack-protector -L/usr/local/lib'
    libpth=/usr/local/lib /usr/lib /lib
    libs=-lgdbm -ldb -ldl -lcrypt -lgdbm_compat
    perllibs=-ldl -lcrypt
    libc=/usr/lib/libc.a, so=dll, useshrplib=true, libperl=cygperl5_12_3.dll
    gnulibc_version=''
  Dynamic Linking:
    dlsrc=dl_dlopen.xs, dlext=dll, d_dlsymun=undef, ccdlflags=' '
    cccdlflags=' ', lddlflags=' --shared  -Wl,--enable-auto-import -Wl,--export-all-symbols -Wl,--stack,8388608 -Wl,--enable-auto-image-base -L/usr/local/lib -fstack-protector'


Characteristics of this binary (from libperl): 
  Compile-time options: MULTIPLICITY MYMALLOC PERL_DONT_CREATE_GVSV
                        PERL_IMPLICIT_CONTEXT PERL_USE_SAFE_PUTENV
                        USE_64_BIT_INT USE_ITHREADS USE_LARGE_FILES
                        USE_PERLIO USE_PERL_ATOF USE_REENTRANT_API
  Built under cygwin
  Compiled at May 10 2011 10:20:53
  %ENV:
    PERL5LIB=":/home/administrator/.cpanplus/5.12.3/build/Math-Complex-1.57/blib/lib:/home/administrator/.cpanplus/5.12.3/build/Math-Complex-1.57/blib/arch"
    PERL5_CPANIDX_URL="http://cpan.mirror.local/cpanidx/"
    PERL5_CPANPLUS_IS_RUNNING="1004"
    PERL5_CPANPLUS_IS_VERSION="0.9105"
    PERL_EXTUTILS_AUTOINSTALL="--defaultdeps"
    PERL_MM_USE_DEFAULT="1"
    CYGWIN=""
  @INC:
    /home/administrator/.cpanplus/5.12.3/build/Math-Complex-1.57/blib/lib
    /home/administrator/.cpanplus/5.12.3/build/Math-Complex-1.57/blib/arch
    /home/administrator/perl-5.12.3/lib/site_perl/5.12.3/cygwin-thread-multi-64int
    /home/administrator/perl-5.12.3/lib/site_perl/5.12.3
    /home/administrator/perl-5.12.3/lib/5.12.3/cygwin-thread-multi-64int
    /home/administrator/perl-5.12.3/lib/5.12.3
    .