DateTime-Format-Strptime v1.79 Perl 5 v5.39.5 x86_64-linux

Status
Pass
From
Slaven Rezić
Dist
DateTime-Format-Strptime v1.79
Platform
Perl 5 v5.39.5 x86_64-linux
Date
2023-12-23 19:04:33
ID
1b6e8cdc-a1c6-11ee-bd8c-56196e8775ea
This distribution has been tested as part of the CPAN Testers
project, supporting the Perl programming language.  See
http://wiki.cpantesters.org/ for more information or email
questions to cpan-testers-discuss@perl.org


--
Dear Dave Rolsky,

This is a computer-generated report for DateTime-Format-Strptime-1.79
on perl 5.39.5, created by CPAN-Reporter-1.2019.

Thank you for uploading your work to CPAN.  Congratulations!
All tests were successful.

Sections of this report:

    * Tester comments
    * Program output
    * Prerequisites
    * Environment and other context

------------------------------
TESTER COMMENTS
------------------------------

Additional comments from tester:

none provided

------------------------------
PROGRAM OUTPUT
------------------------------

Output from '/usr/bin/make test':

PERL_DL_NONLAZY=1 "/opt/perl-5.39.5/bin/perl5.39.5" "-MExtUtils::Command::MM" "-MTest::Harness" "-e" "undef *Test::Harness::Switches; test_harness(0, 'blib/lib', 'blib/arch')" t/*.t
# 
# Versions for all modules listed in MYMETA.json (including optional ones):
# 
# === Configure Requires ===
# 
#     Module              Want Have
#     ------------------- ---- ----
#     ExtUtils::MakeMaker  any 7.70
# 
# === Configure Suggests ===
# 
#     Module      Want Have
#     -------- ------- ----
#     JSON::PP 2.27300 4.16
# 
# === Build Requires ===
# 
#     Module              Want Have
#     ------------------- ---- ----
#     ExtUtils::MakeMaker  any 7.70
# 
# === Test Requires ===
# 
#     Module              Want     Have
#     ------------------- ---- --------
#     ExtUtils::MakeMaker  any     7.70
#     File::Spec           any     3.90
#     FindBin              any     1.54
#     Test::Builder        any 1.302195
#     Test::Fatal          any    0.017
#     Test::More          0.96 1.302195
#     Test::Warnings       any    0.032
#     lib                  any     0.65
#     utf8                 any     1.25
# 
# === Test Recommends ===
# 
#     Module         Want     Have
#     ---------- -------- --------
#     CPAN::Meta 2.120900 2.150010
# 
# === Runtime Requires ===
# 
#     Module                     Want  Have
#     -------------------------- ---- -----
#     Carp                        any  1.54
#     DateTime                   1.00  1.65
#     DateTime::Locale           1.30  1.40
#     DateTime::Locale::Base      any  1.40
#     DateTime::Locale::FromData  any  1.40
#     DateTime::TimeZone         2.09  2.60
#     Exporter                    any  5.77
#     Params::ValidationCompiler  any  0.31
#     Specio                     0.33  0.48
#     Specio::Declare             any  0.48
#     Specio::Exporter            any  0.48
#     Specio::Library::Builtins   any  0.48
#     Specio::Library::String     any  0.48
#     Try::Tiny                   any  0.31
#     constant                    any  1.33
#     parent                      any 0.241
#     strict                      any  1.13
#     warnings                    any  1.67
# 
t/00-report-prereqs.t .... ok
t/basic.t ................ ok
t/edge.t ................. ok
t/errors.t ............... ok
t/format-datetime.t ...... ok
t/format-with-locale.t ... ok
t/generated-locale-de.t .. ok
t/generated-locale-en.t .. ok
t/generated-locale-ga.t .. ok
t/generated-locale-pt.t .. ok
t/generated-locale-zh.t .. ok
t/import.t ............... ok
t/zones.t ................ ok
All tests successful.
Files=13, Tests=143, 12 wallclock secs ( 0.15 usr  0.03 sys +  5.08 cusr  0.64 csys =  5.90 CPU)
Result: PASS

------------------------------
PREREQUISITES
------------------------------

Prerequisite modules loaded:

requires:

    Module                     Need Have    
    -------------------------- ---- --------
    Carp                       0    1.54    
    constant                   0    1.33    
    DateTime                   1.00 1.65    
    DateTime::Locale           1.30 1.40    
    DateTime::Locale::Base     0    1.40    
    DateTime::Locale::FromData 0    1.40    
    DateTime::TimeZone         2.09 2.60    
    Exporter                   0    5.77    
    Params::ValidationCompiler 0    0.31    
    parent                     0    0.241   
    Specio                     0.33 0.48    
    Specio::Declare            0    0.48    
    Specio::Exporter           0    0.48    
    Specio::Library::Builtins  0    0.48    
    Specio::Library::String    0    0.48    
    strict                     0    1.13    
    Try::Tiny                  0    0.31    
    warnings                   0    1.67    

build_requires:

    Module                     Need Have    
    -------------------------- ---- --------
    ExtUtils::MakeMaker        0    7.70    
    File::Spec                 0    3.90    
    FindBin                    0    1.54    
    lib                        0    0.65    
    Test::Builder              0    1.302195
    Test::Fatal                0    0.017   
    Test::More                 0.96 1.302195
    Test::Warnings             0    0.032   
    utf8                       0    1.25    

configure_requires:

    Module                     Need Have    
    -------------------------- ---- --------
    ExtUtils::MakeMaker        0    7.70    


------------------------------
ENVIRONMENT AND OTHER CONTEXT
------------------------------

Environment variables:

    LANG = C
    PATH = /usr/local/bin:/usr/bin:/bin:/usr/local/sbin:/usr/sbin:/sbin:/home/cpansand/bin/linux-gnu:/home/cpansand/bin/sh:/home/cpansand/bin:/usr/games:/home/cpansand/devel:/home/eserte/src/srezic-misc/scripts
    PERL5LIB = /home/cpansand/.local/share/.cpan/build/2023122318/Data-Dump-1.25-0/blib/arch:/home/cpansand/.local/share/.cpan/build/2023122318/Data-Dump-1.25-0/blib/lib:/home/cpansand/.local/share/.cpan/build/2023122318/Data-Clone-0.006-0/blib/arch:/home/cpansand/.local/share/.cpan/build/2023122318/Data-Clone-0.006-0/blib/lib:/home/cpansand/.local/share/.cpan/build/2023122318/Module-Build-XSUtil-0.19-0/blib/arch:/home/cpansand/.local/share/.cpan/build/2023122318/Module-Build-XSUtil-0.19-0/blib/lib:/home/cpansand/.local/share/.cpan/build/2023122318/File-Copy-Recursive-Reduced-0.007-0/blib/arch:/home/cpansand/.local/share/.cpan/build/2023122318/File-Copy-Recursive-Reduced-0.007-0/blib/lib:/home/cpansand/.local/share/.cpan/build/2023122318/Devel-CheckCompiler-0.07-0/blib/arch:/home/cpansand/.local/share/.cpan/build/2023122318/Devel-CheckCompiler-0.07-0/blib/lib:/home/cpansand/.local/share/.cpan/build/2023122318/Cwd-Guard-0.05-0/blib/arch:/home/cpansand/.local/share/.cpan/build/2023122318/Cwd-Guard-0.05-0/blib/lib:/home/cpansand/.local/share/.cpan/build/2023122318/Class-XSAccessor-1.19-0/blib/arch:/home/cpansand/.local/share/.cpan/build/2023122318/Class-XSAccessor-1.19-0/blib/lib:/home/cpansand/.local/share/.cpan/build/2023122318/Class-Load-0.25-0/blib/arch:/home/cpansand/.local/share/.cpan/build/2023122318/Class-Load-0.25-0/blib/lib
    PERL5OPT = 
    PERL5_CPANPLUS_IS_RUNNING = 231842
    PERL5_CPAN_IS_RUNNING = 231842
    PERL5_CPAN_IS_RUNNING_IN_RECURSION = 230383,231842
    PERLDOC = -MPod::Perldoc::ToTextOverstrike
    PERL_BATCH = yes
    PERL_CANARY_STABILITY_NOPROMPT = 1
    PERL_CPAN_REPORTER_CONFIG = /var/tmp/cpansmoker-1023/2023122318/cpanreporter_000_config.ini
    PERL_EXTUTILS_AUTOINSTALL = --defaultdeps
    PERL_USE_UNSAFE_INC = 1
    SHELL = /usr/bin/zsh
    TERM = screen
    TMPDIR = /var/tmp/cpansmoker-1023/2023122318

Perl special variables (and OS-specific diagnostics, for MSWin32):

    $^X = /opt/perl-5.39.5/bin/perl5.39.5
    $UID/$EUID = 1023 / 1023
    $GID = 1023 1023
    $EGID = 1023 1023

Perl module toolchain versions installed:

    Module              Have    
    ------------------- --------
    CPAN                2.36    
    CPAN::Meta          2.150010
    Cwd                 3.90    
    ExtUtils::CBuilder  0.280240
    ExtUtils::Command   7.70    
    ExtUtils::Install   2.22    
    ExtUtils::MakeMaker 7.70    
    ExtUtils::Manifest  1.75    
    ExtUtils::ParseXS   3.51    
    File::Spec          3.90    
    JSON                n/a     
    JSON::PP            4.16    
    Module::Build       0.4234  
    Module::Signature   n/a     
    Parse::CPAN::Meta   2.150010
    Test2               1.302195
    Test::Harness       3.48    
    Test::More          1.302195
    YAML                1.30    
    YAML::Syck          1.34    
    version             0.9930  


--

Summary of my perl5 (revision 5 version 39 subversion 5) configuration:
   
  Platform:
    osname=linux
    osvers=5.10.0-26-amd64
    archname=x86_64-linux
    uname='linux cloud7.bbbike.org 5.10.0-26-amd64 #1 smp debian 5.10.197-1 (2023-09-29) x86_64 gnulinux '
    config_args='-ds -e -Dprefix=/opt/perl-5.39.5 -Dusedevel -Dusemallocwrap=no -Dcf_email=srezic@cpan.org'
    hint=recommended
    useposix=true
    d_sigaction=define
    useithreads=undef
    usemultiplicity=undef
    use64bitint=define
    use64bitall=define
    uselongdouble=undef
    usemymalloc=n
    default_inc_excludes_dot=define
  Compiler:
    cc='cc'
    ccflags ='-fwrapv -fno-strict-aliasing -pipe -fstack-protector-strong -I/usr/local/include -D_LARGEFILE_SOURCE -D_FILE_OFFSET_BITS=64 -D_FORTIFY_SOURCE=2'
    optimize='-O2'
    cppflags='-fwrapv -fno-strict-aliasing -pipe -fstack-protector-strong -I/usr/local/include'
    ccversion=''
    gccversion='10.2.1 20210110'
    gccosandvers=''
    intsize=4
    longsize=8
    ptrsize=8
    doublesize=8
    byteorder=12345678
    doublekind=3
    d_longlong=define
    longlongsize=8
    d_longdbl=define
    longdblsize=16
    longdblkind=3
    ivtype='long'
    ivsize=8
    nvtype='double'
    nvsize=8
    Off_t='off_t'
    lseeksize=8
    alignbytes=8
    prototype=define
  Linker and Libraries:
    ld='cc'
    ldflags =' -fstack-protector-strong -L/usr/local/lib'
    libpth=/usr/local/lib /usr/lib/x86_64-linux-gnu /usr/lib /usr/lib64
    libs=-lpthread -lgdbm -ldb -ldl -lm -lcrypt -lutil -lc
    perllibs=-lpthread -ldl -lm -lcrypt -lutil -lc
    libc=libc-2.31.so
    so=so
    useshrplib=false
    libperl=libperl.a
    gnulibc_version='2.31'
  Dynamic Linking:
    dlsrc=dl_dlopen.xs
    dlext=so
    d_dlsymun=undef
    ccdlflags='-Wl,-E'
    cccdlflags='-fPIC'
    lddlflags='-shared -O2 -L/usr/local/lib -fstack-protector-strong'


Characteristics of this binary (from libperl): 
  Compile-time options:
    HAS_LONG_DOUBLE
    HAS_STRTOLD
    HAS_TIMES
    PERLIO_LAYERS
    PERL_COPY_ON_WRITE
    PERL_DONT_CREATE_GVSV
    PERL_HASH_FUNC_SIPHASH13
    PERL_HASH_USE_SBOX32
    PERL_OP_PARENT
    PERL_PRESERVE_IVUV
    PERL_USE_DEVEL
    PERL_USE_SAFE_PUTENV
    USE_64_BIT_ALL
    USE_64_BIT_INT
    USE_LARGE_FILES
    USE_LOCALE
    USE_LOCALE_COLLATE
    USE_LOCALE_CTYPE
    USE_LOCALE_NUMERIC
    USE_LOCALE_TIME
    USE_PERLIO
    USE_PERL_ATOF
  Built under linux
  Compiled at Dec 23 2023 16:31:47
  %ENV:
    PERL5LIB="/home/cpansand/.local/share/.cpan/build/2023122318/Data-Dump-1.25-0/blib/arch:/home/cpansand/.local/share/.cpan/build/2023122318/Data-Dump-1.25-0/blib/lib:/home/cpansand/.local/share/.cpan/build/2023122318/Data-Clone-0.006-0/blib/arch:/home/cpansand/.local/share/.cpan/build/2023122318/Data-Clone-0.006-0/blib/lib:/home/cpansand/.local/share/.cpan/build/2023122318/Module-Build-XSUtil-0.19-0/blib/arch:/home/cpansand/.local/share/.cpan/build/2023122318/Module-Build-XSUtil-0.19-0/blib/lib:/home/cpansand/.local/share/.cpan/build/2023122318/File-Copy-Recursive-Reduced-0.007-0/blib/arch:/home/cpansand/.local/share/.cpan/build/2023122318/File-Copy-Recursive-Reduced-0.007-0/blib/lib:/home/cpansand/.local/share/.cpan/build/2023122318/Devel-CheckCompiler-0.07-0/blib/arch:/home/cpansand/.local/share/.cpan/build/2023122318/Devel-CheckCompiler-0.07-0/blib/lib:/home/cpansand/.local/share/.cpan/build/2023122318/Cwd-Guard-0.05-0/blib/arch:/home/cpansand/.local/share/.cpan/build/2023122318/Cwd-Guard-0.05-0/blib/lib:/home/cpansand/.local/share/.cpan/build/2023122318/Class-XSAccessor-1.19-0/blib/arch:/home/cpansand/.local/share/.cpan/build/2023122318/Class-XSAccessor-1.19-0/blib/lib:/home/cpansand/.local/share/.cpan/build/2023122318/Class-Load-0.25-0/blib/arch:/home/cpansand/.local/share/.cpan/build/2023122318/Class-Load-0.25-0/blib/lib"
    PERL5OPT=""
    PERL5_CPANPLUS_IS_RUNNING="231842"
    PERL5_CPAN_IS_RUNNING="231842"
    PERL5_CPAN_IS_RUNNING_IN_RECURSION="230383,231842"
    PERLDOC="-MPod::Perldoc::ToTextOverstrike"
    PERL_BATCH="yes"
    PERL_CANARY_STABILITY_NOPROMPT="1"
    PERL_CPAN_REPORTER_CONFIG="/var/tmp/cpansmoker-1023/2023122318/cpanreporter_000_config.ini"
    PERL_EXTUTILS_AUTOINSTALL="--defaultdeps"
    PERL_USE_UNSAFE_INC="1"
  @INC:
    /home/cpansand/.local/share/.cpan/build/2023122318/Data-Dump-1.25-0/blib/arch
    /home/cpansand/.local/share/.cpan/build/2023122318/Data-Dump-1.25-0/blib/lib
    /home/cpansand/.local/share/.cpan/build/2023122318/Data-Clone-0.006-0/blib/arch
    /home/cpansand/.local/share/.cpan/build/2023122318/Data-Clone-0.006-0/blib/lib
    /home/cpansand/.local/share/.cpan/build/2023122318/Module-Build-XSUtil-0.19-0/blib/arch
    /home/cpansand/.local/share/.cpan/build/2023122318/Module-Build-XSUtil-0.19-0/blib/lib
    /home/cpansand/.local/share/.cpan/build/2023122318/File-Copy-Recursive-Reduced-0.007-0/blib/arch
    /home/cpansand/.local/share/.cpan/build/2023122318/File-Copy-Recursive-Reduced-0.007-0/blib/lib
    /home/cpansand/.local/share/.cpan/build/2023122318/Devel-CheckCompiler-0.07-0/blib/arch
    /home/cpansand/.local/share/.cpan/build/2023122318/Devel-CheckCompiler-0.07-0/blib/lib
    /home/cpansand/.local/share/.cpan/build/2023122318/Cwd-Guard-0.05-0/blib/arch
    /home/cpansand/.local/share/.cpan/build/2023122318/Cwd-Guard-0.05-0/blib/lib
    /home/cpansand/.local/share/.cpan/build/2023122318/Class-XSAccessor-1.19-0/blib/arch
    /home/cpansand/.local/share/.cpan/build/2023122318/Class-XSAccessor-1.19-0/blib/lib
    /home/cpansand/.local/share/.cpan/build/2023122318/Class-Load-0.25-0/blib/arch
    /home/cpansand/.local/share/.cpan/build/2023122318/Class-Load-0.25-0/blib/lib
    /opt/perl-5.39.5/lib/site_perl/5.39.5/x86_64-linux
    /opt/perl-5.39.5/lib/site_perl/5.39.5
    /opt/perl-5.39.5/lib/5.39.5/x86_64-linux
    /opt/perl-5.39.5/lib/5.39.5
    .