Report for Math-Pell-0.6

Back
From: metabase:user:30f0bd62-2aae-11df-837a-5e0a49663a4f
Subject: PASS Math-Pell-0.6 v5.14.1 NetBSD
Date: 2011-08-01T14:54:07Z

This distribution has been tested as part of the CPAN Testers
project, supporting the Perl programming language.  See
http://wiki.cpantesters.org/ for more information or email
questions to cpan-testers-discuss@perl.org


--
Dear Petrea Corneliu Stefan,

This is a computer-generated report for Math-Pell-0.6-withoutworldwriteables
on perl 5.14.1, created by CPAN-Reporter-1.1902.

Thank you for uploading your work to CPAN.  Congratulations!
All tests were successful.

Sections of this report:

    * Tester comments
    * Program output
    * Prerequisites
    * Environment and other context

------------------------------
TESTER COMMENTS
------------------------------

Additional comments from tester:

this report is from an automated smoke testing program
and was not reviewed by a human for accuracy

------------------------------
PROGRAM OUTPUT
------------------------------

Output from '/usr/bin/make test':

PERL_DL_NONLAZY=1 /home/sts/cpansmoke/perl-5.14.1/bin/perl "-MExtUtils::Command::MM" "-e" "test_harness(0, 'blib/lib', 'blib/arch')" t/*.t
Name "main::LHS" used only once: possible typo at t/00-Pell.t line 56.
Use of uninitialized value $LHS in concatenation (.) or string at t/00-Pell.t line 56.
Use of uninitialized value $LHS in concatenation (.) or string at t/00-Pell.t line 56.
Use of uninitialized value $LHS in concatenation (.) or string at t/00-Pell.t line 56.
Use of uninitialized value $LHS in concatenation (.) or string at t/00-Pell.t line 56.
Use of uninitialized value $LHS in concatenation (.) or string at t/00-Pell.t line 56.
Use of uninitialized value $LHS in concatenation (.) or string at t/00-Pell.t line 56.
Use of uninitialized value $LHS in concatenation (.) or string at t/00-Pell.t line 56.
Use of uninitialized value $LHS in concatenation (.) or string at t/00-Pell.t line 56.
Use of uninitialized value $LHS in concatenation (.) or string at t/00-Pell.t line 56.
Use of uninitialized value $LHS in concatenation (.) or string at t/00-Pell.t line 56.
Use of uninitialized value $LHS in concatenation (.) or string at t/00-Pell.t line 56.
Use of uninitialized value $LHS in concatenation (.) or string at t/00-Pell.t line 56.
Use of uninitialized value $LHS in concatenation (.) or string at t/00-Pell.t line 56.
Use of uninitialized value $LHS in concatenation (.) or string at t/00-Pell.t line 56.
Use of uninitialized value $LHS in concatenation (.) or string at t/00-Pell.t line 56.
Use of uninitialized value $LHS in concatenation (.) or string at t/00-Pell.t line 56.
Use of uninitialized value $LHS in concatenation (.) or string at t/00-Pell.t line 56.
Use of uninitialized value $LHS in concatenation (.) or string at t/00-Pell.t line 56.
Use of uninitialized value $LHS in concatenation (.) or string at t/00-Pell.t line 56.
Use of uninitialized value $LHS in concatenation (.) or string at t/00-Pell.t line 56.
Use of uninitialized value $LHS in concatenation (.) or string at t/00-Pell.t line 56.
Use of uninitialized value $LHS in concatenation (.) or string at t/00-Pell.t line 56.
Use of uninitialized value $LHS in concatenation (.) or string at t/00-Pell.t line 56.
Use of uninitialized value $LHS in concatenation (.) or string at t/00-Pell.t line 56.
Use of uninitialized value $LHS in concatenation (.) or string at t/00-Pell.t line 56.
Use of uninitialized value $LHS in concatenation (.) or string at t/00-Pell.t line 56.
Use of uninitialized value $LHS in concatenation (.) or string at t/00-Pell.t line 56.
Use of uninitialized value $LHS in concatenation (.) or string at t/00-Pell.t line 56.
Use of uninitialized value $LHS in concatenation (.) or string at t/00-Pell.t line 56.
Use of uninitialized value $LHS in concatenation (.) or string at t/00-Pell.t line 56.
Use of uninitialized value $LHS in concatenation (.) or string at t/00-Pell.t line 56.
Use of uninitialized value $LHS in concatenation (.) or string at t/00-Pell.t line 56.
Use of uninitialized value $LHS in concatenation (.) or string at t/00-Pell.t line 56.
Use of uninitialized value $LHS in concatenation (.) or string at t/00-Pell.t line 56.
Use of uninitialized value $LHS in concatenation (.) or string at t/00-Pell.t line 56.
Use of uninitialized value $LHS in concatenation (.) or string at t/00-Pell.t line 56.
Use of uninitialized value $LHS in concatenation (.) or string at t/00-Pell.t line 56.
Use of uninitialized value $LHS in concatenation (.) or string at t/00-Pell.t line 56.
Use of uninitialized value $LHS in concatenation (.) or string at t/00-Pell.t line 56.
Use of uninitialized value $LHS in concatenation (.) or string at t/00-Pell.t line 56.
Use of uninitialized value $LHS in concatenation (.) or string at t/00-Pell.t line 56.
Use of uninitialized value $LHS in concatenation (.) or string at t/00-Pell.t line 56.
Use of uninitialized value $LHS in concatenation (.) or string at t/00-Pell.t line 56.
Use of uninitialized value $LHS in concatenation (.) or string at t/00-Pell.t line 56.
Use of uninitialized value $LHS in concatenation (.) or string at t/00-Pell.t line 56.
Use of uninitialized value $LHS in concatenation (.) or string at t/00-Pell.t line 56.
Use of uninitialized value $LHS in concatenation (.) or string at t/00-Pell.t line 56.
Use of uninitialized value $LHS in concatenation (.) or string at t/00-Pell.t line 56.
Use of uninitialized value $LHS in concatenation (.) or string at t/00-Pell.t line 56.
Use of uninitialized value $LHS in concatenation (.) or string at t/00-Pell.t line 56.
Use of uninitialized value $LHS in concatenation (.) or string at t/00-Pell.t line 56.
Use of uninitialized value $LHS in concatenation (.) or string at t/00-Pell.t line 56.
Use of uninitialized value $LHS in concatenation (.) or string at t/00-Pell.t line 56.
Use of uninitialized value $LHS in concatenation (.) or string at t/00-Pell.t line 56.
Use of uninitialized value $LHS in concatenation (.) or string at t/00-Pell.t line 56.
Use of uninitialized value $LHS in concatenation (.) or string at t/00-Pell.t line 56.
Use of uninitialized value $LHS in concatenation (.) or string at t/00-Pell.t line 56.
Use of uninitialized value $LHS in concatenation (.) or string at t/00-Pell.t line 56.
Use of uninitialized value $LHS in concatenation (.) or string at t/00-Pell.t line 56.
Use of uninitialized value $LHS in concatenation (.) or string at t/00-Pell.t line 56.
Use of uninitialized value $LHS in concatenation (.) or string at t/00-Pell.t line 56.
Use of uninitialized value $LHS in concatenation (.) or string at t/00-Pell.t line 56.
Use of uninitialized value $LHS in concatenation (.) or string at t/00-Pell.t line 56.
Use of uninitialized value $LHS in concatenation (.) or string at t/00-Pell.t line 56.
Use of uninitialized value $LHS in concatenation (.) or string at t/00-Pell.t line 56.
Use of uninitialized value $LHS in concatenation (.) or string at t/00-Pell.t line 56.
Use of uninitialized value $LHS in concatenation (.) or string at t/00-Pell.t line 56.
Use of uninitialized value $LHS in concatenation (.) or string at t/00-Pell.t line 56.
Use of uninitialized value $LHS in concatenation (.) or string at t/00-Pell.t line 56.
Use of uninitialized value $LHS in concatenation (.) or string at t/00-Pell.t line 56.
Use of uninitialized value $LHS in concatenation (.) or string at t/00-Pell.t line 56.
Use of uninitialized value $LHS in concatenation (.) or string at t/00-Pell.t line 56.
Use of uninitialized value $LHS in concatenation (.) or string at t/00-Pell.t line 56.
Use of uninitialized value $LHS in concatenation (.) or string at t/00-Pell.t line 56.
Use of uninitialized value $LHS in concatenation (.) or string at t/00-Pell.t line 56.
Use of uninitialized value $LHS in concatenation (.) or string at t/00-Pell.t line 56.
Use of uninitialized value $LHS in concatenation (.) or string at t/00-Pell.t line 56.
Use of uninitialized value $LHS in concatenation (.) or string at t/00-Pell.t line 56.
Use of uninitialized value $LHS in concatenation (.) or string at t/00-Pell.t line 56.
Use of uninitialized value $LHS in concatenation (.) or string at t/00-Pell.t line 56.
Use of uninitialized value $LHS in concatenation (.) or string at t/00-Pell.t line 56.
Use of uninitialized value $LHS in concatenation (.) or string at t/00-Pell.t line 56.
Use of uninitialized value $LHS in concatenation (.) or string at t/00-Pell.t line 56.
Use of uninitialized value $LHS in concatenation (.) or string at t/00-Pell.t line 56.
Use of uninitialized value $LHS in concatenation (.) or string at t/00-Pell.t line 56.
Use of uninitialized value $LHS in concatenation (.) or string at t/00-Pell.t line 56.
Use of uninitialized value $LHS in concatenation (.) or string at t/00-Pell.t line 56.
Use of uninitialized value $LHS in concatenation (.) or string at t/00-Pell.t line 56.
Use of uninitialized value $LHS in concatenation (.) or string at t/00-Pell.t line 56.
Use of uninitialized value $LHS in concatenation (.) or string at t/00-Pell.t line 56.
Use of uninitialized value $LHS in concatenation (.) or string at t/00-Pell.t line 56.
Use of uninitialized value $LHS in concatenation (.) or string at t/00-Pell.t line 56.
Use of uninitialized value $LHS in concatenation (.) or string at t/00-Pell.t line 56.
Use of uninitialized value $LHS in concatenation (.) or string at t/00-Pell.t line 56.
Use of uninitialized value $LHS in concatenation (.) or string at t/00-Pell.t line 56.
Use of uninitialized value $LHS in concatenation (.) or string at t/00-Pell.t line 56.
Use of uninitialized value $LHS in concatenation (.) or string at t/00-Pell.t line 56.
Use of uninitialized value $LHS in concatenation (.) or string at t/00-Pell.t line 56.
Use of uninitialized value $LHS in concatenation (.) or string at t/00-Pell.t line 56.
Use of uninitialized value $LHS in concatenation (.) or string at t/00-Pell.t line 56.
Use of uninitialized value $LHS in concatenation (.) or string at t/00-Pell.t line 56.
Use of uninitialized value $LHS in concatenation (.) or string at t/00-Pell.t line 56.
Use of uninitialized value $LHS in concatenation (.) or string at t/00-Pell.t line 56.
Use of uninitialized value $LHS in concatenation (.) or string at t/00-Pell.t line 56.
Use of uninitialized value $LHS in concatenation (.) or string at t/00-Pell.t line 56.
Use of uninitialized value $LHS in concatenation (.) or string at t/00-Pell.t line 56.
Use of uninitialized value $LHS in concatenation (.) or string at t/00-Pell.t line 56.
Use of uninitialized value $LHS in concatenation (.) or string at t/00-Pell.t line 56.
Use of uninitialized value $LHS in concatenation (.) or string at t/00-Pell.t line 56.
Use of uninitialized value $LHS in concatenation (.) or string at t/00-Pell.t line 56.
Use of uninitialized value $LHS in concatenation (.) or string at t/00-Pell.t line 56.
Use of uninitialized value $LHS in concatenation (.) or string at t/00-Pell.t line 56.
Use of uninitialized value $LHS in concatenation (.) or string at t/00-Pell.t line 56.
Use of uninitialized value $LHS in concatenation (.) or string at t/00-Pell.t line 56.
Use of uninitialized value $LHS in concatenation (.) or string at t/00-Pell.t line 56.
Use of uninitialized value $LHS in concatenation (.) or string at t/00-Pell.t line 56.
Use of uninitialized value $LHS in concatenation (.) or string at t/00-Pell.t line 56.
Use of uninitialized value $LHS in concatenation (.) or string at t/00-Pell.t line 56.
Use of uninitialized value $LHS in concatenation (.) or string at t/00-Pell.t line 56.
Use of uninitialized value $LHS in concatenation (.) or string at t/00-Pell.t line 56.
Use of uninitialized value $LHS in concatenation (.) or string at t/00-Pell.t line 56.
Use of uninitialized value $LHS in concatenation (.) or string at t/00-Pell.t line 56.
Use of uninitialized value $LHS in concatenation (.) or string at t/00-Pell.t line 56.
Use of uninitialized value $LHS in concatenation (.) or string at t/00-Pell.t line 56.
Use of uninitialized value $LHS in concatenation (.) or string at t/00-Pell.t line 56.
Use of uninitialized value $LHS in concatenation (.) or string at t/00-Pell.t line 56.
Use of uninitialized value $LHS in concatenation (.) or string at t/00-Pell.t line 56.
Use of uninitialized value $LHS in concatenation (.) or string at t/00-Pell.t line 56.
Use of uninitialized value $LHS in concatenation (.) or string at t/00-Pell.t line 56.
Use of uninitialized value $LHS in concatenation (.) or string at t/00-Pell.t line 56.
Use of uninitialized value $LHS in concatenation (.) or string at t/00-Pell.t line 56.
Use of uninitialized value $LHS in concatenation (.) or string at t/00-Pell.t line 56.
Use of uninitialized value $LHS in concatenation (.) or string at t/00-Pell.t line 56.
Use of uninitialized value $LHS in concatenation (.) or string at t/00-Pell.t line 56.
Use of uninitialized value $LHS in concatenation (.) or string at t/00-Pell.t line 56.
Use of uninitialized value $LHS in concatenation (.) or string at t/00-Pell.t line 56.
Use of uninitialized value $LHS in concatenation (.) or string at t/00-Pell.t line 56.
Use of uninitialized value $LHS in concatenation (.) or string at t/00-Pell.t line 56.
Use of uninitialized value $LHS in concatenation (.) or string at t/00-Pell.t line 56.
Use of uninitialized value $LHS in concatenation (.) or string at t/00-Pell.t line 56.
Use of uninitialized value $LHS in concatenation (.) or string at t/00-Pell.t line 56.
Use of uninitialized value $LHS in concatenation (.) or string at t/00-Pell.t line 56.
Use of uninitialized value $LHS in concatenation (.) or string at t/00-Pell.t line 56.
Use of uninitialized value $LHS in concatenation (.) or string at t/00-Pell.t line 56.
Use of uninitialized value $LHS in concatenation (.) or string at t/00-Pell.t line 56.
Use of uninitialized value $LHS in concatenation (.) or string at t/00-Pell.t line 56.
Use of uninitialized value $LHS in concatenation (.) or string at t/00-Pell.t line 56.
Use of uninitialized value $LHS in concatenation (.) or string at t/00-Pell.t line 56.
Use of uninitialized value $LHS in concatenation (.) or string at t/00-Pell.t line 56.
Use of uninitialized value $LHS in concatenation (.) or string at t/00-Pell.t line 56.
Use of uninitialized value $LHS in concatenation (.) or string at t/00-Pell.t line 56.
Use of uninitialized value $LHS in concatenation (.) or string at t/00-Pell.t line 56.
Use of uninitialized value $LHS in concatenation (.) or string at t/00-Pell.t line 56.
Use of uninitialized value $LHS in concatenation (.) or string at t/00-Pell.t line 56.
Use of uninitialized value $LHS in concatenation (.) or string at t/00-Pell.t line 56.
Use of uninitialized value $LHS in concatenation (.) or string at t/00-Pell.t line 56.
Use of uninitialized value $LHS in concatenation (.) or string at t/00-Pell.t line 56.
Use of uninitialized value $LHS in concatenation (.) or string at t/00-Pell.t line 56.
Use of uninitialized value $LHS in concatenation (.) or string at t/00-Pell.t line 56.
Use of uninitialized value $LHS in concatenation (.) or string at t/00-Pell.t line 56.
Use of uninitialized value $LHS in concatenation (.) or string at t/00-Pell.t line 56.
Use of uninitialized value $LHS in concatenation (.) or string at t/00-Pell.t line 56.
Use of uninitialized value $LHS in concatenation (.) or string at t/00-Pell.t line 56.
Use of uninitialized value $LHS in concatenation (.) or string at t/00-Pell.t line 56.
Use of uninitialized value $LHS in concatenation (.) or string at t/00-Pell.t line 56.
Use of uninitialized value $LHS in concatenation (.) or string at t/00-Pell.t line 56.
Use of uninitialized value $LHS in concatenation (.) or string at t/00-Pell.t line 56.
Use of uninitialized value $LHS in concatenation (.) or string at t/00-Pell.t line 56.
Use of uninitialized value $LHS in concatenation (.) or string at t/00-Pell.t line 56.
Use of uninitialized value $LHS in concatenation (.) or string at t/00-Pell.t line 56.
Use of uninitialized value $LHS in concatenation (.) or string at t/00-Pell.t line 56.
Use of uninitialized value $LHS in concatenation (.) or string at t/00-Pell.t line 56.
Use of uninitialized value $LHS in concatenation (.) or string at t/00-Pell.t line 56.
Use of uninitialized value $LHS in concatenation (.) or string at t/00-Pell.t line 56.
Use of uninitialized value $LHS in concatenation (.) or string at t/00-Pell.t line 56.
Use of uninitialized value $LHS in concatenation (.) or string at t/00-Pell.t line 56.
Use of uninitialized value $LHS in concatenation (.) or string at t/00-Pell.t line 56.
Use of uninitialized value $LHS in concatenation (.) or string at t/00-Pell.t line 56.
Use of uninitialized value $LHS in concatenation (.) or string at t/00-Pell.t line 56.
Use of uninitialized value $LHS in concatenation (.) or string at t/00-Pell.t line 56.
Use of uninitialized value $LHS in concatenation (.) or string at t/00-Pell.t line 56.
Use of uninitialized value $LHS in concatenation (.) or string at t/00-Pell.t line 56.
Use of uninitialized value $LHS in concatenation (.) or string at t/00-Pell.t line 56.
Use of uninitialized value $LHS in concatenation (.) or string at t/00-Pell.t line 56.
Use of uninitialized value $LHS in concatenation (.) or string at t/00-Pell.t line 56.
Use of uninitialized value $LHS in concatenation (.) or string at t/00-Pell.t line 56.
Use of uninitialized value $LHS in concatenation (.) or string at t/00-Pell.t line 56.
Use of uninitialized value $LHS in concatenation (.) or string at t/00-Pell.t line 56.
Use of uninitialized value $LHS in concatenation (.) or string at t/00-Pell.t line 56.
Use of uninitialized value $LHS in concatenation (.) or string at t/00-Pell.t line 56.
Use of uninitialized value $LHS in concatenation (.) or string at t/00-Pell.t line 56.
Use of uninitialized value $LHS in concatenation (.) or string at t/00-Pell.t line 56.
Use of uninitialized value $LHS in concatenation (.) or string at t/00-Pell.t line 56.
Use of uninitialized value $LHS in concatenation (.) or string at t/00-Pell.t line 56.
Use of uninitialized value $LHS in concatenation (.) or string at t/00-Pell.t line 56.
Use of uninitialized value $LHS in concatenation (.) or string at t/00-Pell.t line 56.
Use of uninitialized value $LHS in concatenation (.) or string at t/00-Pell.t line 56.
Use of uninitialized value $LHS in concatenation (.) or string at t/00-Pell.t line 56.
Use of uninitialized value $LHS in concatenation (.) or string at t/00-Pell.t line 56.
Use of uninitialized value $LHS in concatenation (.) or string at t/00-Pell.t line 56.
t/00-Pell.t ............... ok
t/release-pod-coverage.t .. skipped: these tests are for release candidate testing
t/release-pod-syntax.t .... skipped: these tests are for release candidate testing
All tests successful.
Files=3, Tests=214,  2 wallclock secs ( 0.10 usr  0.08 sys +  1.68 cusr  0.28 csys =  2.14 CPU)
Result: PASS

------------------------------
PREREQUISITES
------------------------------

Prerequisite modules loaded:

requires:

    Module              Need  Have  
    ------------------- ----- ------
    List::AllUtils      0.02  0.02  
    Math::BigInt        0     1.994 
    Moose               0.92  2.0202
    Test::Deep          0.106 0.108 
    Test::More          0     0.98  

build_requires:

    Module              Need  Have  
    ------------------- ----- ------
    ExtUtils::MakeMaker 0     6.58  


------------------------------
ENVIRONMENT AND OTHER CONTEXT
------------------------------

Environment variables:

    AUTOMATED_TESTING = 1
    PATH = /home/sts/bin:/bin:/sbin:/usr/bin:/usr/sbin:/usr/X11R7/bin:/usr/X11R6/bin:/usr/pkg/bin:/usr/pkg/sbin:/usr/games:/usr/local/bin:/usr/local/sbin
    PERL5LIB = /home/sts/cpansmoke/perl-5.14.1/cpan/build/Moose-2.0202-7zFlFQ/blib/arch:/home/sts/cpansmoke/perl-5.14.1/cpan/build/Moose-2.0202-7zFlFQ/blib/lib:/home/sts/cpansmoke/perl-5.14.1/cpan/build/Devel-GlobalDestruction-0.04-xHR0I2/blib/arch:/home/sts/cpansmoke/perl-5.14.1/cpan/build/Devel-GlobalDestruction-0.04-xHR0I2/blib/lib:/home/sts/cpansmoke/perl-5.14.1/cpan/build/Sub-Name-0.05-wWKe2_/blib/arch:/home/sts/cpansmoke/perl-5.14.1/cpan/build/Sub-Name-0.05-wWKe2_/blib/lib:/home/sts/cpansmoke/perl-5.14.1/cpan/build/Package-Stash-0.30-CeqjwY/blib/arch:/home/sts/cpansmoke/perl-5.14.1/cpan/build/Package-Stash-0.30-CeqjwY/blib/lib:/home/sts/cpansmoke/perl-5.14.1/cpan/build/Eval-Closure-0.06-7UUFqr/blib/arch:/home/sts/cpansmoke/perl-5.14.1/cpan/build/Eval-Closure-0.06-7UUFqr/blib/lib:/home/sts/cpansmoke/perl-5.14.1/cpan/build/MRO-Compat-0.11-Edo1gF/blib/arch:/home/sts/cpansmoke/perl-5.14.1/cpan/build/MRO-Compat-0.11-Edo1gF/blib/lib:/home/sts/cpansmoke/perl-5.14.1/cpan/build/Package-Stash-XS-0.22-jlyb9B/blib/arch:/home/sts/cpansmoke/perl-5.14.1/cpan/build/Package-Stash-XS-0.22-jlyb9B/blib/lib:/home/sts/cpansmoke/perl-5.14.1/cpan/build/Package-DeprecationManager-0.11-ykiLky/blib/arch:/home/sts/cpansmoke/perl-5.14.1/cpan/build/Package-DeprecationManager-0.11-ykiLky/blib/lib:/home/sts/cpansmoke/perl-5.14.1/cpan/build/Test-Requires-0.06-kSUewC/blib/arch:/home/sts/cpansmoke/perl-5.14.1/cpan/build/Test-Requires-0.06-kSUewC/blib/lib:/home/sts/cpansmoke/perl-5.14.1/cpan/build/Dist-CheckConflicts-0.02-AjhXud/blib/arch:/home/sts/cpansmoke/perl-5.14.1/cpan/build/Dist-CheckConflicts-0.02-AjhXud/blib/lib:/home/sts/cpansmoke/perl-5.14.1/cpan/build/Sub-Exporter-0.982-eX3XFm/blib/arch:/home/sts/cpansmoke/perl-5.14.1/cpan/build/Sub-Exporter-0.982-eX3XFm/blib/lib:/home/sts/cpansmoke/perl-5.14.1/cpan/build/Data-OptList-0.107-9Zn9cI/blib/arch:/home/sts/cpansmoke/perl-5.14.1/cpan/build/Data-OptList-0.107-9Zn9cI/blib/lib:/home/sts/cpansmoke/perl-5.14.1/cpan/build/Sub-Install-0.925-T8RBm1/blib/arch:/home/sts/cpansmoke/perl-5.14.1/cpan/build/Sub-Install-0.925-T8RBm1/blib/lib:/home/sts/cpansmoke/perl-5.14.1/cpan/build/Params-Util-1.04-S2yqdI/blib/arch:/home/sts/cpansmoke/perl-5.14.1/cpan/build/Params-Util-1.04-S2yqdI/blib/lib:/home/sts/cpansmoke/perl-5.14.1/cpan/build/Test-Fatal-0.006-qkMBfj/blib/arch:/home/sts/cpansmoke/perl-5.14.1/cpan/build/Test-Fatal-0.006-qkMBfj/blib/lib:/home/sts/cpansmoke/perl-5.14.1/cpan/build/Try-Tiny-0.09-gD5w7M/blib/arch:/home/sts/cpansmoke/perl-5.14.1/cpan/build/Try-Tiny-0.09-gD5w7M/blib/lib:/home/sts/cpansmoke/perl-5.14.1/cpan/build/Test-Deep-0.108-231I6n/blib/arch:/home/sts/cpansmoke/perl-5.14.1/cpan/build/Test-Deep-0.108-231I6n/blib/lib:/home/sts/cpansmoke/perl-5.14.1/cpan/build/Test-NoWarnings-1.02-Rv4NWD/blib/arch:/home/sts/cpansmoke/perl-5.14.1/cpan/build/Test-NoWarnings-1.02-Rv4NWD/blib/lib:/home/sts/cpansmoke/perl-5.14.1/cpan/build/Test-Tester-0.107-ksIi0F/blib/arch:/home/sts/cpansmoke/perl-5.14.1/cpan/build/Test-Tester-0.107-ksIi0F/blib/lib:/home/sts/cpansmoke/perl-5.14.1/cpan/build/List-AllUtils-0.02-POqo70/blib/arch:/home/sts/cpansmoke/perl-5.14.1/cpan/build/List-AllUtils-0.02-POqo70/blib/lib:/home/sts/cpansmoke/perl-5.14.1/cpan/build/List-MoreUtils-0.32-JYoIp_/blib/arch:/home/sts/cpansmoke/perl-5.14.1/cpan/build/List-MoreUtils-0.32-JYoIp_/blib/lib
    PERL5OPT = 
    PERL5_CPANPLUS_IS_RUNNING = 27268
    PERL5_CPAN_IS_RUNNING = 27268
    PERL5_CPAN_IS_RUNNING_IN_RECURSION = 474,27268
    PERL_CR_SMOKER_CURRENT = Math-Pell-0.6-withoutworldwriteables
    PERL_EXTUTILS_AUTOINSTALL = --defaultdeps
    PERL_MM_USE_DEFAULT = 1
    SHELL = /usr/pkg/bin/bash
    TERM = screen
    TMPDIR = /home/sts/cpansmoke/tmp

Perl special variables (and OS-specific diagnostics, for MSWin32):

    $^X = /home/sts/cpansmoke/perl-5.14.1/bin/perl
    $UID/$EUID = 1000 / 1000
    $GID = 100 100 0
    $EGID = 100 100 0

Perl module toolchain versions installed:

    Module              Have    
    ------------------- --------
    CPAN                1.9600  
    Cwd                 3.36    
    ExtUtils::CBuilder  0.280203
    ExtUtils::Command   1.17    
    ExtUtils::Install   1.56    
    ExtUtils::MakeMaker 6.58    
    ExtUtils::Manifest  1.58    
    ExtUtils::ParseXS   2.2210  
    File::Spec          3.33    
    Module::Build       0.3800  
    Module::Signature   n/a     
    Test::Harness       3.23    
    Test::More          0.98    
    YAML                0.73    
    YAML::Syck          n/a     
    version             0.88    


--

Summary of my perl5 (revision 5 version 14 subversion 1) configuration:
   
  Platform:
    osname=netbsd, osvers=5.1, archname=i386-netbsd-thread-multi
    uname='netbsd cpansmoke2 5.1 netbsd 5.1 (xen3_domu) #0: sun nov 7 14:54:55 utc 2010 builds@b6.netbsd.org:homebuildsabnetbsd-5-1-releasei386201011061943z-objhomebuildsabnetbsd-5-1-releasesrcsysarchi386compilexen3_domu i386 '
    config_args='-des -Dusethreads -Dprefix=/home/sts/cpansmoke/perl-5.14.1'
    hint=recommended, useposix=true, d_sigaction=define
    useithreads=define, usemultiplicity=define
    useperlio=define, d_sfio=undef, uselargefiles=define, usesocks=undef
    use64bitint=undef, use64bitall=undef, uselongdouble=undef
    usemymalloc=n, bincompat5005=undef
  Compiler:
    cc='cc', ccflags ='-fno-strict-aliasing -pipe -fstack-protector -I/usr/pkg/include',
    optimize='-O',
    cppflags='-fno-strict-aliasing -pipe -fstack-protector -I/usr/pkg/include'
    ccversion='', gccversion='4.1.3 20080704 prerelease (NetBSD nb2 20081120)', gccosandvers=''
    intsize=4, longsize=4, ptrsize=4, doublesize=8, byteorder=1234
    d_longlong=define, longlongsize=8, d_longdbl=define, longdblsize=12
    ivtype='long', ivsize=4, nvtype='double', nvsize=8, Off_t='off_t', lseeksize=8
    alignbytes=4, prototype=define
  Linker and Libraries:
    ld='cc', ldflags =' -Wl,-rpath,/usr/pkg/lib -Wl,-rpath,/usr/local/lib -fstack-protector -L/usr/pkg/lib'
    libpth=/usr/pkg/lib /lib /usr/lib
    libs=-lm -lcrypt -lutil -lc -lposix -lpthread
    perllibs=-lm -lcrypt -lutil -lc -lposix -lpthread
    libc=/lib/libc.so, so=so, useshrplib=false, libperl=libperl.a
    gnulibc_version=''
  Dynamic Linking:
    dlsrc=dl_dlopen.xs, dlext=so, d_dlsymun=undef, ccdlflags='-Wl,-E '
    cccdlflags='-DPIC -fPIC ', lddlflags='--whole-archive -shared  -L/usr/pkg/lib -fstack-protector'


Characteristics of this binary (from libperl): 
  Compile-time options: MULTIPLICITY PERL_DONT_CREATE_GVSV
                        PERL_IMPLICIT_CONTEXT PERL_MALLOC_WRAP
                        PERL_PRESERVE_IVUV USE_ITHREADS USE_LARGE_FILES
                        USE_PERLIO USE_PERL_ATOF USE_REENTRANT_API
  Built under netbsd
  Compiled at Jul 18 2011 20:42:57
  %ENV:
    PERL5LIB="/home/sts/cpansmoke/perl-5.14.1/cpan/build/Moose-2.0202-7zFlFQ/blib/arch:/home/sts/cpansmoke/perl-5.14.1/cpan/build/Moose-2.0202-7zFlFQ/blib/lib:/home/sts/cpansmoke/perl-5.14.1/cpan/build/Devel-GlobalDestruction-0.04-xHR0I2/blib/arch:/home/sts/cpansmoke/perl-5.14.1/cpan/build/Devel-GlobalDestruction-0.04-xHR0I2/blib/lib:/home/sts/cpansmoke/perl-5.14.1/cpan/build/Sub-Name-0.05-wWKe2_/blib/arch:/home/sts/cpansmoke/perl-5.14.1/cpan/build/Sub-Name-0.05-wWKe2_/blib/lib:/home/sts/cpansmoke/perl-5.14.1/cpan/build/Package-Stash-0.30-CeqjwY/blib/arch:/home/sts/cpansmoke/perl-5.14.1/cpan/build/Package-Stash-0.30-CeqjwY/blib/lib:/home/sts/cpansmoke/perl-5.14.1/cpan/build/Eval-Closure-0.06-7UUFqr/blib/arch:/home/sts/cpansmoke/perl-5.14.1/cpan/build/Eval-Closure-0.06-7UUFqr/blib/lib:/home/sts/cpansmoke/perl-5.14.1/cpan/build/MRO-Compat-0.11-Edo1gF/blib/arch:/home/sts/cpansmoke/perl-5.14.1/cpan/build/MRO-Compat-0.11-Edo1gF/blib/lib:/home/sts/cpansmoke/perl-5.14.1/cpan/build/Package-Stash-XS-0.22-jlyb9B/blib/arch:/home/sts/cpansmoke/perl-5.14.1/cpan/build/Package-Stash-XS-0.22-jlyb9B/blib/lib:/home/sts/cpansmoke/perl-5.14.1/cpan/build/Package-DeprecationManager-0.11-ykiLky/blib/arch:/home/sts/cpansmoke/perl-5.14.1/cpan/build/Package-DeprecationManager-0.11-ykiLky/blib/lib:/home/sts/cpansmoke/perl-5.14.1/cpan/build/Test-Requires-0.06-kSUewC/blib/arch:/home/sts/cpansmoke/perl-5.14.1/cpan/build/Test-Requires-0.06-kSUewC/blib/lib:/home/sts/cpansmoke/perl-5.14.1/cpan/build/Dist-CheckConflicts-0.02-AjhXud/blib/arch:/home/sts/cpansmoke/perl-5.14.1/cpan/build/Dist-CheckConflicts-0.02-AjhXud/blib/lib:/home/sts/cpansmoke/perl-5.14.1/cpan/build/Sub-Exporter-0.982-eX3XFm/blib/arch:/home/sts/cpansmoke/perl-5.14.1/cpan/build/Sub-Exporter-0.982-eX3XFm/blib/lib:/home/sts/cpansmoke/perl-5.14.1/cpan/build/Data-OptList-0.107-9Zn9cI/blib/arch:/home/sts/cpansmoke/perl-5.14.1/cpan/build/Data-OptList-0.107-9Zn9cI/blib/lib:/home/sts/cpansmoke/perl-5.14.1/cpan/build/Sub-Install-0.925-T8RBm1/blib/arch:/home/sts/cpansmoke/perl-5.14.1/cpan/build/Sub-Install-0.925-T8RBm1/blib/lib:/home/sts/cpansmoke/perl-5.14.1/cpan/build/Params-Util-1.04-S2yqdI/blib/arch:/home/sts/cpansmoke/perl-5.14.1/cpan/build/Params-Util-1.04-S2yqdI/blib/lib:/home/sts/cpansmoke/perl-5.14.1/cpan/build/Test-Fatal-0.006-qkMBfj/blib/arch:/home/sts/cpansmoke/perl-5.14.1/cpan/build/Test-Fatal-0.006-qkMBfj/blib/lib:/home/sts/cpansmoke/perl-5.14.1/cpan/build/Try-Tiny-0.09-gD5w7M/blib/arch:/home/sts/cpansmoke/perl-5.14.1/cpan/build/Try-Tiny-0.09-gD5w7M/blib/lib:/home/sts/cpansmoke/perl-5.14.1/cpan/build/Test-Deep-0.108-231I6n/blib/arch:/home/sts/cpansmoke/perl-5.14.1/cpan/build/Test-Deep-0.108-231I6n/blib/lib:/home/sts/cpansmoke/perl-5.14.1/cpan/build/Test-NoWarnings-1.02-Rv4NWD/blib/arch:/home/sts/cpansmoke/perl-5.14.1/cpan/build/Test-NoWarnings-1.02-Rv4NWD/blib/lib:/home/sts/cpansmoke/perl-5.14.1/cpan/build/Test-Tester-0.107-ksIi0F/blib/arch:/home/sts/cpansmoke/perl-5.14.1/cpan/build/Test-Tester-0.107-ksIi0F/blib/lib:/home/sts/cpansmoke/perl-5.14.1/cpan/build/List-AllUtils-0.02-POqo70/blib/arch:/home/sts/cpansmoke/perl-5.14.1/cpan/build/List-AllUtils-0.02-POqo70/blib/lib:/home/sts/cpansmoke/perl-5.14.1/cpan/build/List-MoreUtils-0.32-JYoIp_/blib/arch:/home/sts/cpansmoke/perl-5.14.1/cpan/build/List-MoreUtils-0.32-JYoIp_/blib/lib"
    PERL5OPT=""
    PERL5_CPANPLUS_IS_RUNNING="27268"
    PERL5_CPAN_IS_RUNNING="27268"
    PERL5_CPAN_IS_RUNNING_IN_RECURSION="474,27268"
    PERL_CR_SMOKER_CURRENT="Math-Pell-0.6-withoutworldwriteables"
    PERL_EXTUTILS_AUTOINSTALL="--defaultdeps"
    PERL_MM_USE_DEFAULT="1"
  @INC:
    /home/sts/cpansmoke/perl-5.14.1/cpan/build/Moose-2.0202-7zFlFQ/blib/arch
    /home/sts/cpansmoke/perl-5.14.1/cpan/build/Moose-2.0202-7zFlFQ/blib/lib
    /home/sts/cpansmoke/perl-5.14.1/cpan/build/Devel-GlobalDestruction-0.04-xHR0I2/blib/arch
    /home/sts/cpansmoke/perl-5.14.1/cpan/build/Devel-GlobalDestruction-0.04-xHR0I2/blib/lib
    /home/sts/cpansmoke/perl-5.14.1/cpan/build/Sub-Name-0.05-wWKe2_/blib/arch
    /home/sts/cpansmoke/perl-5.14.1/cpan/build/Sub-Name-0.05-wWKe2_/blib/lib
    /home/sts/cpansmoke/perl-5.14.1/cpan/build/Package-Stash-0.30-CeqjwY/blib/arch
    /home/sts/cpansmoke/perl-5.14.1/cpan/build/Package-Stash-0.30-CeqjwY/blib/lib
    /home/sts/cpansmoke/perl-5.14.1/cpan/build/Eval-Closure-0.06-7UUFqr/blib/arch
    /home/sts/cpansmoke/perl-5.14.1/cpan/build/Eval-Closure-0.06-7UUFqr/blib/lib
    /home/sts/cpansmoke/perl-5.14.1/cpan/build/MRO-Compat-0.11-Edo1gF/blib/arch
    /home/sts/cpansmoke/perl-5.14.1/cpan/build/MRO-Compat-0.11-Edo1gF/blib/lib
    /home/sts/cpansmoke/perl-5.14.1/cpan/build/Package-Stash-XS-0.22-jlyb9B/blib/arch
    /home/sts/cpansmoke/perl-5.14.1/cpan/build/Package-Stash-XS-0.22-jlyb9B/blib/lib
    /home/sts/cpansmoke/perl-5.14.1/cpan/build/Package-DeprecationManager-0.11-ykiLky/blib/arch
    /home/sts/cpansmoke/perl-5.14.1/cpan/build/Package-DeprecationManager-0.11-ykiLky/blib/lib
    /home/sts/cpansmoke/perl-5.14.1/cpan/build/Test-Requires-0.06-kSUewC/blib/arch
    /home/sts/cpansmoke/perl-5.14.1/cpan/build/Test-Requires-0.06-kSUewC/blib/lib
    /home/sts/cpansmoke/perl-5.14.1/cpan/build/Dist-CheckConflicts-0.02-AjhXud/blib/arch
    /home/sts/cpansmoke/perl-5.14.1/cpan/build/Dist-CheckConflicts-0.02-AjhXud/blib/lib
    /home/sts/cpansmoke/perl-5.14.1/cpan/build/Sub-Exporter-0.982-eX3XFm/blib/arch
    /home/sts/cpansmoke/perl-5.14.1/cpan/build/Sub-Exporter-0.982-eX3XFm/blib/lib
    /home/sts/cpansmoke/perl-5.14.1/cpan/build/Data-OptList-0.107-9Zn9cI/blib/arch
    /home/sts/cpansmoke/perl-5.14.1/cpan/build/Data-OptList-0.107-9Zn9cI/blib/lib
    /home/sts/cpansmoke/perl-5.14.1/cpan/build/Sub-Install-0.925-T8RBm1/blib/arch
    /home/sts/cpansmoke/perl-5.14.1/cpan/build/Sub-Install-0.925-T8RBm1/blib/lib
    /home/sts/cpansmoke/perl-5.14.1/cpan/build/Params-Util-1.04-S2yqdI/blib/arch
    /home/sts/cpansmoke/perl-5.14.1/cpan/build/Params-Util-1.04-S2yqdI/blib/lib
    /home/sts/cpansmoke/perl-5.14.1/cpan/build/Test-Fatal-0.006-qkMBfj/blib/arch
    /home/sts/cpansmoke/perl-5.14.1/cpan/build/Test-Fatal-0.006-qkMBfj/blib/lib
    /home/sts/cpansmoke/perl-5.14.1/cpan/build/Try-Tiny-0.09-gD5w7M/blib/arch
    /home/sts/cpansmoke/perl-5.14.1/cpan/build/Try-Tiny-0.09-gD5w7M/blib/lib
    /home/sts/cpansmoke/perl-5.14.1/cpan/build/Test-Deep-0.108-231I6n/blib/arch
    /home/sts/cpansmoke/perl-5.14.1/cpan/build/Test-Deep-0.108-231I6n/blib/lib
    /home/sts/cpansmoke/perl-5.14.1/cpan/build/Test-NoWarnings-1.02-Rv4NWD/blib/arch
    /home/sts/cpansmoke/perl-5.14.1/cpan/build/Test-NoWarnings-1.02-Rv4NWD/blib/lib
    /home/sts/cpansmoke/perl-5.14.1/cpan/build/Test-Tester-0.107-ksIi0F/blib/arch
    /home/sts/cpansmoke/perl-5.14.1/cpan/build/Test-Tester-0.107-ksIi0F/blib/lib
    /home/sts/cpansmoke/perl-5.14.1/cpan/build/List-AllUtils-0.02-POqo70/blib/arch
    /home/sts/cpansmoke/perl-5.14.1/cpan/build/List-AllUtils-0.02-POqo70/blib/lib
    /home/sts/cpansmoke/perl-5.14.1/cpan/build/List-MoreUtils-0.32-JYoIp_/blib/arch
    /home/sts/cpansmoke/perl-5.14.1/cpan/build/List-MoreUtils-0.32-JYoIp_/blib/lib
    /home/sts/cpansmoke/perl-5.14.1/lib/site_perl/5.14.1/i386-netbsd-thread-multi
    /home/sts/cpansmoke/perl-5.14.1/lib/site_perl/5.14.1
    /home/sts/cpansmoke/perl-5.14.1/lib/5.14.1/i386-netbsd-thread-multi
    /home/sts/cpansmoke/perl-5.14.1/lib/5.14.1
    .