Back
From: metabase:user:314402c4-2aae-11df-837a-5e0a49663a4f
Subject: PASS XML-CompileX-Schema-Loader-0.003 v5.20.1 GNU/Linux
Date: 2015-01-07T01:47:16Z
This distribution has been tested as part of the CPAN Testers
project, supporting the Perl programming language. See
http://wiki.cpantesters.org/ for more information or email
questions to cpan-testers-discuss@perl.org
--
Dear Mark Gardner,
This is a computer-generated report for XML-CompileX-Schema-Loader-0.003
on perl 5.20.1, created by CPAN-Reporter-1.2011.
Thank you for uploading your work to CPAN. Congratulations!
All tests were successful.
Sections of this report:
* Tester comments
* Program output
* Prerequisites
* Environment and other context
------------------------------
TESTER COMMENTS
------------------------------
Additional comments from tester:
none provided
------------------------------
PROGRAM OUTPUT
------------------------------
Output from '/usr/bin/make test':
PERL_DL_NONLAZY=1 "/bbbike/perl-5.20.1/bin/perl5.20.1" "-MExtUtils::Command::MM" "-MTest::Harness" "-e" "undef *Test::Harness::Switches; test_harness(0, 'blib/lib', 'blib/arch')" t/*.t
t/00-compile.t ............... ok
# Testing with Perl 5.020001, /bbbike/perl-5.20.1/bin/perl5.20.1
# CHI version is 0.58
# Carp version is 1.3301
# Const::Fast version is 0.014
# ExtUtils::MakeMaker version is 7.04
# File::Spec version is 3.47
# HTTP::Exception version is 0.04006
# HTTP::Response version is 6.04
# HTTP::Status version is 6.03
# IO::Handle version is 1.35
# IO::Prompt::Tiny version is 0.002
# IPC::Open3 version is 1.16
# LWP::UserAgent version is 6.06
# List::MoreUtils version is 0.401
# Modern::Perl version is 1.20140107
# Moo version is 1.006001
# MooX::Types::MooseLike::Base version is 0.27
# Path::Tiny version is 0.061
# Scalar::Util version is 1.41
# Test::LWP::UserAgent version is 0.026
# Test::More version is 1.001009
# Test::Most version is 0.34
# Test::TempDir::Tiny version is 0.003
# URI version is 1.65
# URI::file version is 4.21
# WWW::Mechanize::Cached version is 1.44
# XML::Compile::SOAP11 version is 3.05
# XML::Compile::SOAP::Util version is 3.05
# XML::Compile::Transport::SOAPHTTP version is 3.05
# XML::Compile::Util version is 1.47
# XML::Compile::WSDL11 version is 3.02
# XML::LibXML version is 2.0116
# strict version is 1.08
# utf8 version is 1.13_01
# warnings version is 1.23
t/000-report-versions.t ...... ok
t/author-critic.t ............ skipped: these tests are for testing by the author
t/author-eol.t ............... skipped: these tests are for testing by the author
t/author-no-tabs.t ........... skipped: these tests are for testing by the author
t/netsuite_2014_2_0.t ........ ok
t/release-cpan-changes.t ..... skipped: these tests are for release candidate testing
t/release-dist-manifest.t .... skipped: these tests are for release candidate testing
t/release-distmeta.t ......... skipped: these tests are for release candidate testing
t/release-kwalitee.t ......... skipped: these tests are for release candidate testing
t/release-meta-json.t ........ skipped: these tests are for release candidate testing
t/release-minimum-version.t .. skipped: these tests are for release candidate testing
t/release-mojibake.t ......... skipped: these tests are for release candidate testing
t/release-pod-coverage.t ..... skipped: these tests are for release candidate testing
t/release-pod-linkcheck.t .... skipped: these tests are for release candidate testing
t/release-pod-syntax.t ....... skipped: these tests are for release candidate testing
t/release-portability.t ...... skipped: these tests are for release candidate testing
t/release-synopsis.t ......... skipped: these tests are for release candidate testing
t/release-test-version.t ..... skipped: these tests are for release candidate testing
t/release-unused-vars.t ...... skipped: these tests are for release candidate testing
t/stockquote.t ............... ok
All tests successful.
Files=21, Tests=46, 2 wallclock secs ( 0.06 usr 0.10 sys + 1.57 cusr 0.41 csys = 2.14 CPU)
Result: PASS
------------------------------
PREREQUISITES
------------------------------
Prerequisite modules loaded:
requires:
Module Need Have
--------------------------------- ----- ----------
HTTP::Exception 0 0.04006
List::MoreUtils 0 0.401
LWP::UserAgent 0 6.06
Modern::Perl 0 1.20140107
Moo 0 1.006001
MooX::Types::MooseLike::Base 0 0.27
perl 5.010 5.020001
URI 0 1.65
utf8 0 1.13_01
XML::Compile::SOAP::Util 0 3.05
XML::Compile::Util 0 1.47
XML::Compile::WSDL11 0 3.02
XML::LibXML 0 2.0116
build_requires:
Module Need Have
--------------------------------- ----- ----------
Carp 0 1.3301
CHI 0 0.58
Const::Fast 0 0.014
ExtUtils::MakeMaker 0 7.04
File::Spec 0 3.47
HTTP::Response 0 6.04
HTTP::Status 0 6.03
IO::Handle 0 1.35
IO::Prompt::Tiny 0 0.002
IPC::Open3 0 1.16
Path::Tiny 0 0.061
Scalar::Util 0 1.41
strict 0 1.08
Test::LWP::UserAgent 0 0.026
Test::More 0.94 1.001009
Test::Most 0 0.34
Test::TempDir::Tiny 0 0.003
URI::file 0 4.21
warnings 0 1.23
WWW::Mechanize::Cached 0 1.44
XML::Compile::SOAP11 0 3.05
XML::Compile::Transport::SOAPHTTP 0 3.05
configure_requires:
Module Need Have
--------------------------------- ----- ----------
ExtUtils::MakeMaker 0 7.04
------------------------------
ENVIRONMENT AND OTHER CONTEXT
------------------------------
Environment variables:
DBIC_NO_WARN_BAD_PERL = 1
LANG = C
LC_ALL = de_DE.UTF-8
PATH = /usr/local/bin:/usr/bin:/bin:/usr/local/sbin:/usr/sbin:/sbin:/home/eserte/bin/linux-gnu:/home/eserte/bin/sh:/home/eserte/bin:/usr/games:/home/eserte/devel:/home/eserte/src/srezic-misc/scripts
PERL5LIB =
PERL5OPT =
PERL5_CPANPLUS_IS_RUNNING = 27976
PERL5_CPAN_IS_RUNNING = 27976
PERL5_CPAN_IS_RUNNING_IN_RECURSION = 27894,27976
PERLDOC = -MPod::Perldoc::ToTextOverstrike
PERL_BATCH = yes
PERL_CPAN_REPORTER_CONFIG = /var/tmp/cpansmoker-1001/a9JuYnXk_s_config.ini
PERL_EXTUTILS_AUTOINSTALL = --defaultdeps
PERL_HTML_DISPLAY_CLASS = HTML::Display::Mozilla
PERL_PARALLEL_SMOKER = yes
SHELL = /bin/zsh
TERM = screen
TMPDIR = /var/tmp/cpansmoker-1001
Perl special variables (and OS-specific diagnostics, for MSWin32):
$^X = /bbbike/perl-5.20.1/bin/perl5.20.1
$UID/$EUID = 1001 / 1001
$GID = 1001 109 1001
$EGID = 1001 109 1001
Perl module toolchain versions installed:
Module Have
------------------- --------
CPAN 2.05
CPAN::Meta 2.142690
Cwd 3.47
ExtUtils::CBuilder 0.280219
ExtUtils::Command 1.18
ExtUtils::Install 2.04
ExtUtils::MakeMaker 7.04
ExtUtils::Manifest 1.68
ExtUtils::ParseXS 3.24
File::Spec 3.47
JSON 2.90
JSON::PP 2.27203
Module::Build 0.4210
Module::Signature 0.73
Parse::CPAN::Meta 1.4414
Test::Harness 3.34
Test::More 1.001009
YAML 1.12
YAML::Syck 1.29
version 0.9909
--
Summary of my perl5 (revision 5 version 20 subversion 1) configuration:
Platform:
osname=linux, osvers=3.2.0-4-amd64, archname=x86_64-linux
uname='linux eserte 3.2.0-4-amd64 #1 smp debian 3.2.60-1+deb7u3 x86_64 gnulinux '
config_args='-ds -e -Dprefix=/opt/perl-5.20.1'
hint=recommended, useposix=true, d_sigaction=define
useithreads=undef, usemultiplicity=undef
use64bitint=define, use64bitall=define, uselongdouble=undef
usemymalloc=n, bincompat5005=undef
Compiler:
cc='cc', ccflags ='-fwrapv -fno-strict-aliasing -pipe -fstack-protector -I/usr/local/include -D_LARGEFILE_SOURCE -D_FILE_OFFSET_BITS=64',
optimize='-O2',
cppflags='-fwrapv -fno-strict-aliasing -pipe -fstack-protector -I/usr/local/include'
ccversion='', gccversion='4.7.2', gccosandvers=''
intsize=4, longsize=8, ptrsize=8, doublesize=8, byteorder=12345678
d_longlong=define, longlongsize=8, d_longdbl=define, longdblsize=16
ivtype='long', ivsize=8, nvtype='double', nvsize=8, Off_t='off_t', lseeksize=8
alignbytes=8, prototype=define
Linker and Libraries:
ld='cc', ldflags =' -fstack-protector -L/usr/local/lib'
libpth=/usr/local/lib /usr/lib/gcc/x86_64-linux-gnu/4.7/include-fixed /usr/include/x86_64-linux-gnu /usr/lib /lib/x86_64-linux-gnu /lib/../lib /usr/lib/x86_64-linux-gnu /usr/lib/../lib /lib
libs=-lnsl -ldb -ldl -lm -lcrypt -lutil -lc
perllibs=-lnsl -ldl -lm -lcrypt -lutil -lc
libc=libc-2.13.so, so=so, useshrplib=false, libperl=libperl.a
gnulibc_version='2.13'
Dynamic Linking:
dlsrc=dl_dlopen.xs, dlext=so, d_dlsymun=undef, ccdlflags='-Wl,-E'
cccdlflags='-fPIC', lddlflags='-shared -O2 -L/usr/local/lib -fstack-protector'
Characteristics of this binary (from libperl):
Compile-time options: HAS_TIMES PERLIO_LAYERS PERL_DONT_CREATE_GVSV
PERL_HASH_FUNC_ONE_AT_A_TIME_HARD PERL_MALLOC_WRAP
PERL_NEW_COPY_ON_WRITE PERL_PRESERVE_IVUV
USE_64_BIT_ALL USE_64_BIT_INT USE_LARGE_FILES
USE_LOCALE USE_LOCALE_COLLATE USE_LOCALE_CTYPE
USE_LOCALE_NUMERIC USE_PERLIO USE_PERL_ATOF
Built under linux
Compiled at Sep 14 2014 15:24:49
%ENV:
PERL5LIB=""
PERL5OPT=""
PERL5_CPANPLUS_IS_RUNNING="27976"
PERL5_CPAN_IS_RUNNING="27976"
PERL5_CPAN_IS_RUNNING_IN_RECURSION="27894,27976"
PERLDOC="-MPod::Perldoc::ToTextOverstrike"
PERL_BATCH="yes"
PERL_CPAN_REPORTER_CONFIG="/var/tmp/cpansmoker-1001/a9JuYnXk_s_config.ini"
PERL_EXTUTILS_AUTOINSTALL="--defaultdeps"
PERL_HTML_DISPLAY_CLASS="HTML::Display::Mozilla"
PERL_PARALLEL_SMOKER="yes"
@INC:
/opt/perl-5.20.1/lib/site_perl/5.20.1/x86_64-linux
/opt/perl-5.20.1/lib/site_perl/5.20.1
/opt/perl-5.20.1/lib/5.20.1/x86_64-linux
/opt/perl-5.20.1/lib/5.20.1
.