Report for Web-MREST-0.286

Back
From: metabase:user:320bfe00-2aae-11df-837a-5e0a49663a4f
Subject: PASS Web-MREST-0.286 v5.22.2 GNU/Linux
Date: 2016-09-27T08:05:09Z

This distribution has been tested as part of the CPAN Testers
project, supporting the Perl programming language.  See
http://wiki.cpantesters.org/ for more information or email
questions to cpan-testers-discuss@perl.org


--
Dear Nathan Cutler,

This is a computer-generated report for Web-MREST-0.286
on perl 5.22.2, created by CPAN-Reporter-1.2018.

Thank you for uploading your work to CPAN.  Congratulations!
All tests were successful.

Sections of this report:

    * Tester comments
    * Program output
    * Prerequisites
    * Environment and other context

------------------------------
TESTER COMMENTS
------------------------------

Additional comments from tester:

this report is from an automated smoke testing program
and was not reviewed by a human for accuracy

------------------------------
PROGRAM OUTPUT
------------------------------

Output from './Build test':

t/2xx/200-OK.t ........................ ok
t/2xx/201-Created.t ................... ok
t/4xx/400-Bad-Request.t ............... ok
t/4xx/401-Unauthorized.t .............. ok
t/4xx/403-Forbidden.t ................. ok
t/4xx/405-Method-Not-Allowed.t ........ ok
t/4xx/406-Not-Acceptable.t ............ ok
t/4xx/413-Request-Entity-Too-Large.t .. ok
t/4xx/414-Request-URI-Too-Long.t ...... ok
t/4xx/415-Unsupported-Media-Type.t .... ok
t/5xx/501-Not-Implemented.t ........... ok
t/5xx/503-Service-Unavailable.t ....... ok
t/config.t ............................ ok
t/dispatch/bugreport.t ................ ok
t/dispatch/docu.t ..................... ok
t/dispatch/echo.t ..................... ok
t/dispatch/noop.t ..................... ok
t/dispatch/param.t .................... ok
t/dispatch/root_resource.t ............ ok
t/dispatch/version.t .................. ok
t/mrest_declare_status.t .............. ok
t/request_body_read.t ................. ok
All tests successful.
Files=22, Tests=352, 23 wallclock secs ( 0.11 usr  0.02 sys +  8.71 cusr  1.11 csys =  9.95 CPU)
Result: PASS

------------------------------
PREREQUISITES
------------------------------

Prerequisite modules loaded:

requires:

    Module                        Need   Have    
    ----------------------------- ------ --------
    App::CELL                     0.205  0.222   
    Encode                        0      2.72    
    File::ShareDir                1.00   1.102   
    File::Spec                    0      3.62    
    Getopt::Long                  2.32   2.45    
    HTTP::Request                 0      6.11    
    HTTP::Request::Common         0      6.11    
    JSON                          0      2.90    
    LWP::Protocol::https          6.04   6.06    
    LWP::UserAgent                6.05   6.15    
    Module::Runtime               0      0.014   
    Params::Validate              1.06   1.24    
    Path::Router                  0.12   0.15    
    perl                          5.012  5.022002
    Plack::Middleware::LogErrors  0      0.002   
    Plack::Middleware::Session    0      0.30    
    Plack::Middleware::StackTrace 0      0       
    Plack::Runner                 0      0       
    Plack::Session                0      0.30    
    Pod::Simple::HTML             0      3.29    
    Pod::Simple::Text             0      3.29    
    Pod::Usage                    0      1.64    
    Term::ReadLine                0      1.15    
    Test::Deep::NoTest            0      0       
    Try::Tiny                     0      0.27    
    URI::Escape                   0      3.31    
    Web::Machine                  0.15   0.17    
    Web::MREST::CLI               0.276  0.283   

build_requires:

    Module                        Need   Have    
    ----------------------------- ------ --------
    App::CELL                     0.209  0.222   
    Cwd                           0      3.62    
    Encode                        0      2.72    
    File::Basename                0      2.85    
    File::ShareDir                0      1.102   
    File::Spec                    0      3.62    
    HTTP::Request                 0      6.11    
    HTTP::Request::Common         0      6.11    
    JSON                          0      2.90    
    LWP::Protocol::https          6.04   6.06    
    LWP::UserAgent                6.05   6.15    
    Module::Runtime               0      0.014   
    Params::Validate              0      1.24    
    Path::Router                  0.12   0.15    
    Plack                         1.0031 1.0039  
    Plack::Session                0      0.30    
    Plack::Test                   0      0       
    Pod::Simple::HTML             0      3.29    
    Pod::Simple::Text             0      3.29    
    Test::Deep                    0      1.123   
    Test::Fatal                   0      0.014   
    Test::JSON                    0      0.11    
    Test::More                    0      1.302057
    Test::Warnings                0      0.026   
    Try::Tiny                     0      0.27    
    URI::Escape                   0      3.31    
    Web::Machine                  0.15   0.17    

configure_requires:

    Module                        Need   Have    
    ----------------------------- ------ --------
    Module::Build                 0      0.4220  


------------------------------
ENVIRONMENT AND OTHER CONTEXT
------------------------------

Environment variables:

    AUTOMATED_TESTING = 1
    LANG = en_US.UTF-8
    LANGUAGE = en_US:en
    PATH = /home/sand/bin:/usr/local/bin:/usr/bin:/bin:/usr/games:/usr/local/perl/bin:/usr/X11/bin:/sbin:/usr/sbin
    PERL5LIB = 
    PERL5OPT = 
    PERL5_CPANPLUS_IS_RUNNING = 23845
    PERL5_CPAN_IS_RUNNING = 23845
    PERL_CANARY_STABILITY_NOPROMPT = 1
    PERL_MM_USE_DEFAULT = 1
    SHELL = /usr/bin/zsh
    TERM = screen

Perl special variables (and OS-specific diagnostics, for MSWin32):

    $^X = /home/sand/src/perl/repoperls/installed-perls/perl/v5.22.2/79cc/bin/perl
    $UID/$EUID = 1005 / 1005
    $GID = 1005 1005
    $EGID = 1005 1005

Perl module toolchain versions installed:

    Module              Have    
    ------------------- --------
    CPAN                2.15    
    CPAN::Meta          2.150010
    Cwd                 3.62    
    ExtUtils::CBuilder  0.280224
    ExtUtils::Command   7.24    
    ExtUtils::Install   2.04    
    ExtUtils::MakeMaker 7.24    
    ExtUtils::Manifest  1.70    
    ExtUtils::ParseXS   3.28    
    File::Spec          3.62    
    JSON                2.90    
    JSON::PP            2.27300 
    Module::Build       0.4220  
    Module::Signature   0.81    
    Parse::CPAN::Meta   2.150010
    Test::Harness       3.36    
    Test::More          1.302057
    YAML                1.18    
    YAML::Syck          1.29    
    version             0.9917  


--

Summary of my perl5 (revision 5 version 22 subversion 2) configuration:
  Commit id: 9cbffb38735712e3a34e6f537892b6ef06fb815f
  Platform:
    osname=linux, osvers=4.7.0-1-amd64, archname=x86_64-linux
    uname='linux k83 4.7.0-1-amd64 #1 smp debian 4.7.2-1 (2016-08-28) x86_64 gnulinux '
    config_args='-Dprefix=/home/sand/src/perl/repoperls/installed-perls/perl/v5.22.2/79cc -Dmyhostname=k83 -Dinstallusrbinperl=n -Uversiononly -Dusedevel -des -Ui_db -Dlibswanted=cl pthread socket inet nsl gdbm dbm malloc dl ld sun m crypt sec util c cposix posix ucb BSD gdbm_compat -Uuseithreads -Uuselongdouble -DDEBUGGING=-g'
    hint=recommended, useposix=true, d_sigaction=define
    useithreads=undef, usemultiplicity=undef
    use64bitint=define, use64bitall=define, uselongdouble=undef
    usemymalloc=n, bincompat5005=undef
  Compiler:
    cc='cc', ccflags ='-fwrapv -fno-strict-aliasing -pipe -fstack-protector-strong -I/usr/local/include -D_LARGEFILE_SOURCE -D_FILE_OFFSET_BITS=64',
    optimize='-O2 -g',
    cppflags='-fwrapv -fno-strict-aliasing -pipe -fstack-protector-strong -I/usr/local/include'
    ccversion='', gccversion='6.2.0 20160830', gccosandvers=''
    intsize=4, longsize=8, ptrsize=8, doublesize=8, byteorder=12345678, doublekind=3
    d_longlong=define, longlongsize=8, d_longdbl=define, longdblsize=16, longdblkind=3
    ivtype='long', ivsize=8, nvtype='double', nvsize=8, Off_t='off_t', lseeksize=8
    alignbytes=8, prototype=define
  Linker and Libraries:
    ld='cc', ldflags =' -fstack-protector-strong -L/usr/local/lib'
    libpth=/usr/local/lib /usr/lib/gcc/x86_64-linux-gnu/6/include-fixed /usr/include/x86_64-linux-gnu /usr/lib /lib/x86_64-linux-gnu /lib/../lib /usr/lib/x86_64-linux-gnu /usr/lib/../lib /lib
    libs=-lpthread -lnsl -lgdbm -ldl -lm -lcrypt -lutil -lc -lgdbm_compat
    perllibs=-lpthread -lnsl -ldl -lm -lcrypt -lutil -lc
    libc=libc-2.24.so, so=so, useshrplib=false, libperl=libperl.a
    gnulibc_version='2.24'
  Dynamic Linking:
    dlsrc=dl_dlopen.xs, dlext=so, d_dlsymun=undef, ccdlflags='-Wl,-E'
    cccdlflags='-fPIC', lddlflags='-shared -O2 -g -L/usr/local/lib -fstack-protector-strong'


Characteristics of this binary (from libperl): 
  Compile-time options: HAS_TIMES PERLIO_LAYERS PERL_DONT_CREATE_GVSV
                        PERL_HASH_FUNC_ONE_AT_A_TIME_HARD PERL_MALLOC_WRAP
                        PERL_NEW_COPY_ON_WRITE PERL_PRESERVE_IVUV
                        PERL_USE_DEVEL USE_64_BIT_ALL USE_64_BIT_INT
                        USE_LARGE_FILES USE_LOCALE USE_LOCALE_COLLATE
                        USE_LOCALE_CTYPE USE_LOCALE_NUMERIC USE_LOCALE_TIME
                        USE_PERLIO USE_PERL_ATOF
  Built under linux
  Compiled at Sep  5 2016 05:27:26
  %ENV:
    PERL5LIB=""
    PERL5OPT=""
    PERL5_CPANPLUS_IS_RUNNING="23845"
    PERL5_CPAN_IS_RUNNING="23845"
    PERL_CANARY_STABILITY_NOPROMPT="1"
    PERL_MM_USE_DEFAULT="1"
  @INC:
    /home/sand/src/perl/repoperls/installed-perls/perl/v5.22.2/79cc/lib/site_perl/5.22.2/x86_64-linux
    /home/sand/src/perl/repoperls/installed-perls/perl/v5.22.2/79cc/lib/site_perl/5.22.2
    /home/sand/src/perl/repoperls/installed-perls/perl/v5.22.2/79cc/lib/5.22.2/x86_64-linux
    /home/sand/src/perl/repoperls/installed-perls/perl/v5.22.2/79cc/lib/5.22.2
    .