PAR-Packer v1.061 Perl 5 v5.26.1 amd64-freebsd
- Status
- Pass
- From
- Slaven Rezić
- Dist
-
PAR-Packer v1.061
- Platform
- Perl 5 v5.26.1 amd64-freebsd
- Date
- 2023-12-20 04:13:20
- ID
- 1c19d04a-9eee-11ee-9381-9d136e8775ea
This distribution has been tested as part of the CPAN Testers
project, supporting the Perl programming language. See
http://wiki.cpantesters.org/ for more information or email
questions to cpan-testers-discuss@perl.org
--
Dear Roderich Schupp,
This is a computer-generated report for PAR-Packer-1.061
on perl 5.26.1, created by CPAN-Reporter-1.2018.
Thank you for uploading your work to CPAN. Congratulations!
All tests were successful.
Sections of this report:
* Tester comments
* Program output
* Prerequisites
* Environment and other context
------------------------------
TESTER COMMENTS
------------------------------
Additional comments from tester:
none provided
------------------------------
PROGRAM OUTPUT
------------------------------
Output from '/usr/bin/make test':
"/usr/perl5.26.1p/bin/perl" -MExtUtils::Command::MM -e 'cp_nonempty' -- XSFoo.bs ../blib/lib/auto/XSFoo/XSFoo.bs 644
"/usr/perl5.26.1p/bin/perl" -MExtUtils::Command::MM -e 'cp_nonempty' -- XSFoo.bs ../blib/lib/auto/XSFoo/XSFoo.bs 644
No tests defined for XSFoo extension.
No tests defined for myldr extension.
PERL_DL_NONLAZY=1 "/usr/perl5.26.1p/bin/perl" "-MExtUtils::Command::MM" "-MTest::Harness" "-e" "undef *Test::Harness::Switches; test_harness(0, 'blib/lib', 'blib/arch')" t/*.t
t/00-pod.t ............... skipped: Set environment variable PERL_TEST_POD=1 to test POD
t/10-parl-generation.t ... ok
/var/tmp/cpansmoker-1023/2023122004/Gzkcudq9IH syntax OK
t/20-pp.t ................ ok
t/30-current_exec.t ...... ok
t/40-packer_cd_option.t .. ok
t/80-doublecolon.t ....... ok
t/85-crt-glob.t .......... ok
t/85-myfile.t ............ ok
# dl_shared_objects = /var/tmp/cpansmoker-1023/2023122004/B6cZz3KBx8/par-6370616e73616e64/cache-22f1692b7edc6d9ecfe1086e19cbffa61d6db0dd/3ff2b51b.so /var/tmp/cpansmoker-1023/2023122004/B6cZz3KBx8/par-6370616e73616e64/cache-22f1692b7edc6d9ecfe1086e19cbffa61d6db0dd/de3dd532.so /var/tmp/cpansmoker-1023/2023122004/B6cZz3KBx8/par-6370616e73616e64/cache-22f1692b7edc6d9ecfe1086e19cbffa61d6db0dd/3f331b68.so /var/tmp/cpansmoker-1023/2023122004/B6cZz3KBx8/par-6370616e73616e64/cache-22f1692b7edc6d9ecfe1086e19cbffa61d6db0dd/7a35ad86.so /var/tmp/cpansmoker-1023/2023122004/B6cZz3KBx8/par-6370616e73616e64/cache-22f1692b7edc6d9ecfe1086e19cbffa61d6db0dd/c479c43f.so /var/tmp/cpansmoker-1023/2023122004/B6cZz3KBx8/par-6370616e73616e64/cache-22f1692b7edc6d9ecfe1086e19cbffa61d6db0dd/595f0799.so /var/tmp/cpansmoker-1023/2023122004/B6cZz3KBx8/par-6370616e73616e64/cache-22f1692b7edc6d9ecfe1086e19cbffa61d6db0dd/88a40dbf.so /var/tmp/cpansmoker-1023/2023122004/B6cZz3KBx8/par-6370616e73616e64/cache-22f1692b7edc6d9ecfe1086e19cbffa61d6db0dd/7830d70b.so /var/tmp/cpansmoker-1023/2023122004/B6cZz3KBx8/par-6370616e73616e64/cache-22f1692b7edc6d9ecfe1086e19cbffa61d6db0dd/9f710d74.so /var/tmp/cpansmoker-1023/2023122004/B6cZz3KBx8/par-6370616e73616e64/cache-22f1692b7edc6d9ecfe1086e19cbffa61d6db0dd/40c503ba.so /var/tmp/cpansmoker-1023/2023122004/B6cZz3KBx8/par-6370616e73616e64/cache-22f1692b7edc6d9ecfe1086e19cbffa61d6db0dd/0f8fe573.so /var/tmp/cpansmoker-1023/2023122004/B6cZz3KBx8/par-6370616e73616e64/cache-22f1692b7edc6d9ecfe1086e19cbffa61d6db0dd/14bc0060.so /var/tmp/cpansmoker-1023/2023122004/B6cZz3KBx8/par-6370616e73616e64/cache-22f1692b7edc6d9ecfe1086e19cbffa61d6db0dd/a1acd022.so /var/tmp/cpansmoker-1023/2023122004/B6cZz3KBx8/par-6370616e73616e64/cache-22f1692b7edc6d9ecfe1086e19cbffa61d6db0dd/inc/lib/auto/XSFoo/XSFoo.so
# dl_modules = IO Fcntl Cwd Compress::Raw::Zlib List::Util Encode Storable Data::Dumper File::Glob Digest::SHA PerlIO::scalar Tie::Hash::NamedCapture attributes XSFoo
# greetings from XSFoo
t/86-xs-exe.t ............ ok
t/86-xs-par.t ............ ok
t/90-exitcode.t .......... ok
t/90-gh41.t .............. skipped: Tests only relevant on Windows
t/90-gh66.t .............. ok
# PAR_TEMP = /var/tmp/cpansmoker-1023/2023122004/NYkeEtWqfM/par-6370616e73616e64/cache-8accf9c1823df4aafc392db99a8ac4b800f71af4
# running /var/tmp/cpansmoker-1023/2023122004/NYkeEtWqfM/pp000 a second time
# running /var/tmp/cpansmoker-1023/2023122004/NYkeEtWqfM/pp000 a third time
t/90-rt101800.t .......... ok
t/90-rt103861.t .......... ok
t/90-rt104560.t .......... ok
t/90-rt104635.t .......... ok
t/90-rt122949.t .......... skipped: Tests only relevant on Windows
t/90-rt127064.t .......... skipped: Tests only relevant on Windows
t/90-rt129312.t .......... ok
# found core module Carp in /usr/perl5.26.1p/lib/5.26.1/Carp.pm
# found core module Exporter in /usr/perl5.26.1p/lib/5.26.1/Exporter.pm
# found core module File::Glob in /usr/perl5.26.1p/lib/5.26.1/amd64-freebsd/File/Glob.pm
# found core module List::Util in /usr/perl5.26.1p/lib/site_perl/5.26.1/amd64-freebsd/List/Util.pm
t/90-rt130685.t .......... ok
t/90-rt59710.t ........... ok
All tests successful.
Files=22, Tests=158, 62 wallclock secs ( 0.04 usr 0.05 sys + 29.16 cusr 24.70 csys = 53.95 CPU)
Result: PASS
------------------------------
PREREQUISITES
------------------------------
Prerequisite modules loaded:
requires:
Module Need Have
--------------------- -------- --------
Archive::Zip 1.02 1.59
Compress::Zlib 1.30 2.074
Digest::SHA 5.40 5.98
File::Temp 0.05 0.2304
Getopt::ArgvFile 1.07 1.11
IO::Compress::Gzip 0 2.074
Module::ScanDeps 1.21 1.24
PAR 1.016 1.019
PAR::Dist 0.22 0.49
perl 5.008009 5.026001
Text::ParseWords 0 3.30
build_requires:
Module Need Have
--------------------- -------- --------
ExtUtils::MakeMaker 0 7.58
IPC::Run3 0.048 0.048
Test::More 0 1.302106
configure_requires:
Module Need Have
--------------------- -------- --------
DynaLoader 0 1.42
ExtUtils::CBuilder 0 0.280226
ExtUtils::Embed 0 1.34
File::Basename 0 2.85
File::Glob 0 1.28
File::Spec::Functions 0 3.67
------------------------------
ENVIRONMENT AND OTHER CONTEXT
------------------------------
Environment variables:
LC_ALL = de_DE.ISO8859-1
PATH = /usr/local/bin:/usr/bin:/bin:/usr/local/sbin:/usr/sbin:/sbin:/home/cpansand/bin/freebsd10.3:/home/cpansand/bin/sh:/home/cpansand/bin:/usr/games:/home/cpansand/devel:/home/eserte/src/srezic-misc/scripts
PERL5LIB = /home/cpansand/.cpan/build/2023122005/PAR-1.019-0/blib/arch:/home/cpansand/.cpan/build/2023122005/PAR-1.019-0/blib/lib
PERL5OPT =
PERL5_CPANPLUS_IS_RUNNING = 1436
PERL5_CPAN_IS_RUNNING = 1436
PERL5_CPAN_IS_RUNNING_IN_RECURSION = 90097,1436
PERLDOC = -MPod::Perldoc::ToTextOverstrike
PERL_BATCH = yes
PERL_CANARY_STABILITY_NOPROMPT = 1
PERL_CPAN_REPORTER_CONFIG = /var/tmp/cpansmoker-1023/2023122004/cpanreporter_000_config.ini
PERL_EXTUTILS_AUTOINSTALL = --defaultdeps
PERL_USE_UNSAFE_INC = 1
SHELL = /usr/local/bin/zsh
TERM = screen
TMPDIR = /var/tmp/cpansmoker-1023/2023122004
Perl special variables (and OS-specific diagnostics, for MSWin32):
$^X = /usr/perl5.26.1p/bin/perl
$UID/$EUID = 1023 / 1023
$GID = 1023 1023
$EGID = 1023 1023
Perl module toolchain versions installed:
Module Have
------------------- --------
CPAN 2.18
CPAN::Meta 2.150010
Cwd 3.67
ExtUtils::CBuilder 0.280226
ExtUtils::Command 7.58
ExtUtils::Install 2.06
ExtUtils::MakeMaker 7.58
ExtUtils::Manifest 1.70
ExtUtils::ParseXS 3.34
File::Spec 3.67
JSON 2.94
JSON::PP 2.94
Module::Build 0.4224
Module::Signature 0.81
Parse::CPAN::Meta 2.150010
Test::Harness 3.39
Test::More 1.302106
YAML 1.24
YAML::Syck 1.30
version 0.9917
--
Summary of my perl5 (revision 5 version 26 subversion 1) configuration:
Platform:
osname=freebsd
osvers=10.3-release-p11
archname=amd64-freebsd
uname='freebsd cvrsnica-freebsd-101.herceg.de 10.3-release-p11 freebsd 10.3-release-p11 #0: mon oct 24 18:49:24 utc 2016 root@amd64-builder.daemonology.net:usrobjusrsrcsysgeneric amd64 '
config_args='-ds -e -Dprefix=/usr/perl5.26.1p -Dcf_email=srezic@cpan.org -Doptimize=-O2 -pipe'
hint=recommended
useposix=true
d_sigaction=define
useithreads=undef
usemultiplicity=undef
use64bitint=define
use64bitall=define
uselongdouble=undef
usemymalloc=n
default_inc_excludes_dot=define
bincompat5005=undef
Compiler:
cc='cc'
ccflags ='-DHAS_FPSETMASK -DHAS_FLOATINGPOINT_H -fno-strict-aliasing -pipe -fstack-protector -I/usr/local/include -D_FORTIFY_SOURCE=2'
optimize='-O2 -pipe'
cppflags='-DHAS_FPSETMASK -DHAS_FLOATINGPOINT_H -fno-strict-aliasing -pipe -fstack-protector -I/usr/local/include'
ccversion=''
gccversion='4.2.1 Compatible FreeBSD Clang 3.4.1 (tags/RELEASE_34/dot1-final 208032)'
gccosandvers=''
intsize=4
longsize=8
ptrsize=8
doublesize=8
byteorder=12345678
doublekind=3
d_longlong=define
longlongsize=8
d_longdbl=define
longdblsize=16
longdblkind=3
ivtype='long'
ivsize=8
nvtype='double'
nvsize=8
Off_t='off_t'
lseeksize=8
alignbytes=8
prototype=define
Linker and Libraries:
ld='cc'
ldflags ='-pthread -Wl,-E -fstack-protector -L/usr/local/lib'
libpth=/usr/lib /usr/local/lib /usr/include/clang/3.4.1 /usr/lib
libs=-lpthread -lgdbm -lm -lcrypt -lutil -lc -lelf
perllibs=-lpthread -lm -lcrypt -lutil -lc -lelf
libc=
so=so
useshrplib=false
libperl=libperl.a
gnulibc_version=''
Dynamic Linking:
dlsrc=dl_dlopen.xs
dlext=so
d_dlsymun=undef
ccdlflags=' '
cccdlflags='-DPIC -fPIC'
lddlflags='-shared -L/usr/local/lib -fstack-protector'
Characteristics of this binary (from libperl):
Compile-time options:
HAS_TIMES
PERLIO_LAYERS
PERL_COPY_ON_WRITE
PERL_DONT_CREATE_GVSV
PERL_MALLOC_WRAP
PERL_OP_PARENT
PERL_PRESERVE_IVUV
USE_64_BIT_ALL
USE_64_BIT_INT
USE_LARGE_FILES
USE_LOCALE
USE_LOCALE_COLLATE
USE_LOCALE_CTYPE
USE_LOCALE_NUMERIC
USE_LOCALE_TIME
USE_PERLIO
USE_PERL_ATOF
Built under freebsd
Compiled at Oct 31 2017 09:43:34
%ENV:
PERL5LIB="/home/cpansand/.cpan/build/2023122005/PAR-1.019-0/blib/arch:/home/cpansand/.cpan/build/2023122005/PAR-1.019-0/blib/lib"
PERL5OPT=""
PERL5_CPANPLUS_IS_RUNNING="1436"
PERL5_CPAN_IS_RUNNING="1436"
PERL5_CPAN_IS_RUNNING_IN_RECURSION="90097,1436"
PERLDOC="-MPod::Perldoc::ToTextOverstrike"
PERL_BATCH="yes"
PERL_CANARY_STABILITY_NOPROMPT="1"
PERL_CPAN_REPORTER_CONFIG="/var/tmp/cpansmoker-1023/2023122004/cpanreporter_000_config.ini"
PERL_EXTUTILS_AUTOINSTALL="--defaultdeps"
PERL_USE_UNSAFE_INC="1"
@INC:
/home/cpansand/.cpan/build/2023122005/PAR-1.019-0/blib/arch
/home/cpansand/.cpan/build/2023122005/PAR-1.019-0/blib/lib
/usr/perl5.26.1p/lib/site_perl/5.26.1/amd64-freebsd
/usr/perl5.26.1p/lib/site_perl/5.26.1
/usr/perl5.26.1p/lib/5.26.1/amd64-freebsd
/usr/perl5.26.1p/lib/5.26.1
.