Report for DateTime-Format-Strptime-1.72

Back
From: metabase:user:314402c4-2aae-11df-837a-5e0a49663a4f
Subject: PASS DateTime-Format-Strptime-1.72 v5.8.9 FreeBSD
Date: 2017-01-25T02:22:25Z

This distribution has been tested as part of the CPAN Testers
project, supporting the Perl programming language.  See
http://wiki.cpantesters.org/ for more information or email
questions to cpan-testers-discuss@perl.org


--
Dear Dave Rolsky,

This is a computer-generated report for DateTime-Format-Strptime-1.72
on perl 5.8.9, created by CPAN-Reporter-1.2018.

Thank you for uploading your work to CPAN.  Congratulations!
All tests were successful.

Sections of this report:

    * Tester comments
    * Program output
    * Prerequisites
    * Environment and other context

------------------------------
TESTER COMMENTS
------------------------------

Additional comments from tester:

none provided

------------------------------
PROGRAM OUTPUT
------------------------------

Output from '/usr/bin/make test':

PERL_DL_NONLAZY=1 "/usr/perl5.8.9/bin/perl" "-MExtUtils::Command::MM" "-MTest::Harness" "-e" "undef *Test::Harness::Switches; test_harness(0, 'blib/lib', 'blib/arch')" t/*.t
# 
# Versions for all modules listed in MYMETA.json (including optional ones):
# 
# === Configure Requires ===
# 
#     Module              Want Have
#     ------------------- ---- ----
#     ExtUtils::MakeMaker  any 7.24
# 
# === Configure Suggests ===
# 
#     Module      Want    Have
#     -------- ------- -------
#     JSON::PP 2.27300 2.27400
# 
# === Build Requires ===
# 
#     Module              Want Have
#     ------------------- ---- ----
#     ExtUtils::MakeMaker  any 7.24
# 
# === Test Requires ===
# 
#     Module              Want     Have
#     ------------------- ---- --------
#     ExtUtils::MakeMaker  any     7.24
#     File::Spec           any     3.62
#     Test::Builder        any 1.302075
#     Test::Fatal          any    0.014
#     Test::More          0.96 1.302075
#     Test::Warnings       any    0.026
#     lib                  any     0.61
#     utf8                 any     1.07
# 
# === Test Recommends ===
# 
#     Module         Want     Have
#     ---------- -------- --------
#     CPAN::Meta 2.120900 2.150010
# 
# === Runtime Requires ===
# 
#     Module                      Want    Have
#     --------------------------- ---- -------
#     Carp                         any    1.38
#     DateTime                    1.00    1.41
#     DateTime::Locale            1.05    1.11
#     DateTime::Locale::Base       any    1.11
#     DateTime::Locale::FromData   any    1.11
#     DateTime::TimeZone          2.09    2.09
#     Exporter                     any    5.72
#     Package::DeprecationManager 0.15    0.15
#     Params::ValidationCompiler   any    0.23
#     Specio                      0.33    0.33
#     Specio::Declare              any    0.33
#     Specio::Exporter             any    0.33
#     Specio::Library::Builtins    any    0.33
#     Specio::Library::String      any    0.33
#     Try::Tiny                    any    0.28
#     constant                     any    1.33
#     parent                       any   0.236
#     strict                       any    1.03
#     warnings                     any 1.05_01
# 
t/00-report-prereqs.t ... ok
t/basic.t ............... ok
t/edge.t ................ ok
t/errors.t .............. ok
t/format-with-locale.t .. ok
t/import.t .............. ok
t/locale-de.t ........... ok
t/locale-en.t ........... ok
t/locale-ga.t ........... ok
t/locale-pt.t ........... ok
t/locale-zh.t ........... ok
t/zones.t ............... ok
All tests successful.
Files=12, Tests=142, 17 wallclock secs ( 0.45 usr  0.23 sys + 12.09 cusr  1.62 csys = 14.39 CPU)
Result: PASS

------------------------------
PREREQUISITES
------------------------------

Prerequisite modules loaded:

requires:

    Module                      Need Have    
    --------------------------- ---- --------
    Carp                        0    1.38    
    constant                    0    1.33    
    DateTime                    1.00 1.41    
    DateTime::Locale            1.05 1.11    
    DateTime::Locale::Base      0    1.11    
    DateTime::Locale::FromData  0    1.11    
    DateTime::TimeZone          2.09 2.09    
    Exporter                    0    5.72    
    Package::DeprecationManager 0.15 0.15    
    Params::ValidationCompiler  0    0.23    
    parent                      0    0.236   
    Specio                      0.33 0.33    
    Specio::Declare             0    0.33    
    Specio::Exporter            0    0.33    
    Specio::Library::Builtins   0    0.33    
    Specio::Library::String     0    0.33    
    strict                      0    1.03    
    Try::Tiny                   0    0.28    
    warnings                    0    1.05_01 

build_requires:

    Module                      Need Have    
    --------------------------- ---- --------
    ExtUtils::MakeMaker         0    7.24    
    File::Spec                  0    3.62    
    lib                         0    0.61    
    Test::Builder               0    1.302075
    Test::Fatal                 0    0.014   
    Test::More                  0.96 1.302075
    Test::Warnings              0    0.026   
    utf8                        0    1.07    

configure_requires:

    Module                      Need Have    
    --------------------------- ---- --------
    ExtUtils::MakeMaker         0    7.24    


------------------------------
ENVIRONMENT AND OTHER CONTEXT
------------------------------

Environment variables:

    LC_ALL = de_DE.ISO8859-1
    PATH = /usr/local/bin:/usr/bin:/bin:/usr/local/sbin:/usr/sbin:/sbin:/home/cpansand/bin/freebsd9.3:/home/cpansand/bin/sh:/home/cpansand/bin:/usr/games:/home/cpansand/devel:/usr/home/eserte/src/srezic-misc/scripts
    PERL5LIB = /home/eserte/.cpan/build/2017012503/Specio-0.33-bwQ9iv/blib/arch:/home/eserte/.cpan/build/2017012503/Specio-0.33-bwQ9iv/blib/lib:/home/eserte/.cpan/build/2017012503/Bit-Manip-0.01-3uQIdG/blib/arch:/home/eserte/.cpan/build/2017012503/Bit-Manip-0.01-3uQIdG/blib/lib
    PERL5OPT = 
    PERL5_CPANPLUS_IS_RUNNING = 17590
    PERL5_CPAN_IS_RUNNING = 17590
    PERL5_CPAN_IS_RUNNING_IN_RECURSION = 17538,17590
    PERLDOC = -MPod::Perldoc::ToTextOverstrike
    PERL_BATCH = yes
    PERL_CANARY_STABILITY_NOPROMPT = 1
    PERL_CPAN_REPORTER_CONFIG = /var/tmp/cpansmoker-1023/2017012503/cpanreporter_000_config.ini
    PERL_EXTUTILS_AUTOINSTALL = --defaultdeps
    SHELL = /usr/local/bin/zsh
    TERM = screen
    TMPDIR = /var/tmp/cpansmoker-1023/2017012503

Perl special variables (and OS-specific diagnostics, for MSWin32):

    $^X = /usr/perl5.8.9/bin/perl
    $UID/$EUID = 1023 / 1023
    $GID = 1023 1023
    $EGID = 1023 1023

Perl module toolchain versions installed:

    Module              Have    
    ------------------- --------
    CPAN                2.10    
    CPAN::Meta          2.150010
    Cwd                 3.62    
    ExtUtils::CBuilder  0.280224
    ExtUtils::Command   7.24    
    ExtUtils::Install   2.04    
    ExtUtils::MakeMaker 7.24    
    ExtUtils::Manifest  1.70    
    ExtUtils::ParseXS   3.30    
    File::Spec          3.62    
    JSON                2.90    
    JSON::PP            2.27400 
    Module::Build       0.4220  
    Module::Signature   0.79    
    Parse::CPAN::Meta   2.150010
    Test::Harness       3.36    
    Test::More          1.302075
    YAML                1.20    
    YAML::Syck          1.29    
    version             0.9914  


--

Summary of my perl5 (revision 5 version 8 subversion 9) configuration:
  Platform:
    osname=freebsd, osvers=9.2-release-p4, archname=amd64-freebsd
    uname='freebsd cvrsnica-freebsd-92 9.2-release-p4 freebsd 9.2-release-p4 #0: tue apr 8 18:08:22 utc 2014 root@amd64-builder.daemonology.net:usrobjusrsrcsysgeneric amd64 '
    config_args='-ds -e -Dprefix=/usr/perl5.8.9'
    hint=recommended, useposix=true, d_sigaction=define
    usethreads=undef use5005threads=undef useithreads=undef usemultiplicity=undef
    useperlio=define d_sfio=undef uselargefiles=define usesocks=undef
    use64bitint=define use64bitall=define uselongdouble=undef
    usemymalloc=n, bincompat5005=undef
  Compiler:
    cc='cc', ccflags ='-DHAS_FPSETMASK -DHAS_FLOATINGPOINT_H -fno-strict-aliasing -pipe -I/usr/local/include',
    optimize='-O',
    cppflags='-DHAS_FPSETMASK -DHAS_FLOATINGPOINT_H -fno-strict-aliasing -pipe -I/usr/local/include'
    ccversion='', gccversion='4.2.1 20070831 patched [FreeBSD]', gccosandvers=''
    intsize=4, longsize=8, ptrsize=8, doublesize=8, byteorder=12345678
    d_longlong=define, longlongsize=8, d_longdbl=define, longdblsize=16
    ivtype='long', ivsize=8, nvtype='double', nvsize=8, Off_t='off_t', lseeksize=8
    alignbytes=8, prototype=define
  Linker and Libraries:
    ld='cc', ldflags ='-Wl,-E  -L/usr/local/lib'
    libpth=/usr/lib /usr/local/lib
    libs=-lgdbm -lm -lcrypt -lutil -lc
    perllibs=-lm -lcrypt -lutil -lc
    libc=, so=so, useshrplib=false, libperl=libperl.a
    gnulibc_version=''
  Dynamic Linking:
    dlsrc=dl_dlopen.xs, dlext=so, d_dlsymun=undef, ccdlflags=' '
    cccdlflags='-DPIC -fPIC', lddlflags='-shared  -L/usr/local/lib'


Characteristics of this binary (from libperl): 
  Compile-time options: PERL_MALLOC_WRAP USE_64_BIT_ALL USE_64_BIT_INT
                        USE_FAST_STDIO USE_LARGE_FILES USE_PERLIO
  Built under freebsd
  Compiled at May 15 2014 22:27:57
  %ENV:
    PERL5LIB="/home/eserte/.cpan/build/2017012503/Specio-0.33-bwQ9iv/blib/arch:/home/eserte/.cpan/build/2017012503/Specio-0.33-bwQ9iv/blib/lib:/home/eserte/.cpan/build/2017012503/Bit-Manip-0.01-3uQIdG/blib/arch:/home/eserte/.cpan/build/2017012503/Bit-Manip-0.01-3uQIdG/blib/lib"
    PERL5OPT=""
    PERL5_CPANPLUS_IS_RUNNING="17590"
    PERL5_CPAN_IS_RUNNING="17590"
    PERL5_CPAN_IS_RUNNING_IN_RECURSION="17538,17590"
    PERLDOC="-MPod::Perldoc::ToTextOverstrike"
    PERL_BATCH="yes"
    PERL_CANARY_STABILITY_NOPROMPT="1"
    PERL_CPAN_REPORTER_CONFIG="/var/tmp/cpansmoker-1023/2017012503/cpanreporter_000_config.ini"
    PERL_EXTUTILS_AUTOINSTALL="--defaultdeps"
  @INC:
    /home/eserte/.cpan/build/2017012503/Specio-0.33-bwQ9iv/blib/arch
    /home/eserte/.cpan/build/2017012503/Specio-0.33-bwQ9iv/blib/lib
    /home/eserte/.cpan/build/2017012503/Bit-Manip-0.01-3uQIdG/blib/arch
    /home/eserte/.cpan/build/2017012503/Bit-Manip-0.01-3uQIdG/blib/lib
    /usr/perl5.8.9/lib/5.8.9/amd64-freebsd
    /usr/perl5.8.9/lib/5.8.9
    /usr/perl5.8.9/lib/site_perl/5.8.9/amd64-freebsd
    /usr/perl5.8.9/lib/site_perl/5.8.9
    .