Report for MooseX-RemoteHelper-0.001021

Back
From: metabase:user:320bfe00-2aae-11df-837a-5e0a49663a4f
Subject: PASS MooseX-RemoteHelper-0.001021 v5.21.8 GNU/Linux
Date: 2015-02-19T17:52:45Z

This distribution has been tested as part of the CPAN Testers
project, supporting the Perl programming language.  See
http://wiki.cpantesters.org/ for more information or email
questions to cpan-testers-discuss@perl.org


--
Dear Caleb Cushing,

This is a computer-generated report for MooseX-RemoteHelper-0.001021
on perl 5.21.8, created by CPAN-Reporter-1.2011.

Thank you for uploading your work to CPAN.  Congratulations!
All tests were successful.

Sections of this report:

    * Tester comments
    * Program output
    * Prerequisites
    * Environment and other context

------------------------------
TESTER COMMENTS
------------------------------

Additional comments from tester:

this report is from an automated smoke testing program
and was not reviewed by a human for accuracy

------------------------------
PROGRAM OUTPUT
------------------------------

Output from '/usr/bin/make test':

PERL_DL_NONLAZY=1 "/home/sand/src/perl/repoperls/installed-perls/perl/v5.21.8/7e7a/bin/perl" "-MExtUtils::Command::MM" "-MTest::Harness" "-e" "undef *Test::Harness::Switches; test_harness(0, 'blib/lib', 'blib/arch')" t/*.t
t/00-compile.t .................. ok
# 

# Generated by Dist::Zilla::Plugin::ReportVersions::Tiny v1.10
# perl: 5.021008 (wanted 5.008) on linux from /home/sand/src/perl/repoperls/installed-perls/perl/v5.21.8/7e7a/bin/perl
# 
# ExtUtils::MakeMaker                           => 7.0513     (want 6.30)   
# File::Spec                                    => 3.53       (want any version)
# IO::Handle                                    => 1.35       (want any version)
# IPC::Open3                                    => 1.18       (want any version)
# Moose                                         => 2.1403     (want 2)      
# Moose::Exporter                               => 2.1403     (want any version)
# Moose::Role                                   => 2.1403     (want any version)
# MooseX::Aliases                               => 0.11       (want any version)
# MooseX::Types                                 => 0.45       (want any version)
# MooseX::Types::Moose                          => 0.45       (want any version)
# MooseX::UndefTolerant                         => 0.19       (want any version)
# Safe::Isa                                     => 1.000005   (want any version)
# Test::Method                                  => 0.001002   (want any version)
# Test::Moose                                   => 2.1403     (want any version)
# Test::More                                    => 1.301001098 (want 0.88)   
# Test::Requires                                => 0.08       (want any version)
# namespace::autoclean                          => 0.24       (want any version)
# strict                                        => 1.09       (want any version)
# warnings                                      => 1.3        (want any version)
# 
# Thanks for using my code.  I hope it works for you.
# If not, please try and include this output in the bug report.
# That will help me reproduce the issue and solve your problem.
# 
t/000-report-versions-tiny.t .... ok
t/apply-trait.t ................. ok
t/author-critic.t ............... skipped: these tests are for testing by the author
t/author-pod-spell.t ............ skipped: these tests are for testing by the author
t/author-test-eol.t ............. skipped: these tests are for testing by the author
t/composite-array-of-objects.t .. ok
t/composite.t ................... ok
t/false_init_arg.t .............. ok
t/immutable.t ................... ok
t/init_args.t ................... ok
t/message-part.t ................ ok
t/mx-aliases.t .................. ok
t/release-cpan-changes.t ........ skipped: these tests are for release candidate testing
t/release-dist-manifest.t ....... skipped: these tests are for release candidate testing
t/release-distmeta.t ............ skipped: these tests are for release candidate testing
t/release-meta-json.t ........... skipped: these tests are for release candidate testing
t/release-minimum-version.t ..... skipped: these tests are for release candidate testing
t/release-mojibake.t ............ skipped: these tests are for release candidate testing
t/release-pod-coverage.t ........ skipped: these tests are for release candidate testing
t/release-pod-linkcheck.t ....... skipped: these tests are for release candidate testing
t/release-pod-syntax.t .......... skipped: these tests are for release candidate testing
t/release-portability.t ......... skipped: these tests are for release candidate testing
t/release-synopsis.t ............ skipped: these tests are for release candidate testing
t/release-test-version.t ........ skipped: these tests are for release candidate testing
t/release-unused-vars.t ......... skipped: these tests are for release candidate testing
t/role.t ........................ ok
t/serializer.t .................. ok
t/types.t ....................... ok
All tests successful.
Files=29, Tests=78, 20 wallclock secs ( 0.08 usr  0.03 sys +  8.24 cusr  0.58 csys =  8.93 CPU)
Result: PASS

------------------------------
PREREQUISITES
------------------------------

Prerequisite modules loaded:

requires:

    Module                Need Have        
    --------------------- ---- ------------
    Moose                 2    2.1403      
    Moose::Exporter       0    2.1403      
    Moose::Role           0    2.1403      
    MooseX::Types         0    0.45        
    MooseX::Types::Moose  0    0.45        
    MooseX::UndefTolerant 0    0.19        
    namespace::autoclean  0    0.24        
    Safe::Isa             0    1.000005    
    strict                0    1.09        
    warnings              0    1.30        

build_requires:

    Module                Need Have        
    --------------------- ---- ------------
    File::Spec            0    3.53        
    IO::Handle            0    1.35        
    IPC::Open3            0    1.18        
    MooseX::Aliases       0    0.11        
    Test::Method          0    0.001002    
    Test::Moose           0    2.1403      
    Test::More            0.88 1.301001_098
    Test::Requires        0    0.08        

configure_requires:

    Module                Need Have        
    --------------------- ---- ------------
    ExtUtils::MakeMaker   6.30 7.05_13     


------------------------------
ENVIRONMENT AND OTHER CONTEXT
------------------------------

Environment variables:

    AUTOMATED_TESTING = 1
    LANG = en_US.UTF-8
    LANGUAGE = en_US:en
    PATH = /home/sand/bin:/usr/local/bin:/usr/bin:/bin:/usr/games:/usr/local/perl/bin:/usr/X11/bin:/sbin:/usr/sbin
    PERL5LIB = 
    PERL5OPT = 
    PERL5_CPANPLUS_IS_RUNNING = 7251
    PERL5_CPAN_IS_RUNNING = 7251
    PERL_MM_USE_DEFAULT = 1
    SHELL = /usr/bin/zsh
    TERM = screen

Perl special variables (and OS-specific diagnostics, for MSWin32):

    $^X = /home/sand/src/perl/repoperls/installed-perls/perl/v5.21.8/7e7a/bin/perl
    $UID/$EUID = 1005 / 1005
    $GID = 1005 1005
    $EGID = 1005 1005

Perl module toolchain versions installed:

    Module              Have        
    ------------------- ------------
    CPAN                2.09        
    CPAN::Meta          2.143240    
    Cwd                 3.54        
    ExtUtils::CBuilder  0.280221    
    ExtUtils::Command   7.05_13     
    ExtUtils::Install   2.04        
    ExtUtils::MakeMaker 7.05_13     
    ExtUtils::Manifest  1.70        
    ExtUtils::ParseXS   3.27        
    File::Spec          3.53        
    JSON                2.90        
    JSON::PP            2.27300     
    Module::Build       0.4211      
    Module::Signature   0.73        
    Parse::CPAN::Meta   1.4414      
    Test::Harness       3.35        
    Test::More          1.301001_098
    YAML                1.14        
    YAML::Syck          1.29        
    version             0.9912      


--

Summary of my perl5 (revision 5 version 21 subversion 8) configuration:
  Commit id: eaee347ce4f7d9b8965d022a06b90c4b07bcad4a
  Platform:
    osname=linux, osvers=3.16.0-4-amd64, archname=x86_64-linux-thread-multi-ld
    uname='linux k83 3.16.0-4-amd64 #1 smp debian 3.16.7-ckt2-1 (2014-12-08) x86_64 gnulinux '
    config_args='-Dprefix=/home/sand/src/perl/repoperls/installed-perls/perl/v5.21.8/7e7a -Dmyhostname=k83 -Dinstallusrbinperl=n -Uversiononly -Dusedevel -des -Ui_db -Duseithreads -Duselongdouble'
    hint=recommended, useposix=true, d_sigaction=define
    useithreads=define, usemultiplicity=define
    use64bitint=define, use64bitall=define, uselongdouble=define
    usemymalloc=n, bincompat5005=undef
  Compiler:
    cc='cc', ccflags ='-D_REENTRANT -D_GNU_SOURCE -fwrapv -fno-strict-aliasing -pipe -fstack-protector-strong -I/usr/local/include -D_LARGEFILE_SOURCE -D_FILE_OFFSET_BITS=64 -D_FORTIFY_SOURCE=2',
    optimize='-O2',
    cppflags='-D_REENTRANT -D_GNU_SOURCE -fwrapv -fno-strict-aliasing -pipe -fstack-protector-strong -I/usr/local/include'
    ccversion='', gccversion='4.9.2', gccosandvers=''
    intsize=4, longsize=8, ptrsize=8, doublesize=8, byteorder=12345678, doublekind=3
    d_longlong=define, longlongsize=8, d_longdbl=define, longdblsize=16, longdblkind=3
    ivtype='long', ivsize=8, nvtype='long double', nvsize=16, Off_t='off_t', lseeksize=8
    alignbytes=16, prototype=define
  Linker and Libraries:
    ld='cc', ldflags =' -fstack-protector-strong -L/usr/local/lib'
    libpth=/usr/local/lib /usr/lib/gcc/x86_64-linux-gnu/4.9/include-fixed /usr/include/x86_64-linux-gnu /usr/lib /lib/x86_64-linux-gnu /lib/../lib /usr/lib/x86_64-linux-gnu /usr/lib/../lib /lib
    libs=-lpthread -lnsl -lgdbm -ldb -ldl -lm -lcrypt -lutil -lc -lgdbm_compat
    perllibs=-lpthread -lnsl -ldl -lm -lcrypt -lutil -lc
    libc=libc-2.19.so, so=so, useshrplib=false, libperl=libperl.a
    gnulibc_version='2.19'
  Dynamic Linking:
    dlsrc=dl_dlopen.xs, dlext=so, d_dlsymun=undef, ccdlflags='-Wl,-E'
    cccdlflags='-fPIC', lddlflags='-shared -O2 -L/usr/local/lib -fstack-protector-strong'


Characteristics of this binary (from libperl): 
  Compile-time options: HAS_TIMES MULTIPLICITY PERLIO_LAYERS
                        PERL_DONT_CREATE_GVSV
                        PERL_HASH_FUNC_ONE_AT_A_TIME_HARD
                        PERL_IMPLICIT_CONTEXT PERL_MALLOC_WRAP
                        PERL_NEW_COPY_ON_WRITE PERL_PRESERVE_IVUV
                        PERL_USE_DEVEL USE_64_BIT_ALL USE_64_BIT_INT
                        USE_ITHREADS USE_LARGE_FILES USE_LOCALE
                        USE_LOCALE_COLLATE USE_LOCALE_CTYPE
                        USE_LOCALE_NUMERIC USE_LOCALE_TIME USE_LONG_DOUBLE
                        USE_PERLIO USE_PERL_ATOF USE_REENTRANT_API
  Built under linux
  Compiled at Jan 20 2015 23:19:08
  %ENV:
    PERL5LIB=""
    PERL5OPT=""
    PERL5_CPANPLUS_IS_RUNNING="7251"
    PERL5_CPAN_IS_RUNNING="7251"
    PERL_MM_USE_DEFAULT="1"
  @INC:
    /home/sand/src/perl/repoperls/installed-perls/perl/v5.21.8/7e7a/lib/site_perl/5.21.8/x86_64-linux-thread-multi-ld
    /home/sand/src/perl/repoperls/installed-perls/perl/v5.21.8/7e7a/lib/site_perl/5.21.8
    /home/sand/src/perl/repoperls/installed-perls/perl/v5.21.8/7e7a/lib/5.21.8/x86_64-linux-thread-multi-ld
    /home/sand/src/perl/repoperls/installed-perls/perl/v5.21.8/7e7a/lib/5.21.8
    .