Back
From: metabase:user:314402c4-2aae-11df-837a-5e0a49663a4f
Subject: PASS Module-Metadata-1.000033 v5.25.9 GNU/Linux
Date: 2017-01-24T22:47:40Z
This distribution has been tested as part of the CPAN Testers
project, supporting the Perl programming language. See
http://wiki.cpantesters.org/ for more information or email
questions to cpan-testers-discuss@perl.org
--
Dear Karen Etheridge,
This is a computer-generated report for Module-Metadata-1.000033
on perl 5.25.9, created by CPAN-Reporter-1.2018.
Thank you for uploading your work to CPAN. Congratulations!
All tests were successful.
Sections of this report:
* Tester comments
* Program output
* Prerequisites
* Environment and other context
------------------------------
TESTER COMMENTS
------------------------------
Additional comments from tester:
none provided
------------------------------
PROGRAM OUTPUT
------------------------------
Output from '/usr/bin/make test':
PERL_DL_NONLAZY=1 "/bbbike/perl-5.25.9/bin/perl5.25.9" "-MExtUtils::Command::MM" "-MTest::Harness" "-e" "undef *Test::Harness::Switches; test_harness(0, 'blib/lib', 'blib/arch')" t/*.t
#
# Versions for all modules listed in MYMETA.json (including optional ones):
#
# === Configure Requires ===
#
# Module Want Have
# ------------------- ---- ----
# ExtUtils::MakeMaker any 7.24
#
# === Build Requires ===
#
# Module Want Have
# ------------------- ---- ----
# ExtUtils::MakeMaker any 7.24
#
# === Test Requires ===
#
# Module Want Have
# ------------------- ---- --------
# Cwd any 3.66
# Exporter any 5.72
# ExtUtils::MakeMaker any 7.24
# File::Basename any 2.85
# File::Path any 2.12_01
# File::Spec any 3.66
# File::Temp any 0.2304
# IO::File any 1.16
# Test::More 0.82 1.302075
# base any 2.24
# lib any 0.64
#
# === Test Recommends ===
#
# Module Want Have
# ---------- -------- --------
# CPAN::Meta 2.120900 2.150010
#
# === Runtime Requires ===
#
# Module Want Have
# ---------- ---- ------
# Carp any 1.42
# Fcntl any 1.13
# File::Find any 1.34
# File::Spec any 3.66
# strict any 1.11
# version 0.87 0.9917
# warnings any 1.37
#
# === Other Modules ===
#
# Module Have
# ------------- ----
# Pod::Coverage 0.23
#
t/00-report-prereqs.t .. ok
t/contains_pod.t ....... ok
t/encoding.t ........... ok
t/endpod.t ............. ok
# Got: '_private'
# Module contents:
# package _private;
# $::VERSION = 0.01;
# $VERSION = '999';
# Got: '_private'
# Module contents:
# package _private;
# $VERSION = '999';
# $::VERSION = 0.01;
t/extract-package.t .... ok
# parsed module: bless( {
# 'collect_pod' => undef,
# 'filename' => '/var/tmp/cpansmoker-1023/2017012400/MMD-yXuQqxYX/Simple51/Simple.pm',
# 'inc' => undef,
# 'module' => 'Simple',
# 'packages' => [
# 'Simple'
# ],
# 'pod' => {},
# 'pod_headings' => [],
# 'version' => bless( {
# 'original' => '0',
# 'version' => [
# 0
# ]
# }, 'version' ),
# 'versions' => {
# 'Simple' => $VAR1->{'version'}
# }
# }, 'Module::Metadata' )
# parsed module: bless( {
# 'collect_pod' => undef,
# 'filename' => '/var/tmp/cpansmoker-1023/2017012400/MMD-yXuQqxYX/Simple52/Simple.pm',
# 'inc' => undef,
# 'module' => 'Simple',
# 'packages' => [
# 'main',
# 'Simple'
# ],
# 'pod' => {},
# 'pod_headings' => [],
# 'version' => bless( {
# 'original' => '0',
# 'version' => [
# 0
# ]
# }, 'version' ),
# 'versions' => {
# 'Simple' => $VAR1->{'version'},
# 'main' => ''
# }
# }, 'Module::Metadata' )
# parsed module: bless( {
# 'collect_pod' => undef,
# 'filename' => '/var/tmp/cpansmoker-1023/2017012400/MMD-yXuQqxYX/Simple54/Simple.pm',
# 'inc' => undef,
# 'module' => undef,
# 'packages' => [
# 'main'
# ],
# 'pod' => {},
# 'pod_headings' => [],
# 'version' => undef,
# 'versions' => {
# 'main' => bless( {
# 'original' => '1.23',
# 'version' => [
# 1,
# 230
# ]
# }, 'version' )
# }
# }, 'Module::Metadata' )
# parsed module: bless( {
# 'collect_pod' => undef,
# 'filename' => '/var/tmp/cpansmoker-1023/2017012400/MMD-yXuQqxYX/Simple55/Simple.pm',
# 'inc' => undef,
# 'module' => undef,
# 'packages' => [
# 'main'
# ],
# 'pod' => {},
# 'pod_headings' => [],
# 'version' => undef,
# 'versions' => {
# 'main' => bless( {
# 'original' => '1.23',
# 'version' => [
# 1,
# 230
# ]
# }, 'version' )
# }
# }, 'Module::Metadata' )
t/extract-version.t .... ok
t/metadata.t ........... ok
t/taint.t .............. ok
t/version.t ............ ok
All tests successful.
Files=9, Tests=348, 1 wallclock secs ( 0.05 usr 0.04 sys + 0.49 cusr 0.12 csys = 0.70 CPU)
Result: PASS
------------------------------
PREREQUISITES
------------------------------
Prerequisite modules loaded:
requires:
Module Need Have
------------------- ----- --------
Carp 0 1.42
Fcntl 0 1.13
File::Find 0 1.34
File::Spec 0 3.66
perl 5.006 5.025009
strict 0 1.11
version 0.87 0.9917
warnings 0 1.37
build_requires:
Module Need Have
------------------- ----- --------
base 0 2.24
Cwd 0 3.66
Exporter 0 5.72
ExtUtils::MakeMaker 0 7.24
File::Basename 0 2.85
File::Path 0 2.12_01
File::Spec 0 3.66
File::Temp 0 0.2304
IO::File 0 1.16
lib 0 0.64
Test::More 0.82 1.302075
configure_requires:
Module Need Have
------------------- ----- --------
ExtUtils::MakeMaker 0 7.24
perl 5.006 5.025009
------------------------------
ENVIRONMENT AND OTHER CONTEXT
------------------------------
Environment variables:
LANG = C
LC_ALL = de_DE.UTF-8
PATH = /usr/local/bin:/usr/bin:/bin:/usr/local/sbin:/usr/sbin:/sbin:/home/cpansand/bin/linux-gnu:/home/cpansand/bin/sh:/home/cpansand/bin:/usr/games:/home/cpansand/devel:/home/eserte/src/srezic-misc/scripts
PERL5LIB =
PERL5OPT =
PERL5_CPANPLUS_IS_RUNNING = 16432
PERL5_CPAN_IS_RUNNING = 16432
PERL5_CPAN_IS_RUNNING_IN_RECURSION = 16273,16432
PERLDOC = -MPod::Perldoc::ToTextOverstrike
PERL_BATCH = yes
PERL_CANARY_STABILITY_NOPROMPT = 1
PERL_CPAN_REPORTER_CONFIG = /var/tmp/cpansmoker-1023/2017012400/cpanreporter_000_config.ini
PERL_EXTUTILS_AUTOINSTALL = --defaultdeps
PERL_PARALLEL_SMOKER = yes
PERL_USE_UNSAFE_INC = 1
SHELL = /bin/zsh
TERM = screen
TMPDIR = /var/tmp/cpansmoker-1023/2017012400
Perl special variables (and OS-specific diagnostics, for MSWin32):
$^X = /bbbike/perl-5.25.9/bin/perl5.25.9
$UID/$EUID = 1023 / 1023
$GID = 1023 1023
$EGID = 1023 1023
Perl module toolchain versions installed:
Module Have
------------------- ----------
CPAN 2.14
CPAN::Meta 2.150010
Cwd 3.66
ExtUtils::CBuilder 0.280225
ExtUtils::Command 7.24
ExtUtils::Install 2.04
ExtUtils::MakeMaker 7.24
ExtUtils::Manifest 1.70
ExtUtils::ParseXS 3.33
File::Spec 3.66
JSON 2.90
JSON::PP 2.27400_02
Module::Build 0.4220
Module::Signature 0.81
Parse::CPAN::Meta 2.150010
Test::Harness 3.36_01
Test::More 1.302075
YAML 1.21
YAML::Syck 1.29
version 0.9917
--
Summary of my perl5 (revision 5 version 25 subversion 9) configuration:
Platform:
osname=linux
osvers=3.16.0-4-amd64
archname=x86_64-linux
uname='linux eserte 3.16.0-4-amd64 #1 smp debian 3.16.39-1 (2016-12-30) x86_64 gnulinux '
config_args='-ds -e -Dprefix=/opt/perl-5.25.9 -Dusedevel -Dusemallocwrap=no -Dcf_email=srezic@cpan.org'
hint=recommended
useposix=true
d_sigaction=define
useithreads=undef
usemultiplicity=undef
use64bitint=define
use64bitall=define
uselongdouble=undef
usemymalloc=n
bincompat5005=undef
Compiler:
cc='cc'
ccflags ='-fwrapv -fno-strict-aliasing -pipe -fstack-protector-strong -I/usr/local/include -D_LARGEFILE_SOURCE -D_FILE_OFFSET_BITS=64 -D_FORTIFY_SOURCE=2'
optimize='-O2'
cppflags='-fwrapv -fno-strict-aliasing -pipe -fstack-protector-strong -I/usr/local/include'
ccversion=''
gccversion='4.9.2'
gccosandvers=''
intsize=4
longsize=8
ptrsize=8
doublesize=8
byteorder=12345678
doublekind=3
d_longlong=define
longlongsize=8
d_longdbl=define
longdblsize=16
longdblkind=3
ivtype='long'
ivsize=8
nvtype='double'
nvsize=8
Off_t='off_t'
lseeksize=8
alignbytes=8
prototype=define
Linker and Libraries:
ld='cc'
ldflags =' -fstack-protector-strong -L/usr/local/lib'
libpth=/usr/local/lib /usr/lib/gcc/x86_64-linux-gnu/4.9/include-fixed /usr/include/x86_64-linux-gnu /usr/lib /lib/x86_64-linux-gnu /lib/../lib /usr/lib/x86_64-linux-gnu /usr/lib/../lib /lib
libs=-lpthread -lnsl -lgdbm -ldb -ldl -lm -lcrypt -lutil -lc -lgdbm_compat
perllibs=-lpthread -lnsl -ldl -lm -lcrypt -lutil -lc
libc=libc-2.19.so
so=so
useshrplib=false
libperl=libperl.a
gnulibc_version='2.19'
Dynamic Linking:
dlsrc=dl_dlopen.xs
dlext=so
d_dlsymun=undef
ccdlflags='-Wl,-E'
cccdlflags='-fPIC'
lddlflags='-shared -O2 -L/usr/local/lib -fstack-protector-strong'
Characteristics of this binary (from libperl):
Compile-time options:
HAS_TIMES
PERLIO_LAYERS
PERL_COPY_ON_WRITE
PERL_DONT_CREATE_GVSV
PERL_OP_PARENT
PERL_PRESERVE_IVUV
PERL_USE_DEVEL
USE_64_BIT_ALL
USE_64_BIT_INT
USE_LARGE_FILES
USE_LOCALE
USE_LOCALE_COLLATE
USE_LOCALE_CTYPE
USE_LOCALE_NUMERIC
USE_LOCALE_TIME
USE_PERLIO
USE_PERL_ATOF
Built under linux
Compiled at Jan 20 2017 20:27:28
%ENV:
PERL5LIB=""
PERL5OPT=""
PERL5_CPANPLUS_IS_RUNNING="16432"
PERL5_CPAN_IS_RUNNING="16432"
PERL5_CPAN_IS_RUNNING_IN_RECURSION="16273,16432"
PERLDOC="-MPod::Perldoc::ToTextOverstrike"
PERL_BATCH="yes"
PERL_CANARY_STABILITY_NOPROMPT="1"
PERL_CPAN_REPORTER_CONFIG="/var/tmp/cpansmoker-1023/2017012400/cpanreporter_000_config.ini"
PERL_EXTUTILS_AUTOINSTALL="--defaultdeps"
PERL_PARALLEL_SMOKER="yes"
PERL_USE_UNSAFE_INC="1"
@INC:
/opt/perl-5.25.9/lib/site_perl/5.25.9/x86_64-linux
/opt/perl-5.25.9/lib/site_perl/5.25.9
/opt/perl-5.25.9/lib/5.25.9/x86_64-linux
/opt/perl-5.25.9/lib/5.25.9
.